MarpaX-Languages-IDL-AST v0.007 Perl 5 v5.28.0 RC2 x86_64-linux

Status
Pass
From
Slaven Rezić (SREZIC)
Dist
MarpaX-Languages-IDL-AST v0.007
Platform
Perl 5 v5.28.0 RC2 x86_64-linux
Date
2018-06-07 22:25:58
ID
c05cc0c2-6aa1-11e8-88f8-a49cc011ef6c
This distribution has been tested as part of the CPAN Testers
project, supporting the Perl programming language.  See
http://wiki.cpantesters.org/ for more information or email
questions to cpan-testers-discuss@perl.org


--
Dear Jean-Damien Durand,

This is a computer-generated report for MarpaX-Languages-IDL-AST-0.007
on perl 5.28.0, created by CPAN-Reporter-1.2018.

Thank you for uploading your work to CPAN.  Congratulations!
All tests were successful.

Sections of this report:

    * Tester comments
    * Program output
    * Prerequisites
    * Environment and other context

------------------------------
TESTER COMMENTS
------------------------------

Additional comments from tester:

none provided

------------------------------
PROGRAM OUTPUT
------------------------------

Output from '/usr/bin/make test':

Skip blib/lib/auto/share/dist/MarpaX-Languages-IDL-AST/perl5/style/Moose/initGlobalVariables.tt2 (unchanged)
Skip blib/lib/auto/share/dist/MarpaX-Languages-IDL-AST/perl5/style/Moose/bottom.tt2 (unchanged)
Skip blib/lib/auto/share/dist/MarpaX-Languages-IDL-AST/perl5/style/Moose/posValidatedList.tt2 (unchanged)
Skip blib/lib/auto/share/dist/MarpaX-Languages-IDL-AST/perl5/style/Moose/top.tt2 (unchanged)
Skip blib/lib/auto/share/dist/MarpaX-Languages-IDL-AST/perl5/style/Moose/import.tt2 (unchanged)
Skip blib/lib/auto/share/dist/MarpaX-Languages-IDL-AST/perl5/style/Moose/namespace.tt2 (unchanged)
Skip blib/lib/auto/share/dist/MarpaX-Languages-IDL-AST/perl5/style/Moose/useBaseTypes.tt2 (unchanged)
Skip blib/lib/auto/share/dist/MarpaX-Languages-IDL-AST/perl5/style/Moose/useClassAttribute.tt2 (unchanged)
Skip blib/lib/auto/share/dist/MarpaX-Languages-IDL-AST/perl5.tt2 (unchanged)
Skip blib/lib/auto/share/dist/MarpaX-Languages-IDL-AST/perl5/style/Moose/initNameSpace.tt2 (unchanged)
Skip blib/lib/auto/share/dist/MarpaX-Languages-IDL-AST/perl5/style/Moose/op.tt2 (unchanged)
Skip blib/lib/auto/share/dist/MarpaX-Languages-IDL-AST/perl5/style/Moose/useSpecializedType.tt2 (unchanged)
Skip blib/lib/auto/share/dist/MarpaX-Languages-IDL-AST/perl5/style/Moose/token.tt2 (unchanged)
PERL_DL_NONLAZY=1 "/opt/perl-5.28.0-RC2/bin/perl" "-MExtUtils::Command::MM" "-MTest::Harness" "-e" "undef *Test::Harness::Switches; test_harness(0, 'blib/lib', 'blib/arch')" t/*.t
t/00-compile.t ......... ok
# 
# Versions for all modules listed in MYMETA.json (including optional ones):
# 
# === Configure Requires ===
# 
#     Module                  Want Have
#     ----------------------- ---- ----
#     ExtUtils::MakeMaker      any 7.34
#     File::ShareDir::Install 0.06 0.13
# 
# === Build Requires ===
# 
#     Module              Want Have
#     ------------------- ---- ----
#     ExtUtils::MakeMaker  any 7.34
# 
# === Test Requires ===
# 
#     Module              Want     Have
#     ------------------- ---- --------
#     ExtUtils::MakeMaker  any     7.34
#     File::Spec           any     3.74
#     File::Temp           any   0.2304
#     IO::Handle           any     1.39
#     IPC::Open3           any     1.20
#     Test::More           any 1.302136
#     blib                1.01     1.07
# 
# === Test Recommends ===
# 
#     Module         Want     Have
#     ---------- -------- --------
#     CPAN::Meta 2.120900 2.150010
# 
# === Runtime Requires ===
# 
#     Module                       Want     Have
#     ---------------------------- ---- --------
#     Carp                          any     1.50
#     Data::Dumper                  any    2.170
#     Data::Scan                    any    0.008
#     Data::Scan::Role::Consumer    any    0.008
#     Encode                        any     2.98
#     File::BOM                     any     0.15
#     File::Basename                any     2.85
#     File::ShareDir                any    1.104
#     File::Spec::Functions         any     3.74
#     Getopt::Long                  any      2.5
#     IO::String                    any     1.08
#     MRO::Compat                   any     0.13
#     Marpa::R2                     any 4.000000
#     Math::BigFloat                any 1.999813
#     Moo                           any 2.003004
#     Moo::Role                     any 2.003004
#     MooX::Role::Logger            any    0.005
#     Moose                         any   2.2011
#     MooseX::ClassAttribute        any     0.29
#     MooseX::Params::Validate      any     0.21
#     MooseX::Types                 any     0.50
#     MooseX::Types::Moose          any     0.50
#     MooseX::Types::Structured     any     0.36
#     POSIX                         any     1.84
#     Pod::Usage                    any     1.69
#     Scalar::Util                  any     1.50
#     Template                      any     2.27
#     Template::Constants           any     2.75
#     Template::Plugin::PerlTidy    any     0.03
#     Template::Plugin::ScalarUtil  any 1.121160
#     Type::Library                 any 1.002002
#     Type::Utils                   any 1.002002
#     Types::Common::Numeric        any 1.002002
#     Types::Standard               any 1.002002
#     constant                      any     1.33
#     diagnostics                   any     1.36
#     namespace::sweep              any    0.006
#     strict                        any     1.11
#     warnings                      any     1.42
# 
t/00-report-prereqs.t .. ok
t/domLevel3.t .......... ok
All tests successful.
Files=3, Tests=13,  5 wallclock secs ( 0.02 usr  0.02 sys +  5.32 cusr  0.26 csys =  5.62 CPU)
Result: PASS

------------------------------
PREREQUISITES
------------------------------

Prerequisite modules loaded:

requires:

    Module                       Need     Have    
    ---------------------------- -------- --------
    Carp                         0        1.50    
    constant                     0        1.33    
    Data::Dumper                 0        2.170   
    Data::Scan                   0        0.008   
    Data::Scan::Role::Consumer   0        0.008   
    diagnostics                  0        1.36    
    Encode                       0        2.98    
    File::Basename               0        2.85    
    File::BOM                    0        0.15    
    File::ShareDir               0        1.104   
    File::Spec::Functions        0        3.74    
    Getopt::Long                 0        2.5     
    IO::String                   0        1.08    
    Marpa::R2                    0        4.000000
    Math::BigFloat               0        1.999813
    Moo                          0        2.003004
    Moo::Role                    0        2.003004
    Moose                        0        2.2011  
    MooseX::ClassAttribute       0        0.29    
    MooseX::Params::Validate     0        0.21    
    MooseX::Types                0        0.50    
    MooseX::Types::Moose         0        0.50    
    MooseX::Types::Structured    0        0.36    
    MooX::Role::Logger           0        0.005   
    MRO::Compat                  0        0.13    
    namespace::sweep             0        0.006   
    perl                         5.010    5.028000
    Pod::Usage                   0        1.69    
    POSIX                        0        1.84    
    Scalar::Util                 0        1.50    
    strict                       0        1.11    
    Template                     0        2.27    
    Template::Constants          0        2.75    
    Template::Plugin::PerlTidy   0        0.03    
    Template::Plugin::ScalarUtil 0        1.121160
    Type::Library                0        1.002002
    Type::Utils                  0        1.002002
    Types::Common::Numeric       0        1.002002
    Types::Standard              0        1.002002
    warnings                     0        1.42    

build_requires:

    Module                       Need     Have    
    ---------------------------- -------- --------
    blib                         1.01     1.07    
    ExtUtils::MakeMaker          0        7.34    
    File::Spec                   0        3.74    
    File::Temp                   0        0.2304  
    IO::Handle                   0        1.39    
    IPC::Open3                   0        1.20    
    Test::More                   0        1.302136

configure_requires:

    Module                       Need     Have    
    ---------------------------- -------- --------
    ExtUtils::MakeMaker          0        7.34    
    File::ShareDir::Install      0.06     0.13    
    perl                         5.010    5.028000

opt_build_requires:

    Module                       Need     Have    
    ---------------------------- -------- --------
    CPAN::Meta                   2.120900 2.150010


------------------------------
ENVIRONMENT AND OTHER CONTEXT
------------------------------

Environment variables:

    LANG = C
    LC_ALL = de_DE.UTF-8
    PATH = /usr/local/bin:/usr/bin:/bin:/usr/local/sbin:/usr/sbin:/sbin:/home/cpansand/bin/linux-gnu:/home/cpansand/bin/sh:/home/cpansand/bin:/usr/games:/home/cpansand/devel:/home/eserte/src/srezic-misc/scripts
    PERL5LIB = 
    PERL5OPT = 
    PERL5_CPANPLUS_IS_RUNNING = 27268
    PERL5_CPAN_IS_RUNNING = 27268
    PERL5_CPAN_IS_RUNNING_IN_RECURSION = 21951,27268
    PERLDOC = -MPod::Perldoc::ToTextOverstrike
    PERL_BATCH = yes
    PERL_CANARY_STABILITY_NOPROMPT = 1
    PERL_CPAN_REPORTER_CONFIG = /var/tmp/cpansmoker-1023/2018060718/cpanreporter_000_config.ini
    PERL_EXTUTILS_AUTOINSTALL = --defaultdeps
    PERL_PARALLEL_SMOKER = yes
    PERL_USE_UNSAFE_INC = 1
    SHELL = /usr/bin/zsh
    TERM = screen
    TMPDIR = /var/tmp/cpansmoker-1023/2018060718

Perl special variables (and OS-specific diagnostics, for MSWin32):

    $^X = /opt/perl-5.28.0-RC2/bin/perl
    $UID/$EUID = 1023 / 1023
    $GID = 1023 1023
    $EGID = 1023 1023

Perl module toolchain versions installed:

    Module              Have    
    ------------------- --------
    CPAN                2.20    
    CPAN::Meta          2.150010
    Cwd                 3.74    
    ExtUtils::CBuilder  0.280230
    ExtUtils::Command   7.34    
    ExtUtils::Install   2.14    
    ExtUtils::MakeMaker 7.34    
    ExtUtils::Manifest  1.71    
    ExtUtils::ParseXS   3.39    
    File::Spec          3.74    
    JSON                2.97001 
    JSON::PP            2.97001 
    Module::Build       0.4224  
    Module::Signature   0.81    
    Parse::CPAN::Meta   2.150010
    Test::Harness       3.42    
    Test::More          1.302136
    YAML                1.26    
    YAML::Syck          1.30    
    version             0.9924  


--

Summary of my perl5 (revision 5 version 28 subversion 0) configuration:
   
  Platform:
    osname=linux
    osvers=4.9.0-3-amd64
    archname=x86_64-linux
    uname='linux debian9 4.9.0-3-amd64 #1 smp debian 4.9.30-2+deb9u5 (2017-09-19) x86_64 gnulinux '
    config_args='-ds -e -Dprefix=/opt/perl-5.28.0-RC2 -Dcf_email=srezic@cpan.org'
    hint=recommended
    useposix=true
    d_sigaction=define
    useithreads=undef
    usemultiplicity=undef
    use64bitint=define
    use64bitall=define
    uselongdouble=undef
    usemymalloc=n
    default_inc_excludes_dot=define
    bincompat5005=undef
  Compiler:
    cc='cc'
    ccflags ='-fwrapv -fno-strict-aliasing -pipe -fstack-protector-strong -I/usr/local/include -D_LARGEFILE_SOURCE -D_FILE_OFFSET_BITS=64 -D_FORTIFY_SOURCE=2'
    optimize='-O2'
    cppflags='-fwrapv -fno-strict-aliasing -pipe -fstack-protector-strong -I/usr/local/include'
    ccversion=''
    gccversion='6.3.0 20170516'
    gccosandvers=''
    intsize=4
    longsize=8
    ptrsize=8
    doublesize=8
    byteorder=12345678
    doublekind=3
    d_longlong=define
    longlongsize=8
    d_longdbl=define
    longdblsize=16
    longdblkind=3
    ivtype='long'
    ivsize=8
    nvtype='double'
    nvsize=8
    Off_t='off_t'
    lseeksize=8
    alignbytes=8
    prototype=define
  Linker and Libraries:
    ld='cc'
    ldflags =' -fstack-protector-strong -L/usr/local/lib'
    libpth=/usr/local/lib /usr/lib/gcc/x86_64-linux-gnu/6/include-fixed /usr/include/x86_64-linux-gnu /usr/lib /lib/x86_64-linux-gnu /lib/../lib /usr/lib/x86_64-linux-gnu /usr/lib/../lib /lib
    libs=-lpthread -lnsl -lgdbm -ldb -ldl -lm -lcrypt -lutil -lc -lgdbm_compat
    perllibs=-lpthread -lnsl -ldl -lm -lcrypt -lutil -lc
    libc=libc-2.24.so
    so=so
    useshrplib=false
    libperl=libperl.a
    gnulibc_version='2.24'
  Dynamic Linking:
    dlsrc=dl_dlopen.xs
    dlext=so
    d_dlsymun=undef
    ccdlflags='-Wl,-E'
    cccdlflags='-fPIC'
    lddlflags='-shared -O2 -L/usr/local/lib -fstack-protector-strong'


Characteristics of this binary (from libperl): 
  Compile-time options:
    HAS_TIMES
    PERLIO_LAYERS
    PERL_COPY_ON_WRITE
    PERL_DONT_CREATE_GVSV
    PERL_MALLOC_WRAP
    PERL_OP_PARENT
    PERL_PRESERVE_IVUV
    USE_64_BIT_ALL
    USE_64_BIT_INT
    USE_LARGE_FILES
    USE_LOCALE
    USE_LOCALE_COLLATE
    USE_LOCALE_CTYPE
    USE_LOCALE_NUMERIC
    USE_LOCALE_TIME
    USE_PERLIO
    USE_PERL_ATOF
  Locally applied patches:
    RC2
  Built under linux
  Compiled at Jun  6 2018 18:02:51
  %ENV:
    PERL5LIB=""
    PERL5OPT=""
    PERL5_CPANPLUS_IS_RUNNING="27268"
    PERL5_CPAN_IS_RUNNING="27268"
    PERL5_CPAN_IS_RUNNING_IN_RECURSION="21951,27268"
    PERLDOC="-MPod::Perldoc::ToTextOverstrike"
    PERL_BATCH="yes"
    PERL_CANARY_STABILITY_NOPROMPT="1"
    PERL_CPAN_REPORTER_CONFIG="/var/tmp/cpansmoker-1023/2018060718/cpanreporter_000_config.ini"
    PERL_EXTUTILS_AUTOINSTALL="--defaultdeps"
    PERL_PARALLEL_SMOKER="yes"
    PERL_USE_UNSAFE_INC="1"
  @INC:
    /opt/perl-5.28.0-RC2/lib/site_perl/5.28.0/x86_64-linux
    /opt/perl-5.28.0-RC2/lib/site_perl/5.28.0
    /opt/perl-5.28.0-RC2/lib/5.28.0/x86_64-linux
    /opt/perl-5.28.0-RC2/lib/5.28.0
    .