Back
From: metabase:user:20a45eae-6c1a-1014-abaf-4bc2b30e56df
Subject: PASS Perl-MinimumVersion-1.32 v5.16.0 Windows (Cygwin)
Date: 2013-01-27T18:00:35Z
This distribution has been tested as part of the CPAN Testers
project, supporting the Perl programming language. See
http://wiki.cpantesters.org/ for more information or email
questions to cpan-testers-discuss@perl.org
--
Dear Alexandr Ciornii,
This is a computer-generated report for Perl-MinimumVersion-1.32
on perl 5.16.0, created by CPAN-Reporter-1.2009.
Thank you for uploading your work to CPAN. Congratulations!
All tests were successful.
Sections of this report:
* Tester comments
* Program output
* Prerequisites
* Environment and other context
------------------------------
TESTER COMMENTS
------------------------------
Additional comments from tester:
this report is from an automated smoke testing program
and was not reviewed by a human for accuracy
------------------------------
PROGRAM OUTPUT
------------------------------
Output from '/usr/bin/make test':
PERL_DL_NONLAZY=1 /cygdrive/e/opt/perl/cygwin/1.7.16/perl/5.16.0/cygwin-64int/bin/perl.exe "-MExtUtils::Command::MM" "-e" "test_harness(0, 'inc', 'blib/lib', 'blib/arch')" t/*.t
t/01_compile.t ........... ok
t/02_main.t .............. ok
t/03_open_3arg.t ......... ok
t/04_substr.t ............ ok
t/05_foreach.t ........... ok
t/06_weaken.t ............ ok
t/07_splice.t ............ ok
t/08_mkdir.t ............. ok
t/09_pkg_name_version.t .. ok
t/10_yada_yada_yada.t .... ok
t/11_feature_bundle.t .... ok
t/12_double_colon.t ...... ok
t/13_perl_510.t .......... ok
t/14_regex.t ............. ok
t/15_each.t .............. ok
t/16_binmode.t ........... ok
t/17_when.t .............. ok
t/18_exists_subr.t ....... ok
t/19_opentemp.t .......... ok
t/20_sort_subref.t ....... ok
t/21_openscalar.t ........ ok
All tests successful.
Files=21, Tests=311, 29 wallclock secs ( 0.09 usr 0.11 sys + 8.83 cusr 19.16 csys = 28.19 CPU)
Result: PASS
------------------------------
PREREQUISITES
------------------------------
Prerequisite modules loaded:
requires:
Module Need Have
---------------------- ----- --------
File::Find::Rule 0.32 0.33
File::Find::Rule::Perl 1.04 1.13
List::Util 1.20 1.27
Params::Util 0.25 1.07
perl 5.006 5.016000
Perl::Critic::Utils 1.104 1.118
PPI 1.215 1.215
PPIx::Regexp 0.029 0.030
version 0.76 0.9901
build_requires:
Module Need Have
---------------------- ----- --------
ExtUtils::MakeMaker 6.59 6.64
File::Spec 0.80 3.40
Test::More 0.47 0.98
Test::Script 1.03 1.07
configure_requires:
Module Need Have
---------------------- ----- --------
ExtUtils::MakeMaker 6.59 6.64
------------------------------
ENVIRONMENT AND OTHER CONTEXT
------------------------------
Environment variables:
AUTOMATED_TESTING = 1
COMSPEC = C:\Windows\system32\cmd.exe
NUMBER_OF_PROCESSORS = 8
PATH = /opt/perl/cygwin/1.7.16/perl/5.16.0/cygwin-64int/local/bin:/opt/perl/cygwin/1.7.16/perl/5.16.0/cygwin-64int/bin:/usr/local/bin:/usr/bin
PERL5LIB = /opt/perl/cygwin/1.7.16/perl/5.16.0/cygwin-64int/local/lib/site_perl/5.16.0:/opt/perl/cygwin/1.7.16/perl/5.16.0/cygwin-64int/local/lib/5.16.0:/opt/perl/cygwin/1.7.16/perl/5.16.0/cygwin-64int/local/lib/perl5
PERL5OPT =
PERL5_CPANPLUS_IS_RUNNING = 3244
PERL5_CPAN_IS_RUNNING = 3244
PERL_EXTUTILS_AUTOINSTALL = 1
PERL_MM_USE_DEFAULT = 1
PERL_TEST_CRITIC = 1
PROCESSOR_IDENTIFIER = Intel64 Family 6 Model 42 Stepping 7, GenuineIntel
SHELL = /bin/bash
TEMP = /tmp
TERM = xterm
Perl special variables (and OS-specific diagnostics, for MSWin32):
$^X = /cygdrive/e/opt/perl/cygwin/1.7.16/perl/5.16.0/cygwin-64int/bin/perl
$UID/$EUID = 101 / 101
$GID = 513 545 1003 513
$EGID = 513 545 1003 513
Perl module toolchain versions installed:
Module Have
------------------- --------
CPAN 1.9800
CPAN::Meta 2.120921
Cwd 3.40
ExtUtils::CBuilder 0.280206
ExtUtils::Command 1.17
ExtUtils::Install 1.58
ExtUtils::MakeMaker 6.64
ExtUtils::Manifest 1.61
ExtUtils::ParseXS 3.18
File::Spec 3.40
JSON 2.53
JSON::PP 2.27200
Module::Build 0.4003
Module::Signature 0.70
Parse::CPAN::Meta 1.4404
Test::Harness 3.26
Test::More 0.98
YAML 0.84
YAML::Syck 1.22
version 0.9901
--
Summary of my perl5 (revision 5 version 16 subversion 0) configuration:
Platform:
osname=cygwin, osvers=1.7.16(0.26253), archname=cygwin-64int
uname='cygwin_nt-6.1-wow64 rigel 1.7.16(0.26253) 2012-07-20 22:55 i686 cygwin '
config_args='-Dmksymlinks -de -Dcc=gcc-4 -Dld=g++ -Umad -Dprefix=/opt/perl/cygwin/1.7.16/perl/5.16.0/cygwin-64int -Uinc_version_list -Uinstallusrbinperl -Uusethreads -Uusemultiplicity -Duse64bitint -Dcf_by=pjacklam -Dcf_email=pjacklam@online.no -Dperladmin=pjacklam@online.no'
hint=recommended, useposix=true, d_sigaction=define
useithreads=undef, usemultiplicity=undef
useperlio=define, d_sfio=undef, uselargefiles=define, usesocks=undef
use64bitint=define, use64bitall=undef, uselongdouble=undef
usemymalloc=y, bincompat5005=undef
Compiler:
cc='gcc-4', ccflags ='-DPERL_USE_SAFE_PUTENV -U__STRICT_ANSI__ -fno-strict-aliasing -pipe -fstack-protector -I/usr/local/include',
optimize='-O3',
cppflags='-DPERL_USE_SAFE_PUTENV -U__STRICT_ANSI__ -fno-strict-aliasing -pipe -fstack-protector -I/usr/local/include'
ccversion='', gccversion='4.5.3', gccosandvers=''
intsize=4, longsize=4, ptrsize=4, doublesize=8, byteorder=12345678
d_longlong=define, longlongsize=8, d_longdbl=define, longdblsize=12
ivtype='long long', ivsize=8, nvtype='double', nvsize=8, Off_t='off_t', lseeksize=8
alignbytes=8, prototype=define
Linker and Libraries:
ld='g++', ldflags =' -Wl,--enable-auto-import -Wl,--export-all-symbols -Wl,--enable-auto-image-base -fstack-protector -L/usr/local/lib'
libpth=/usr/local/lib /usr/lib /lib
libs=-lgdbm -ldb -ldl -lcrypt -lgdbm_compat
perllibs=-ldl -lcrypt
libc=/usr/lib/libc.a, so=dll, useshrplib=true, libperl=cygperl5_16_0.dll
gnulibc_version=''
Dynamic Linking:
dlsrc=dl_dlopen.xs, dlext=dll, d_dlsymun=undef, ccdlflags=' '
cccdlflags=' ', lddlflags=' --shared -Wl,--enable-auto-import -Wl,--export-all-symbols -Wl,--enable-auto-image-base -L/usr/local/lib -fstack-protector'
Characteristics of this binary (from libperl):
Compile-time options: HAS_TIMES MYMALLOC PERLIO_LAYERS
PERL_DONT_CREATE_GVSV PERL_PRESERVE_IVUV
PERL_USE_SAFE_PUTENV USE_64_BIT_INT USE_LARGE_FILES
USE_LOCALE USE_LOCALE_COLLATE USE_LOCALE_CTYPE
USE_LOCALE_NUMERIC USE_PERLIO USE_PERL_ATOF
Built under cygwin
Compiled at Jan 10 2013 01:53:55
%ENV:
PERL5LIB="/opt/perl/cygwin/1.7.16/perl/5.16.0/cygwin-64int/local/lib/site_perl/5.16.0:/opt/perl/cygwin/1.7.16/perl/5.16.0/cygwin-64int/local/lib/5.16.0:/opt/perl/cygwin/1.7.16/perl/5.16.0/cygwin-64int/local/lib/perl5"
PERL5OPT=""
PERL5_CPANPLUS_IS_RUNNING="3244"
PERL5_CPAN_IS_RUNNING="3244"
PERL_EXTUTILS_AUTOINSTALL="1"
PERL_MM_USE_DEFAULT="1"
PERL_TEST_CRITIC="1"
CYGWIN="codepage:utf8 nodosfilewarning"
@INC:
/opt/perl/cygwin/1.7.16/perl/5.16.0/cygwin-64int/local/lib/site_perl/5.16.0/cygwin-64int
/opt/perl/cygwin/1.7.16/perl/5.16.0/cygwin-64int/local/lib/site_perl/5.16.0
/opt/perl/cygwin/1.7.16/perl/5.16.0/cygwin-64int/local/lib/5.16.0/cygwin-64int
/opt/perl/cygwin/1.7.16/perl/5.16.0/cygwin-64int/local/lib/5.16.0
/opt/perl/cygwin/1.7.16/perl/5.16.0/cygwin-64int/local/lib/perl5/cygwin-64int
/opt/perl/cygwin/1.7.16/perl/5.16.0/cygwin-64int/local/lib/perl5
/opt/perl/cygwin/1.7.16/perl/5.16.0/cygwin-64int/lib/site_perl/5.16.0/cygwin-64int
/opt/perl/cygwin/1.7.16/perl/5.16.0/cygwin-64int/lib/site_perl/5.16.0
/opt/perl/cygwin/1.7.16/perl/5.16.0/cygwin-64int/lib/5.16.0/cygwin-64int
/opt/perl/cygwin/1.7.16/perl/5.16.0/cygwin-64int/lib/5.16.0
.