Test-Without-Module v0.22 Perl 5 v5.30.3 x86_64-linux-quadmath

Status
Pass
From
David Cantrell (DCANTRELL)
Dist
Test-Without-Module v0.22
Platform
Perl 5 v5.30.3 x86_64-linux-quadmath
Date
2024-07-05 23:38:59
ID
c08d9bea-3b27-11ef-99c1-abfc39b4343c
This distribution has been tested as part of the CPAN Testers
project, supporting the Perl programming language.  See
http://wiki.cpantesters.org/ for more information or email
questions to cpan-testers-discuss@perl.org


--
Dear Max Maischein,

This is a computer-generated report for Test-Without-Module-0.22
on perl 5.30.3, created by CPAN-Reporter-1.2018.

Thank you for uploading your work to CPAN.  Congratulations!
All tests were successful.

Sections of this report:

    * Tester comments
    * Program output
    * Prerequisites
    * Environment and other context

------------------------------
TESTER COMMENTS
------------------------------

Additional comments from tester:

this report is from an automated smoke testing program
and was not reviewed by a human for accuracy

------------------------------
PROGRAM OUTPUT
------------------------------

Output from '/usr/bin/make test':

PERL_DL_NONLAZY=1 "/home/david/cpantesting/perl-5.30.3-quadmath/bin/perl" "-MExtUtils::Command::MM" "-MTest::Harness" "-e" "undef *Test::Harness::Switches; test_harness(0, 'blib/lib', 'blib/arch')" t/00-load.t t/01-api.t t/02-block-use-module.t t/03-block-require-module.t t/04-import-export.t t/05-redefine.t t/06-missing-hidden-modules.t t/embedded-Test-Without-Module.t t/rt122551.t
# Testing Test::Without::Module 0.22, Perl 5.030003
# Carp 1.50
# Config 5.030003
# Cwd 3.75
# Encode 3.20
# Encode::Alias 2.25
# Encode::Config 2.05
# Encode::Encoding 2.08
# Encode::MIME::Name 1.03
# Exporter 5.77
# Exporter::Heavy 5.77
# ExtUtils::Liblist 7.70
# ExtUtils::Liblist::Kid 7.70
# ExtUtils::MM 7.70
# ExtUtils::MM_Any 7.70
# ExtUtils::MM_Unix 7.70
# ExtUtils::MY 7.70
# ExtUtils::MakeMaker 7.70
# ExtUtils::MakeMaker::Config 7.70
# ExtUtils::MakeMaker::Locale 7.70
# ExtUtils::MakeMaker::version 7.70
# Fcntl 1.13
# File::Basename 2.85
# File::Glob 1.32
# File::Path 2.18
# File::Spec 3.75
# File::Spec::Unix 3.75
# I18N::Langinfo 0.18
# List::Util 1.63
# POSIX 1.88
# PerlIO 1.10
# Scalar::Util 1.63
# Storable 3.25
# Test::Builder 1.302198
# Test::Builder::Formatter 1.302198
# Test::Builder::Module 1.302198
# Test::Builder::TodoDiag 1.302198
# Test::More 1.302198
# Test::Without::Module 0.22
# Test2::API 1.302198
# Test2::API::Context 1.302198
# Test2::API::Instance 1.302198
# Test2::API::Stack 1.302198
# Test2::Event 1.302198
# Test2::Event::Bail 1.302198
# Test2::Event::Diag 1.302198
# Test2::Event::Exception 1.302198
# Test2::Event::Fail 1.302198
# Test2::Event::Note 1.302198
# Test2::Event::Ok 1.302198
# Test2::Event::Pass 1.302198
# Test2::Event::Plan 1.302198
# Test2::Event::Skip 1.302198
# Test2::Event::Subtest 1.302198
# Test2::Event::V2 1.302198
# Test2::Event::Waiting 1.302198
# Test2::EventFacet 1.302198
# Test2::EventFacet::About 1.302198
# Test2::EventFacet::Amnesty 1.302198
# Test2::EventFacet::Assert 1.302198
# Test2::EventFacet::Control 1.302198
# Test2::EventFacet::Error 1.302198
# Test2::EventFacet::Hub 1.302198
# Test2::EventFacet::Info 1.302198
# Test2::EventFacet::Meta 1.302198
# Test2::EventFacet::Parent 1.302198
# Test2::EventFacet::Plan 1.302198
# Test2::EventFacet::Trace 1.302198
# Test2::Formatter 1.302198
# Test2::Formatter::TAP 1.302198
# Test2::Hub 1.302198
# Test2::Hub::Interceptor 1.302198
# Test2::Hub::Interceptor::Terminator 1.302198
# Test2::Hub::Subtest 1.302198
# Test2::Util 1.302198
# Test2::Util::ExternalMeta 1.302198
# Test2::Util::Facets2Legacy 1.302198
# Test2::Util::HashBase 1.302198
# Test2::Util::Trace 1.302198
# Tie::Hash 1.05
# Time::HiRes 1.9764
# XSLoader 0.24
# base 2.23
# bytes 1.07
# constant 1.33
# mro 1.22
# overloading 0.02
# parent 0.241
# strict 1.11
# vars 1.05
# version 0.9930
# version::regex 0.9930
# version::vxs 0.9930
# warnings 1.44
# warnings::register 1.04
t/00-load.t ....................... ok
t/01-api.t ........................ ok
t/02-block-use-module.t ........... ok
t/03-block-require-module.t ....... ok
t/04-import-export.t .............. ok
t/05-redefine.t ................... ok
t/06-missing-hidden-modules.t ..... ok
t/embedded-Test-Without-Module.t .. ok
t/rt122551.t ...................... ok
All tests successful.

Test Summary Report
-------------------
t/rt122551.t                    (Wstat: 0 Tests: 2 Failed: 0)
  TODO passed:   2
Files=9, Tests=24,  8 wallclock secs ( 0.09 usr  0.03 sys +  1.53 cusr  0.31 csys =  1.96 CPU)
Result: PASS

------------------------------
PREREQUISITES
------------------------------

Prerequisite modules loaded:

requires:

    Module              Need  Have    
    ------------------- ----- --------
    Carp                0     1.50    
    perl                5.020 5.030003

build_requires:

    Module              Need  Have    
    ------------------- ----- --------
    ExtUtils::MakeMaker 0     7.70    
    File::Find          0     1.36    
    File::Spec          0     3.75    
    Test::More          0     1.302198

configure_requires:

    Module              Need  Have    
    ------------------- ----- --------
    ExtUtils::MakeMaker 0     7.70    


------------------------------
ENVIRONMENT AND OTHER CONTEXT
------------------------------

Environment variables:

    AUTOMATED_TESTING = 1
    LANG = en_GB.UTF-8
    LANGUAGE = en_GB:en
    LC_TERMINAL = iTerm2
    LC_TERMINAL_VERSION = 3.5.2
    NONINTERACTIVE_TESTING = 1
    PATH = /home/david/.nvm/versions/node/v20.15.0/bin:/home/david/.cargo/bin:/home/david/perl5/perlbrew/bin:/home/david/perl5/perlbrew/perls/perl-5.30.2/bin:/home/david/bin:/usr/local/bin:/usr/bin:/bin:/usr/local/games:/usr/games
    PERL = 5.30.3-quadmath
    PERL5LIB = 
    PERL5OPT = 
    PERL5_CPANPLUS_IS_RUNNING = 3429301
    PERL5_CPAN_IS_RUNNING = 3429301
    PERLBREW_HOME = /home/david/.perlbrew
    PERLBREW_MANPATH = /home/david/perl5/perlbrew/perls/perl-5.30.2/man
    PERLBREW_PATH = /home/david/perl5/perlbrew/bin:/home/david/perl5/perlbrew/perls/perl-5.30.2/bin
    PERLBREW_PERL = perl-5.30.2
    PERLBREW_ROOT = /home/david/perl5/perlbrew
    PERLBREW_SHELLRC_VERSION = 0.98
    PERLBREW_VERSION = 0.98
    PERLVER = 5.30.3-quadmath
    PERL_INLINE_DIRECTORY = /home/david/.Inline-5.30.3-quadmath
    PERL_MM_USE_DEFAULT = 1
    PERL_USE_UNSAFE_INC = 0
    SHELL = /bin/bash
    TERM = screen

Perl special variables (and OS-specific diagnostics, for MSWin32):

    $^X = /home/david/cpantesting/perl-5.30.3-quadmath/bin/perl
    $UID/$EUID = 1000 / 1000
    $GID = 1000 24 25 27 29 30 44 46 109 1000
    $EGID = 1000 24 25 27 29 30 44 46 109 1000

Perl module toolchain versions installed:

    Module              Have    
    ------------------- --------
    CPAN                2.22    
    CPAN::Meta          2.150010
    Cwd                 3.75    
    ExtUtils::CBuilder  0.280236
    ExtUtils::Command   7.70    
    ExtUtils::Install   2.22    
    ExtUtils::MakeMaker 7.70    
    ExtUtils::Manifest  1.75    
    ExtUtils::ParseXS   3.51    
    File::Spec          3.75    
    JSON                4.10    
    JSON::PP            4.16    
    Module::Build       0.4234  
    Module::Signature   n/a     
    Parse::CPAN::Meta   2.150010
    Test::Harness       3.48    
    Test::More          1.302198
    YAML                1.30    
    YAML::Syck          n/a     
    version             0.9930  


--

Summary of my perl5 (revision 5 version 30 subversion 3) configuration:
   
  Platform:
    osname=linux
    osvers=5.10.0-11-amd64
    archname=x86_64-linux-quadmath
    uname='linux cpantesting-linux-utm 5.10.0-11-amd64 #1 smp debian 5.10.92-1 (2022-01-18) x86_64 gnulinux '
    config_args='-de -Dusequadmath -Dprefix=/home/david/cpantesting/perl-5.30.3-quadmath'
    hint=recommended
    useposix=true
    d_sigaction=define
    useithreads=undef
    usemultiplicity=undef
    use64bitint=define
    use64bitall=define
    uselongdouble=undef
    usemymalloc=n
    default_inc_excludes_dot=define
    bincompat5005=undef
  Compiler:
    cc='cc'
    ccflags ='-fwrapv -fno-strict-aliasing -pipe -fstack-protector-strong -I/usr/local/include -D_LARGEFILE_SOURCE -D_FILE_OFFSET_BITS=64 -D_FORTIFY_SOURCE=2'
    optimize='-O2'
    cppflags='-fwrapv -fno-strict-aliasing -pipe -fstack-protector-strong -I/usr/local/include'
    ccversion=''
    gccversion='10.2.1 20210110'
    gccosandvers=''
    intsize=4
    longsize=8
    ptrsize=8
    doublesize=8
    byteorder=12345678
    doublekind=3
    d_longlong=define
    longlongsize=8
    d_longdbl=define
    longdblsize=16
    longdblkind=3
    ivtype='long'
    ivsize=8
    nvtype='__float128'
    nvsize=16
    Off_t='off_t'
    lseeksize=8
    alignbytes=16
    prototype=define
  Linker and Libraries:
    ld='cc'
    ldflags =' -fstack-protector-strong -L/usr/local/lib'
    libpth=/usr/local/lib /usr/include/x86_64-linux-gnu /usr/lib /lib/x86_64-linux-gnu /lib/../lib /usr/lib/x86_64-linux-gnu /usr/lib/../lib /lib /lib64 /usr/lib64
    libs=-lpthread -lnsl -ldl -lm -lcrypt -lutil -lc -lquadmath
    perllibs=-lpthread -lnsl -ldl -lm -lcrypt -lutil -lc -lquadmath
    libc=libc-2.31.so
    so=so
    useshrplib=false
    libperl=libperl.a
    gnulibc_version='2.31'
  Dynamic Linking:
    dlsrc=dl_dlopen.xs
    dlext=so
    d_dlsymun=undef
    ccdlflags='-Wl,-E'
    cccdlflags='-fPIC'
    lddlflags='-shared -O2 -L/usr/local/lib -fstack-protector-strong'


Characteristics of this binary (from libperl): 
  Compile-time options:
    HAS_TIMES
    PERLIO_LAYERS
    PERL_COPY_ON_WRITE
    PERL_DONT_CREATE_GVSV
    PERL_MALLOC_WRAP
    PERL_OP_PARENT
    PERL_PRESERVE_IVUV
    USE_64_BIT_ALL
    USE_64_BIT_INT
    USE_LARGE_FILES
    USE_LOCALE
    USE_LOCALE_COLLATE
    USE_LOCALE_CTYPE
    USE_LOCALE_NUMERIC
    USE_LOCALE_TIME
    USE_PERLIO
    USE_PERL_ATOF
    USE_QUADMATH
  Locally applied patches:
    Devel::PatchPerl 2.08
  Built under linux
  Compiled at Feb  5 2022 23:00:34
  %ENV:
    PERL="5.30.3-quadmath"
    PERL5LIB=""
    PERL5OPT=""
    PERL5_CPANPLUS_IS_RUNNING="3429301"
    PERL5_CPAN_IS_RUNNING="3429301"
    PERLBREW_HOME="/home/david/.perlbrew"
    PERLBREW_MANPATH="/home/david/perl5/perlbrew/perls/perl-5.30.2/man"
    PERLBREW_PATH="/home/david/perl5/perlbrew/bin:/home/david/perl5/perlbrew/perls/perl-5.30.2/bin"
    PERLBREW_PERL="perl-5.30.2"
    PERLBREW_ROOT="/home/david/perl5/perlbrew"
    PERLBREW_SHELLRC_VERSION="0.98"
    PERLBREW_VERSION="0.98"
    PERLVER="5.30.3-quadmath"
    PERL_INLINE_DIRECTORY="/home/david/.Inline-5.30.3-quadmath"
    PERL_MM_USE_DEFAULT="1"
    PERL_USE_UNSAFE_INC="0"
  @INC:
    /home/david/cpantesting/perl-5.30.3-quadmath/lib/site_perl/5.30.3/x86_64-linux-quadmath
    /home/david/cpantesting/perl-5.30.3-quadmath/lib/site_perl/5.30.3
    /home/david/cpantesting/perl-5.30.3-quadmath/lib/5.30.3/x86_64-linux-quadmath
    /home/david/cpantesting/perl-5.30.3-quadmath/lib/5.30.3