Report for Dist-Zilla-Plugin-AssertOS-0.04

Back
From: metabase:user:553c21ce-8d47-11df-9de5-e28c4c42590d
Subject: PASS Dist-Zilla-Plugin-AssertOS-0.04 v5.18.1 GNU/Linux
Date: 2013-09-13T01:49:39Z

This distribution has been tested as part of the CPAN Testers
project, supporting the Perl programming language.  See
http://wiki.cpantesters.org/ for more information or email
questions to cpan-testers-discuss@perl.org


--
Dear BINGOS,

This is a computer-generated report for Dist-Zilla-Plugin-AssertOS-0.04
on perl 5.18.1, created by App::cpanminus::reporter 0.10 (1.7001).

Thank you for uploading your work to CPAN.  Congratulations!
All tests were successful.

Sections of this report:

    * Tester comments
    * Program output
    * Prerequisites
    * Environment and other context

------------------------------
TESTER COMMENTS
------------------------------

Additional comments from tester:

none provided

------------------------------
PROGRAM OUTPUT
------------------------------

Output from '':

Building and testing Dist-Zilla-Plugin-AssertOS-0.04
cp lib/Dist/Zilla/Plugin/AssertOS.pm blib/lib/Dist/Zilla/Plugin/AssertOS.pm
PERL_DL_NONLAZY=1 /home/ioan/perl5/perlbrew/perls/perl-5.18.1/bin/perl "-MExtUtils::Command::MM" "-e" "test_harness(0, 'blib/lib', 'blib/arch')" t/*.t
t/release-pod-coverage.t .. skipped: these tests are for release candidate testing
t/release-pod-syntax.t .... skipped: these tests are for release candidate testing
t/00-compile.t ............ ok
All tests successful.
Files=3, Tests=1,  1 wallclock secs ( 0.03 usr  0.00 sys +  0.53 cusr  0.06 csys =  0.62 CPU)
Result: PASS

------------------------------
PREREQUISITES
------------------------------

Prerequisite modules loaded:

    No requirements found

------------------------------
ENVIRONMENT AND OTHER CONTEXT
------------------------------

Environment variables:

    LANG = en_GB.UTF-8
    PATH = /home/ioan/perl5/perlbrew/bin:/home/ioan/perl5/perlbrew/perls/perl-5.18.1/bin::/home/ioan/bin:/usr/local/bin:/usr/bin:/bin:/usr/local/sbin:/sbin:/usr/sbin:/usr/games
    PERLBREW_BASHRC_VERSION = 0.59
    PERLBREW_HOME = /home/ioan/.perlbrew
    PERLBREW_MANPATH = /home/ioan/perl5/perlbrew/perls/perl-5.18.1/man
    PERLBREW_PATH = /home/ioan/perl5/perlbrew/bin:/home/ioan/perl5/perlbrew/perls/perl-5.18.1/bin
    PERLBREW_PERL = perl-5.18.1
    PERLBREW_ROOT = /home/ioan/perl5/perlbrew
    PERLBREW_VERSION = 0.66
    PERL_CPANM_DEV = 1
    PERL_CPANM_OPT = --prompt --no-man-pages --verify --mirror http://cpan.arcticnetwork.ca --mirror http://mirrors.gossamer-threads.com/CPAN/
    SHELL = /bin/bash
    TERM = xterm-256color

Perl special variables (and OS-specific diagnostics, for MSWin32):

    EGID = 1001 4 27 105 996 997 998 999 1000 1001
    EUID = 1001
    EXECUTABLE_NAME = /home/ioan/perl5/perlbrew/perls/perl-5.18.1/bin/perl
    GID = 1001 4 27 105 996 997 998 999 1000 1001
    UID = 1001

Perl module toolchain versions installed:

    Module              Have    
    ------------------- --------
    CPAN                2.00    
    CPAN::Meta          2.132510
    Cwd                 3.40    
    ExtUtils::CBuilder  0.280212
    ExtUtils::Command   1.18    
    ExtUtils::Install   1.59    
    ExtUtils::MakeMaker 6.74    
    ExtUtils::Manifest  1.63    
    ExtUtils::ParseXS   3.22    
    File::Spec          3.40    
    JSON                2.59    
    JSON::PP            2.27202 
    Module::Build       0.4007  
    Module::Signature   0.73    
    Parse::CPAN::Meta   1.4407  
    Test::Harness       3.28    
    Test::More          0.98    
    YAML                0.84    
    YAML::Syck          n/a     
    version             0.9904  


--

Summary of my perl5 (revision 5 version 18 subversion 1) configuration:
   
  Platform:
    osname=linux, osvers=3.10-2-amd64, archname=x86_64-linux-ld
    uname='linux vaio 3.10-2-amd64 #1 smp debian 3.10.7-1 (2013-08-17) x86_64 gnulinux '
    config_args='-de -Dprefix=/home/ioan/perl5/perlbrew/perls/perl-5.18.1 -Duselongdouble -Dman1dir=none -Dman3dir=none -Dcc=clang -Uusemymalloc -Accflags=-mcpu=native -mtune=native -O3 -fstack-protector --param=ssp-buffer-size=4 -Wformat -Werror=format-security  -Acppflags= -D_FORTIFY_SOURCE=2 -Aldflags=-Wl,-z,relro -Aeval:scriptdir=/home/ioan/perl5/perlbrew/perls/perl-5.18.1/bin'
    hint=recommended, useposix=true, d_sigaction=define
    useithreads=undef, usemultiplicity=undef
    useperlio=define, d_sfio=undef, uselargefiles=define, usesocks=undef
    use64bitint=define, use64bitall=define, uselongdouble=define
    usemymalloc=n, bincompat5005=undef
  Compiler:
    cc='clang', ccflags ='-mcpu=native -mtune=native -O3 -fstack-protector --param=ssp-buffer-size=4 -Wformat -Werror=format-security -fno-strict-aliasing -pipe -I/usr/local/include -D_LARGEFILE_SOURCE -D_FILE_OFFSET_BITS=64',
    optimize='-O2',
    cppflags='-D_FORTIFY_SOURCE=2 -mcpu=native -mtune=native -O3 -fstack-protector --param=ssp-buffer-size=4 -Wformat -Werror=format-security -fno-strict-aliasing -pipe -I/usr/local/include'
    ccversion='', gccversion='4.2.1 Compatible Debian Clang 3.4 (trunk)', gccosandvers=''
    intsize=4, longsize=8, ptrsize=8, doublesize=8, byteorder=12345678
    d_longlong=define, longlongsize=8, d_longdbl=define, longdblsize=16
    ivtype='long', ivsize=8, nvtype='long double', nvsize=16, Off_t='off_t', lseeksize=8
    alignbytes=16, prototype=define
  Linker and Libraries:
    ld='clang', ldflags =' -Wl,-z,relro -fstack-protector -L/usr/local/lib'
    libpth=/usr/local/lib /lib/x86_64-linux-gnu /lib/../lib /usr/lib/x86_64-linux-gnu /usr/lib/../lib /lib /usr/lib
    libs=-lnsl -ldl -lm -lcrypt -lutil -lc
    perllibs=-lnsl -ldl -lm -lcrypt -lutil -lc
    libc=, so=so, useshrplib=false, libperl=libperl.a
    gnulibc_version='2.17'
  Dynamic Linking:
    dlsrc=dl_dlopen.xs, dlext=so, d_dlsymun=undef, ccdlflags='-Wl,-E'
    cccdlflags='-fPIC', lddlflags='-shared -O2 -L/usr/local/lib -fstack-protector'


Characteristics of this binary (from libperl): 
  Compile-time options: HAS_TIMES PERLIO_LAYERS PERL_DONT_CREATE_GVSV
                        PERL_HASH_FUNC_ONE_AT_A_TIME_HARD PERL_MALLOC_WRAP
                        PERL_PRESERVE_IVUV PERL_SAWAMPERSAND USE_64_BIT_ALL
                        USE_64_BIT_INT USE_LARGE_FILES USE_LOCALE
                        USE_LOCALE_COLLATE USE_LOCALE_CTYPE
                        USE_LOCALE_NUMERIC USE_LONG_DOUBLE USE_PERLIO
                        USE_PERL_ATOF
  Built under linux
  Compiled at Aug 23 2013 17:46:44
  %ENV:
    PERLBREW_BASHRC_VERSION="0.59"
    PERLBREW_HOME="/home/ioan/.perlbrew"
    PERLBREW_MANPATH="/home/ioan/perl5/perlbrew/perls/perl-5.18.1/man"
    PERLBREW_PATH="/home/ioan/perl5/perlbrew/bin:/home/ioan/perl5/perlbrew/perls/perl-5.18.1/bin"
    PERLBREW_PERL="perl-5.18.1"
    PERLBREW_ROOT="/home/ioan/perl5/perlbrew"
    PERLBREW_VERSION="0.66"
    PERL_CPANM_DEV="1"
    PERL_CPANM_OPT="--prompt --no-man-pages --verify --mirror http://cpan.arcticnetwork.ca --mirror http://mirrors.gossamer-threads.com/CPAN/"
  @INC:
    /home/ioan/perl5/perlbrew/perls/perl-5.18.1/lib/site_perl/5.18.1/x86_64-linux-ld
    /home/ioan/perl5/perlbrew/perls/perl-5.18.1/lib/site_perl/5.18.1
    /home/ioan/perl5/perlbrew/perls/perl-5.18.1/lib/5.18.1/x86_64-linux-ld
    /home/ioan/perl5/perlbrew/perls/perl-5.18.1/lib/5.18.1
    .