Encode-Base2N v1.0.6 Perl 5 v5.36.1 x86_64-linux
- Status
- Pass
- From
- Andreas J. König (ANDK)
- Dist
-
Encode-Base2N v1.0.6
- Platform
- Perl 5 v5.36.1 x86_64-linux
- Date
- 2025-03-29 05:36:24
- ID
- c09a0a6a-0c5f-11f0-a66e-d3b467cbf4cd
This distribution has been tested as part of the CPAN Testers
project, supporting the Perl programming language. See
http://wiki.cpantesters.org/ for more information or email
questions to cpan-testers-discuss@perl.org
--
Dear Oleg Pronin,
This is a computer-generated report for Encode-Base2N-1.0.6
on perl 5.36.1, created by CPAN-Reporter-1.2018.
Thank you for uploading your work to CPAN. Congratulations!
All tests were successful.
Sections of this report:
* Tester comments
* Program output
* Prerequisites
* Environment and other context
------------------------------
TESTER COMMENTS
------------------------------
Additional comments from tester:
this report is from an automated smoke testing program
and was not reviewed by a human for accuracy
------------------------------
PROGRAM OUTPUT
------------------------------
Output from '/usr/bin/make test':
"/home/sand/src/perl/repoperls/installed-perls/host/k93msid/v5.36.1/da1c/bin/perl" -MExtUtils::Command::MM -e 'cp_nonempty' -- Base2N.bs blib/arch/auto/Encode/Base2N/Base2N.bs 644
cd clib/build && cd ../cmake_props && make panda-encode-base2n
make[1]: Entering directory '/tmp/loop_over_bdir-2639088-NC_dwP/Encode-Base2N-1.0.6-0/clib/cmake_props'
make[2]: Entering directory '/tmp/loop_over_bdir-2639088-NC_dwP/Encode-Base2N-1.0.6-0/clib/cmake_props'
make[3]: Entering directory '/tmp/loop_over_bdir-2639088-NC_dwP/Encode-Base2N-1.0.6-0/clib/cmake_props'
make[4]: Entering directory '/tmp/loop_over_bdir-2639088-NC_dwP/Encode-Base2N-1.0.6-0/clib/cmake_props'
make[4]: Leaving directory '/tmp/loop_over_bdir-2639088-NC_dwP/Encode-Base2N-1.0.6-0/clib/cmake_props'
[100%] Built target panda-encode-base2n
make[3]: Leaving directory '/tmp/loop_over_bdir-2639088-NC_dwP/Encode-Base2N-1.0.6-0/clib/cmake_props'
make[2]: Leaving directory '/tmp/loop_over_bdir-2639088-NC_dwP/Encode-Base2N-1.0.6-0/clib/cmake_props'
make[1]: Leaving directory '/tmp/loop_over_bdir-2639088-NC_dwP/Encode-Base2N-1.0.6-0/clib/cmake_props'
cd clib/build && make install > /dev/null 2>&1
/usr/bin/cmake -E copy_directory clib/build/cmake_prefix/include blib/arch/Encode/Base2N.x/i/
Skip blib/arch/Encode/Base2N.pod (unchanged)
Skip blib/arch/Encode/Base2N.x/info (unchanged)
Skip blib/arch/Encode/Base2N.pm (unchanged)
make[1]: Nothing to be done for 'object'.
Running Mkbootstrap for MyTest ()
chmod 644 "MyTest.bs"
"/home/sand/src/perl/repoperls/installed-perls/host/k93msid/v5.36.1/da1c/bin/perl" -MExtUtils::Command::MM -e 'cp_nonempty' -- MyTest.bs blib/arch/auto/MyTest/MyTest.bs 644
cd clib/build && cd ../cmake_props && make panda-encode-base2n-tests
[ 44%] Built target panda-encode-base2n
[ 55%] Building CXX object /tmp/loop_over_bdir-2639088-NC_dwP/Encode-Base2N-1.0.6-0/clib/build/CMakeFiles/panda-encode-base2n-tests.dir/tests/base16.cc.o
[ 66%] Building CXX object /tmp/loop_over_bdir-2639088-NC_dwP/Encode-Base2N-1.0.6-0/clib/build/CMakeFiles/panda-encode-base2n-tests.dir/tests/base32.cc.o
[ 77%] Building CXX object /tmp/loop_over_bdir-2639088-NC_dwP/Encode-Base2N-1.0.6-0/clib/build/CMakeFiles/panda-encode-base2n-tests.dir/tests/base64.cc.o
[ 88%] Building CXX object /tmp/loop_over_bdir-2639088-NC_dwP/Encode-Base2N-1.0.6-0/clib/build/CMakeFiles/panda-encode-base2n-tests.dir/tests/main.cc.o
[100%] Linking CXX static library libpanda-encode-base2n-tests.a
[100%] Built target panda-encode-base2n-tests
rm -f blib/arch/auto/MyTest/MyTest.so
c++ -shared -O2 -g -L/usr/local/lib -fstack-protector-strong blib/arch/auto/Encode/Base2N/Base2N.so -Wl,--whole-archive clib/build/libpanda-encode-base2n-tests.a -Wl,--no-whole-archive -lunwind -o blib/arch/auto/MyTest/MyTest.so \
\
chmod 755 blib/arch/auto/MyTest/MyTest.so
cd clib/build && make install > /dev/null 2>&1
Skip blib/arch/Encode/Base2N.pod (unchanged)
Skip blib/arch/Encode/Base2N.pm (unchanged)
Manifying 1 pod document
PERL_DL_NONLAZY=1 "/home/sand/src/perl/repoperls/installed-perls/host/k93msid/v5.36.1/da1c/bin/perl" "-MExtUtils::Command::MM" "-MTest::Harness" "-e" "undef *Test::Harness::Switches; test_harness(0, 'blib/lib', 'blib/arch')" t/*.t
t/base16.t .. ok
t/base32.t .. ok
t/base64.t .. ok
t/zleaks.t .. skipped: set TEST_FULL=1 to enable leaks test
All tests successful.
Files=4, Tests=32, 1 wallclock secs ( 0.04 usr 0.00 sys + 0.33 cusr 0.12 csys = 0.49 CPU)
Result: PASS
------------------------------
PREREQUISITES
------------------------------
Prerequisite modules loaded:
requires:
Module Need Have
------------ -------- --------
Export::XS 0 3.0.8
XS::Install v1.4.0 1.4.0
XS::libpanda v1.5.11 1.5.11
build_requires:
Module Need Have
------------ -------- --------
Test::Catch v2.0.2 2.0.2
Test::Deep 0 1.204
Test::More 0 1.302207
Test::Simple 0.96 1.302207
XS::libcatch v3.7.1.1 3.7.1.1
XS::libpanda v1.5.11 1.5.11
configure_requires:
Module Need Have
------------ -------- --------
Test::Catch v2.0.2 2.0.2
XS::Install v1.4.0 1.4.0
XS::libcatch v3.7.1 3.7.1.1
XS::libpanda v1.5.11 1.5.11
------------------------------
ENVIRONMENT AND OTHER CONTEXT
------------------------------
Environment variables:
AUTOMATED_TESTING = 1
LANG = en_US.UTF-8
LANGUAGE = en_US:en
PATH = /home/sand/bin:/usr/local/bin:/usr/bin:/bin:/usr/games:/usr/local/perl/bin:/usr/X11/bin:/sbin:/usr/sbin
PERL5LIB =
PERL5OPT =
PERL5_CPANPLUS_IS_RUNNING = 480011
PERL5_CPAN_IS_RUNNING = 480011
PERL_CANARY_STABILITY_NOPROMPT = 1
PERL_MM_USE_DEFAULT = 1
PERL_USE_UNSAFE_INC = 1
SHELL = /usr/bin/zsh
TERM = screen
Perl special variables (and OS-specific diagnostics, for MSWin32):
$^X = /home/sand/src/perl/repoperls/installed-perls/host/k93msid/v5.36.1/da1c/bin/perl
$UID/$EUID = 1005 / 1005
$GID = 1005 1005
$EGID = 1005 1005
Perl module toolchain versions installed:
Module Have
------------------- --------
CPAN 2.37
CPAN::Meta 2.150010
Cwd 3.84
ExtUtils::CBuilder 0.280236
ExtUtils::Command 7.70
ExtUtils::Install 2.20
ExtUtils::MakeMaker 7.70
ExtUtils::Manifest 1.75
ExtUtils::ParseXS 3.45
File::Spec 3.84
JSON 4.10
JSON::PP 4.16
Module::Build 0.4234
Module::Signature 0.88
Parse::CPAN::Meta 2.150010
Test::Harness 3.51_01
Test::More 1.302207
YAML 1.30
YAML::Syck 1.34
version 0.9930
--
Summary of my perl5 (revision 5 version 36 subversion 1) configuration:
Commit id: 42e3343be621a2b9cdb98befd92de43cc0b7ef3e
Platform:
osname=linux
osvers=6.1.0-7-amd64
archname=x86_64-linux
uname='linux k93msid 6.1.0-7-amd64 #1 smp preempt_dynamic debian 6.1.20-1 (2023-03-19) x86_64 gnulinux '
config_args='-Dprefix=/home/sand/src/perl/repoperls/installed-perls/host/k93msid/v5.36.1/da1c -Dmyhostname=k93msid -Dinstallusrbinperl=n -Uversiononly -Dusedevel -des -Ui_db -Dlibswanted=cl pthread socket inet nsl gdbm dbm malloc dl ld sun m crypt sec util c cposix posix ucb BSD gdbm_compat -Uuseithreads -Uuselongdouble -DEBUGGING=-g'
hint=recommended
useposix=true
d_sigaction=define
useithreads=undef
usemultiplicity=undef
use64bitint=define
use64bitall=define
uselongdouble=undef
usemymalloc=n
default_inc_excludes_dot=define
Compiler:
cc='cc'
ccflags ='-fwrapv -fno-strict-aliasing -pipe -fstack-protector-strong -I/usr/local/include -D_LARGEFILE_SOURCE -D_FILE_OFFSET_BITS=64 -D_FORTIFY_SOURCE=2'
optimize='-O2 -g'
cppflags='-fwrapv -fno-strict-aliasing -pipe -fstack-protector-strong -I/usr/local/include'
ccversion=''
gccversion='12.2.0'
gccosandvers=''
intsize=4
longsize=8
ptrsize=8
doublesize=8
byteorder=12345678
doublekind=3
d_longlong=define
longlongsize=8
d_longdbl=define
longdblsize=16
longdblkind=3
ivtype='long'
ivsize=8
nvtype='double'
nvsize=8
Off_t='off_t'
lseeksize=8
alignbytes=8
prototype=define
Linker and Libraries:
ld='cc'
ldflags =' -fstack-protector-strong -L/usr/local/lib'
libpth=/usr/local/lib /usr/lib/x86_64-linux-gnu /usr/lib /usr/lib64
libs=-lpthread -lnsl -ldl -lm -lcrypt -lutil -lc
perllibs=-lpthread -lnsl -ldl -lm -lcrypt -lutil -lc
libc=/lib/x86_64-linux-gnu/libc.so.6
so=so
useshrplib=false
libperl=libperl.a
gnulibc_version='2.36'
Dynamic Linking:
dlsrc=dl_dlopen.xs
dlext=so
d_dlsymun=undef
ccdlflags='-Wl,-E'
cccdlflags='-fPIC'
lddlflags='-shared -O2 -g -L/usr/local/lib -fstack-protector-strong'
Characteristics of this binary (from libperl):
Compile-time options:
HAS_TIMES
PERLIO_LAYERS
PERL_COPY_ON_WRITE
PERL_DONT_CREATE_GVSV
PERL_MALLOC_WRAP
PERL_OP_PARENT
PERL_PRESERVE_IVUV
PERL_USE_DEVEL
USE_64_BIT_ALL
USE_64_BIT_INT
USE_LARGE_FILES
USE_LOCALE
USE_LOCALE_COLLATE
USE_LOCALE_CTYPE
USE_LOCALE_NUMERIC
USE_LOCALE_TIME
USE_PERLIO
USE_PERL_ATOF
Built under linux
Compiled at Apr 23 2023 23:26:02
%ENV:
PERL5LIB=""
PERL5OPT=""
PERL5_CPANPLUS_IS_RUNNING="480011"
PERL5_CPAN_IS_RUNNING="480011"
PERL_CANARY_STABILITY_NOPROMPT="1"
PERL_MM_USE_DEFAULT="1"
PERL_USE_UNSAFE_INC="1"
@INC:
/home/sand/src/perl/repoperls/installed-perls/host/k93msid/v5.36.1/da1c/lib/site_perl/5.36.1/x86_64-linux
/home/sand/src/perl/repoperls/installed-perls/host/k93msid/v5.36.1/da1c/lib/site_perl/5.36.1
/home/sand/src/perl/repoperls/installed-perls/host/k93msid/v5.36.1/da1c/lib/5.36.1/x86_64-linux
/home/sand/src/perl/repoperls/installed-perls/host/k93msid/v5.36.1/da1c/lib/5.36.1
.