Report for Soar-Production-Parser-1.122860

Back
From: metabase:user:d4d7c3de-2458-11e2-906a-e1860846da88
Subject: PASS Soar-Production-Parser-1.122860 v5.14.3 GNU/Linux
Date: 2013-01-21T08:44:22Z

This distribution has been tested as part of the CPAN Testers
project, supporting the Perl programming language.  See
http://wiki.cpantesters.org/ for more information or email
questions to cpan-testers-discuss@perl.org


--
Dear Nathan Gary Glenn,

This is a computer-generated report for Soar-Production-Parser-1.122860
on perl 5.14.3, created by CPAN-Reporter-1.2009.

Thank you for uploading your work to CPAN.  Congratulations!
All tests were successful.

Sections of this report:

    * Tester comments
    * Program output
    * Prerequisites
    * Environment and other context

------------------------------
TESTER COMMENTS
------------------------------

Additional comments from tester:

this report is from an automated smoke testing program
and was not reviewed by a human for accuracy

------------------------------
PROGRAM OUTPUT
------------------------------

Output from './Build test':

t/00-compile.t ................ ok
t/00-use.t .................... ok
# 
# 
# Generated by Dist::Zilla::Plugin::ReportVersions::Tiny v1.08
# perl: 5.014003 (wanted 5.010) on linux from /users/cpanbuilder/localperl/5.14/bin/perl5.14.3
# 
# Carp                                          => 1.26       (want any version)
# Data::Diver                                   => 1.0101     (want any version)
# Data::Dumper                                  => 2.130_02   (want any version)
# File::Find                                    => 1.19       (want any version)
# File::Spec::Functions                         => 3.33       (want any version)
# File::Temp                                    => 0.22       (want any version)
# FindBin                                       => 1.50       (want any version)
# Module::Build                                 => 0.38       (want 0.3601) 
# Parse::RecDescent                             => 1.967009   (want any version)
# Test::Base                                    => 0.60       (want any version)
# Test::Base::Filter                            => <undef>    (want any version)
# Test::Deep                                    => 0.11       (want any version)
# Test::Exception                               => 0.31       (want any version)
# Test::More                                    => 0.98       (want 0.88)   
# Test::Warn                                    => 0.24       (want any version)
# strict                                        => 1.04       (want any version)
# utf8                                          => 1.09       (want any version)
# version                                       => 0.88       (want 0.9901) 
# warnings                                      => 1.12       (want any version)
# 
# Thanks for using my code.  I hope it works for you.
# If not, please try and include this output in the bug report.
# That will help me reproduce the issue and solve your problem.
# 
t/000-report-versions-tiny.t .. ok
t/01-bad_input.t .............. ok
t/01.5-comments.t ............. ok
t/02-split-productions.t ...... ok
t/03-production-names.t ....... ok
t/04-documentation.t .......... ok
t/05-Flags.t .................. ok
t/06-State.t .................. ok
t/07-variables.t .............. ok
t/08-attributes.t ............. ok
t/09-int.t .................... ok
t/10-float.t .................. ok
t/11-string.t ................. ok
t/12-quoted.t ................. ok
t/13-disjunct.t ............... ok
t/14-conjunct.t ............... ok
t/15-predicate.t .............. ok
t/16-preference.t ............. ok
t/17-function.t ............... ok
t/18-negative.t ............... ok
t/19-conjunctiveCond.t ........ ok
# Testing parser's ability to parse all productions in examples/big.soar
t/20-test_data.t .............. ok
t/author-critic.t ............. skipped: these tests are for testing by the author
t/release-distmeta.t .......... skipped: these tests are for release candidate testing
t/release-meta-json.t ......... skipped: these tests are for release candidate testing
t/release-mojibake.t .......... skipped: these tests are for release candidate testing
t/release-pod-coverage.t ...... skipped: these tests are for release candidate testing
t/release-pod-linkcheck.t ..... skipped: these tests are for release candidate testing
t/release-pod-syntax.t ........ skipped: these tests are for release candidate testing
t/release-test-version.t ...... skipped: these tests are for release candidate testing
All tests successful.
Files=32, Tests=987, 31 wallclock secs ( 0.26 usr  0.04 sys + 29.34 cusr  0.80 csys = 30.44 CPU)
Result: PASS

------------------------------
PREREQUISITES
------------------------------

Prerequisite modules loaded:

requires:

    Module                Need   Have    
    --------------------- ------ --------
    Carp                  0      1.26    
    Data::Dumper          0      2.130_02
    Parse::RecDescent     0      1.967009
    perl                  5.010  5.014003
    strict                0      1.04    
    warnings              0      1.12    

build_requires:

    Module                Need   Have    
    --------------------- ------ --------
    Data::Diver           0      1.0101  
    File::Find            0      1.19    
    File::Spec::Functions 0      3.33    
    File::Temp            0      0.22    
    FindBin               0      1.50    
    Module::Build         0.3601 0.3800  
    Test::Base            0      0.60    
    Test::Base::Filter    0      0       
    Test::Deep            0      0.110   
    Test::Exception       0      0.31    
    Test::More            0.88   0.98    
    Test::Warn            0      0.24    
    utf8                  0      1.09    

configure_requires:

    Module                Need   Have    
    --------------------- ------ --------
    Module::Build         0.3601 0.3800  


------------------------------
ENVIRONMENT AND OTHER CONTEXT
------------------------------

Environment variables:

    AUTOMATED_TESTING = 1
    LANG = en_GB.UTF-8
    LANGUAGE = en_GB:en
    PATH = /usr/local/bin:/usr/bin:/bin:/usr/local/games:/usr/games
    PERL5LIB = /home/cpanbuilder/.cpan/build/Test-Warn-0.24-9mP8Eu/blib/arch:/home/cpanbuilder/.cpan/build/Test-Warn-0.24-9mP8Eu/blib/lib:/home/cpanbuilder/.cpan/build/Tree-DAG_Node-1.09-SFpGb4/blib/arch:/home/cpanbuilder/.cpan/build/Tree-DAG_Node-1.09-SFpGb4/blib/lib:/home/cpanbuilder/.cpan/build/Test-Pod-1.45-DGagmA/blib/arch:/home/cpanbuilder/.cpan/build/Test-Pod-1.45-DGagmA/blib/lib:/home/cpanbuilder/.cpan/build/Carp-1.26-zBsO4u/blib/arch:/home/cpanbuilder/.cpan/build/Carp-1.26-zBsO4u/blib/lib:/home/cpanbuilder/.cpan/build/Parse-RecDescent-1.967009-fsbZZw/blib/arch:/home/cpanbuilder/.cpan/build/Parse-RecDescent-1.967009-fsbZZw/blib/lib:/home/cpanbuilder/.cpan/build/Test-Deep-0.110-PVL5aW/blib/arch:/home/cpanbuilder/.cpan/build/Test-Deep-0.110-PVL5aW/blib/lib:/home/cpanbuilder/.cpan/build/Data-Diver-1.0101-cye2S1/blib/arch:/home/cpanbuilder/.cpan/build/Data-Diver-1.0101-cye2S1/blib/lib:/home/cpanbuilder/.cpan/build/Test-Base-0.60-yTTZcG/blib/arch:/home/cpanbuilder/.cpan/build/Test-Base-0.60-yTTZcG/blib/lib:/home/cpanbuilder/.cpan/build/Spiffy-0.31-mdYYvP/blib/arch:/home/cpanbuilder/.cpan/build/Spiffy-0.31-mdYYvP/blib/lib
    PERL5OPT = 
    PERL5_CPANPLUS_IS_RUNNING = 30963
    PERL5_CPAN_IS_RUNNING = 30963
    PERL5_MINISMOKEBOX = 0.54
    PERL_EXTUTILS_AUTOINSTALL = --defaultdeps
    PERL_MM_USE_DEFAULT = 1
    SHELL = /bin/bash
    TERM = screen

Perl special variables (and OS-specific diagnostics, for MSWin32):

    $^X = /users/cpanbuilder/localperl/5.14/bin/perl5.14.3
    $UID/$EUID = 1001 / 1001
    $GID = 1001 1001
    $EGID = 1001 1001

Perl module toolchain versions installed:

    Module              Have     
    ------------------- ---------
    CPAN                1.9600_01
    CPAN::Meta          2.112621 
    Cwd                 3.36     
    ExtUtils::CBuilder  0.280203 
    ExtUtils::Command   1.17     
    ExtUtils::Install   1.56     
    ExtUtils::MakeMaker 6.64     
    ExtUtils::Manifest  1.60     
    ExtUtils::ParseXS   2.2210   
    File::Spec          3.33     
    JSON                2.53     
    JSON::PP            2.27200  
    Module::Build       0.3800   
    Module::Signature   n/a      
    Parse::CPAN::Meta   1.4401   
    Test::Harness       3.23     
    Test::More          0.98     
    YAML                0.84     
    YAML::Syck          n/a      
    version             0.88     


--

Summary of my perl5 (revision 5 version 14 subversion 3) configuration:
   
  Platform:
    osname=linux, osvers=2.6.32-5-686-bigmem, archname=i686-linux-thread-multi
    uname='linux s1 2.6.32-5-686-bigmem #1 smp mon mar 26 06:12:49 utc 2012 i686 gnulinux '
    config_args=''
    hint=recommended, useposix=true, d_sigaction=define
    useithreads=define, usemultiplicity=define
    useperlio=define, d_sfio=undef, uselargefiles=define, usesocks=undef
    use64bitint=undef, use64bitall=undef, uselongdouble=undef
    usemymalloc=n, bincompat5005=undef
  Compiler:
    cc='cc', ccflags ='-D_REENTRANT -D_GNU_SOURCE -fno-strict-aliasing -pipe -fstack-protector -I/usr/local/include -D_LARGEFILE_SOURCE -D_FILE_OFFSET_BITS=64',
    optimize='-O2',
    cppflags='-D_REENTRANT -D_GNU_SOURCE -fno-strict-aliasing -pipe -fstack-protector -I/usr/local/include'
    ccversion='', gccversion='4.4.5', gccosandvers=''
    intsize=4, longsize=4, ptrsize=4, doublesize=8, byteorder=1234
    d_longlong=define, longlongsize=8, d_longdbl=define, longdblsize=12
    ivtype='long', ivsize=4, nvtype='double', nvsize=8, Off_t='off_t', lseeksize=8
    alignbytes=4, prototype=define
  Linker and Libraries:
    ld='cc', ldflags =' -fstack-protector -L/usr/local/lib'
    libpth=/usr/local/lib /lib/../lib /usr/lib/../lib /lib /usr/lib
    libs=-lnsl -ldl -lm -lcrypt -lutil -lpthread -lc
    perllibs=-lnsl -ldl -lm -lcrypt -lutil -lpthread -lc
    libc=/lib/libc-2.11.3.so, so=so, useshrplib=false, libperl=libperl.a
    gnulibc_version='2.11.3'
  Dynamic Linking:
    dlsrc=dl_dlopen.xs, dlext=so, d_dlsymun=undef, ccdlflags='-Wl,-E'
    cccdlflags='-fPIC', lddlflags='-shared -O2 -L/usr/local/lib -fstack-protector'


Characteristics of this binary (from libperl): 
  Compile-time options: MULTIPLICITY PERL_DONT_CREATE_GVSV
                        PERL_IMPLICIT_CONTEXT PERL_MALLOC_WRAP
                        PERL_PRESERVE_IVUV USE_ITHREADS USE_LARGE_FILES
                        USE_PERLIO USE_PERL_ATOF USE_REENTRANT_API
  Built under linux
  Compiled at Dec 28 2012 20:59:25
  %ENV:
    PERL5LIB="/home/cpanbuilder/.cpan/build/Test-Warn-0.24-9mP8Eu/blib/arch:/home/cpanbuilder/.cpan/build/Test-Warn-0.24-9mP8Eu/blib/lib:/home/cpanbuilder/.cpan/build/Tree-DAG_Node-1.09-SFpGb4/blib/arch:/home/cpanbuilder/.cpan/build/Tree-DAG_Node-1.09-SFpGb4/blib/lib:/home/cpanbuilder/.cpan/build/Test-Pod-1.45-DGagmA/blib/arch:/home/cpanbuilder/.cpan/build/Test-Pod-1.45-DGagmA/blib/lib:/home/cpanbuilder/.cpan/build/Carp-1.26-zBsO4u/blib/arch:/home/cpanbuilder/.cpan/build/Carp-1.26-zBsO4u/blib/lib:/home/cpanbuilder/.cpan/build/Parse-RecDescent-1.967009-fsbZZw/blib/arch:/home/cpanbuilder/.cpan/build/Parse-RecDescent-1.967009-fsbZZw/blib/lib:/home/cpanbuilder/.cpan/build/Test-Deep-0.110-PVL5aW/blib/arch:/home/cpanbuilder/.cpan/build/Test-Deep-0.110-PVL5aW/blib/lib:/home/cpanbuilder/.cpan/build/Data-Diver-1.0101-cye2S1/blib/arch:/home/cpanbuilder/.cpan/build/Data-Diver-1.0101-cye2S1/blib/lib:/home/cpanbuilder/.cpan/build/Test-Base-0.60-yTTZcG/blib/arch:/home/cpanbuilder/.cpan/build/Test-Base-0.60-yTTZcG/blib/lib:/home/cpanbuilder/.cpan/build/Spiffy-0.31-mdYYvP/blib/arch:/home/cpanbuilder/.cpan/build/Spiffy-0.31-mdYYvP/blib/lib"
    PERL5OPT=""
    PERL5_CPANPLUS_IS_RUNNING="30963"
    PERL5_CPAN_IS_RUNNING="30963"
    PERL5_MINISMOKEBOX="0.54"
    PERL_EXTUTILS_AUTOINSTALL="--defaultdeps"
    PERL_MM_USE_DEFAULT="1"
  @INC:
    /home/cpanbuilder/.cpan/build/Test-Warn-0.24-9mP8Eu/blib/arch
    /home/cpanbuilder/.cpan/build/Test-Warn-0.24-9mP8Eu/blib/lib
    /home/cpanbuilder/.cpan/build/Tree-DAG_Node-1.09-SFpGb4/blib/arch
    /home/cpanbuilder/.cpan/build/Tree-DAG_Node-1.09-SFpGb4/blib/lib
    /home/cpanbuilder/.cpan/build/Test-Pod-1.45-DGagmA/blib/arch
    /home/cpanbuilder/.cpan/build/Test-Pod-1.45-DGagmA/blib/lib
    /home/cpanbuilder/.cpan/build/Carp-1.26-zBsO4u/blib/arch
    /home/cpanbuilder/.cpan/build/Carp-1.26-zBsO4u/blib/lib
    /home/cpanbuilder/.cpan/build/Parse-RecDescent-1.967009-fsbZZw/blib/arch
    /home/cpanbuilder/.cpan/build/Parse-RecDescent-1.967009-fsbZZw/blib/lib
    /home/cpanbuilder/.cpan/build/Test-Deep-0.110-PVL5aW/blib/arch
    /home/cpanbuilder/.cpan/build/Test-Deep-0.110-PVL5aW/blib/lib
    /home/cpanbuilder/.cpan/build/Data-Diver-1.0101-cye2S1/blib/arch
    /home/cpanbuilder/.cpan/build/Data-Diver-1.0101-cye2S1/blib/lib
    /home/cpanbuilder/.cpan/build/Test-Base-0.60-yTTZcG/blib/arch
    /home/cpanbuilder/.cpan/build/Test-Base-0.60-yTTZcG/blib/lib
    /home/cpanbuilder/.cpan/build/Spiffy-0.31-mdYYvP/blib/arch
    /home/cpanbuilder/.cpan/build/Spiffy-0.31-mdYYvP/blib/lib
    /home/cpanbuilder/localperl/5.14/lib/site_perl/5.14.3/i686-linux-thread-multi
    /home/cpanbuilder/localperl/5.14/lib/site_perl/5.14.3
    /home/cpanbuilder/localperl/5.14/lib/5.14.3/i686-linux-thread-multi
    /home/cpanbuilder/localperl/5.14/lib/5.14.3
    .