Fluent-Logger v0.25 Perl 5 v5.12.5 darwin-2level
- Status
- Pass
- From
- Nigel Horne
- Dist
-
Fluent-Logger v0.25
- Platform
- Perl 5 v5.12.5 darwin-2level
- Date
- 2017-09-07 23:03:25
- ID
- c0adff6c-9420-11e7-a13b-f7ac8077e65f
This distribution has been tested as part of the CPAN Testers
project, supporting the Perl programming language. See
http://wiki.cpantesters.org/ for more information or email
questions to cpan-testers-discuss@perl.org
--
Dear FUJIWARA Shunichiro,
This is a computer-generated report for Fluent-Logger-0.25
on perl 5.12.5, created by CPAN-Reporter-1.2018.
Thank you for uploading your work to CPAN. Congratulations!
All tests were successful.
Sections of this report:
* Tester comments
* Program output
* Prerequisites
* Environment and other context
------------------------------
TESTER COMMENTS
------------------------------
Additional comments from tester:
this report is from an automated smoke testing program
and was not reviewed by a human for accuracy
------------------------------
PROGRAM OUTPUT
------------------------------
Output from './Build test':
t/00_compile.t ...................... ok
t/01_new.t .......................... ok
t/02_unix_socket.t .................. ok
t/03_tcp.t .......................... ok
Can't exec "fluentd": No such file or directory at /Users/hornenj/.cpan/build/Fluent-Logger-0.25-10/t/..//t/Util.pm line 34.
Use of uninitialized value in pattern match (m//) at /Users/hornenj/.cpan/build/Fluent-Logger-0.25-10/t/..//t/Util.pm line 34.
t/04_live.t ......................... skipped: fluentd is not installed.
Can't exec "fluentd": No such file or directory at /Users/hornenj/.cpan/build/Fluent-Logger-0.25-10/t/..//t/Util.pm line 34.
Use of uninitialized value in pattern match (m//) at /Users/hornenj/.cpan/build/Fluent-Logger-0.25-10/t/..//t/Util.pm line 34.
t/05_prefer_integer.t ............... skipped: fluentd is not installed.
Can't exec "fluentd": No such file or directory at /Users/hornenj/.cpan/build/Fluent-Logger-0.25-10/t/..//t/Util.pm line 34.
Use of uninitialized value in pattern match (m//) at /Users/hornenj/.cpan/build/Fluent-Logger-0.25-10/t/..//t/Util.pm line 34.
t/06_fork.t ......................... skipped: fluentd is not installed.
Can't exec "fluentd": No such file or directory at /Users/hornenj/.cpan/build/Fluent-Logger-0.25-10/t/..//t/Util.pm line 34.
Use of uninitialized value in pattern match (m//) at /Users/hornenj/.cpan/build/Fluent-Logger-0.25-10/t/..//t/Util.pm line 34.
t/07_str_bin.t ...................... skipped: fluentd is not installed.
Can't exec "fluentd": No such file or directory at /Users/hornenj/.cpan/build/Fluent-Logger-0.25-10/t/..//t/Util.pm line 34.
Use of uninitialized value in pattern match (m//) at /Users/hornenj/.cpan/build/Fluent-Logger-0.25-10/t/..//t/Util.pm line 34.
t/08_udp.t .......................... skipped: fluentd is not installed.
2017-09-07T19:03:24-0400 Fluent::Logger[140588070995792](127.0.0.1:50072): Can't connect: Connection refused at t/09_buffer_overflow_handler.t line 16.
2017-09-07T19:03:24-0400 Fluent::Logger[140588070995792](127.0.0.1:50072): Can't connect: Connection refused at t/09_buffer_overflow_handler.t line 19.
2017-09-07T19:03:24-0400 Fluent::Logger[140588070995792](127.0.0.1:50072): Cannot send data: Connection is not available at /Users/hornenj/.cpan/build/Fluent-Logger-0.25-10/blib/lib/Fluent/Logger.pm line 325. at t/09_buffer_overflow_handler.t line 19.
2017-09-07T19:03:24-0400 Fluent::Logger[140588070995792](127.0.0.1:50072): flushing pending data on close at t/09_buffer_overflow_handler.t line 24.
2017-09-07T19:03:24-0400 Fluent::Logger[140588070995792](127.0.0.1:50072): Can't connect: Connection refused at t/09_buffer_overflow_handler.t line 24.
2017-09-07T19:03:24-0400 Fluent::Logger[140588070995792](127.0.0.1:50072): Can't send pending data. LOST 2097194 bytes.: Connection is not available at /Users/hornenj/.cpan/build/Fluent-Logger-0.25-10/blib/lib/Fluent/Logger.pm line 325. at t/09_buffer_overflow_handler.t line 24.
t/09_buffer_overflow_handler.t ...... ok
2017-09-07T19:03:24-0400 Fluent::Logger[140204635656112](127.0.0.1:50563): Can't connect: Connection refused at t/10_truncate_buffet_at_overflow.t line 12.
2017-09-07T19:03:24-0400 Fluent::Logger[140204635656112](127.0.0.1:50563): Can't connect: Connection refused at t/10_truncate_buffet_at_overflow.t line 19.
2017-09-07T19:03:24-0400 Fluent::Logger[140204635656112](127.0.0.1:50563): Cannot send data: Connection is not available at /Users/hornenj/.cpan/build/Fluent-Logger-0.25-10/blib/lib/Fluent/Logger.pm line 325. at t/10_truncate_buffet_at_overflow.t line 19.
2017-09-07T19:03:24-0400 Fluent::Logger[140204635656112](127.0.0.1:50563): Can't connect: Connection refused at t/10_truncate_buffet_at_overflow.t line 23.
2017-09-07T19:03:24-0400 Fluent::Logger[140204635656112](127.0.0.1:50563): Cannot send data: Connection is not available at /Users/hornenj/.cpan/build/Fluent-Logger-0.25-10/blib/lib/Fluent/Logger.pm line 325. at t/10_truncate_buffet_at_overflow.t line 23.
2017-09-07T19:03:24-0400 Fluent::Logger[140204635656112](127.0.0.1:50563): Can't connect: Connection refused at t/10_truncate_buffet_at_overflow.t line 23.
2017-09-07T19:03:24-0400 Fluent::Logger[140204635656112](127.0.0.1:50563): Cannot send data: Connection is not available at /Users/hornenj/.cpan/build/Fluent-Logger-0.25-10/blib/lib/Fluent/Logger.pm line 325. at t/10_truncate_buffet_at_overflow.t line 23.
2017-09-07T19:03:24-0400 Fluent::Logger[140204635656112](127.0.0.1:50563): Can't connect: Connection refused at t/10_truncate_buffet_at_overflow.t line 23.
2017-09-07T19:03:24-0400 Fluent::Logger[140204635656112](127.0.0.1:50563): Cannot send data: Connection is not available at /Users/hornenj/.cpan/build/Fluent-Logger-0.25-10/blib/lib/Fluent/Logger.pm line 325. at t/10_truncate_buffet_at_overflow.t line 23.
2017-09-07T19:03:24-0400 Fluent::Logger[140204635656112](127.0.0.1:50563): Can't connect: Connection refused at t/10_truncate_buffet_at_overflow.t line 23.
2017-09-07T19:03:24-0400 Fluent::Logger[140204635656112](127.0.0.1:50563): Cannot send data: Connection is not available at /Users/hornenj/.cpan/build/Fluent-Logger-0.25-10/blib/lib/Fluent/Logger.pm line 325. at t/10_truncate_buffet_at_overflow.t line 23.
2017-09-07T19:03:24-0400 Fluent::Logger[140204635656112](127.0.0.1:50563): Can't connect: Connection refused at t/10_truncate_buffet_at_overflow.t line 23.
2017-09-07T19:03:24-0400 Fluent::Logger[140204635656112](127.0.0.1:50563): Cannot send data: Connection is not available at /Users/hornenj/.cpan/build/Fluent-Logger-0.25-10/blib/lib/Fluent/Logger.pm line 325. at t/10_truncate_buffet_at_overflow.t line 23.
2017-09-07T19:03:24-0400 Fluent::Logger[140204635656112](127.0.0.1:50563): Can't connect: Connection refused at t/10_truncate_buffet_at_overflow.t line 23.
2017-09-07T19:03:24-0400 Fluent::Logger[140204635656112](127.0.0.1:50563): Cannot send data: Connection is not available at /Users/hornenj/.cpan/build/Fluent-Logger-0.25-10/blib/lib/Fluent/Logger.pm line 325. at t/10_truncate_buffet_at_overflow.t line 23.
2017-09-07T19:03:24-0400 Fluent::Logger[140204635656112](127.0.0.1:50563): Can't connect: Connection refused at t/10_truncate_buffet_at_overflow.t line 23.
2017-09-07T19:03:24-0400 Fluent::Logger[140204635656112](127.0.0.1:50563): Cannot send data: Connection is not available at /Users/hornenj/.cpan/build/Fluent-Logger-0.25-10/blib/lib/Fluent/Logger.pm line 325. at t/10_truncate_buffet_at_overflow.t line 23.
2017-09-07T19:03:24-0400 Fluent::Logger[140204635656112](127.0.0.1:50563): Can't connect: Connection refused at t/10_truncate_buffet_at_overflow.t line 23.
2017-09-07T19:03:24-0400 Fluent::Logger[140204635656112](127.0.0.1:50563): Cannot send data: Connection is not available at /Users/hornenj/.cpan/build/Fluent-Logger-0.25-10/blib/lib/Fluent/Logger.pm line 325. at t/10_truncate_buffet_at_overflow.t line 23.
2017-09-07T19:03:24-0400 Fluent::Logger[140204635656112](127.0.0.1:50563): flushing pending data on close at t/10_truncate_buffet_at_overflow.t line 29.
2017-09-07T19:03:24-0400 Fluent::Logger[140204635656112](127.0.0.1:50563): Can't connect: Connection refused at t/10_truncate_buffet_at_overflow.t line 29.
2017-09-07T19:03:24-0400 Fluent::Logger[140204635656112](127.0.0.1:50563): Can't send pending data. LOST 7340179 bytes.: Connection is not available at /Users/hornenj/.cpan/build/Fluent-Logger-0.25-10/blib/lib/Fluent/Logger.pm line 325. at t/10_truncate_buffet_at_overflow.t line 29.
t/10_truncate_buffet_at_overflow.t .. ok
All tests successful.
Files=11, Tests=35, 5 wallclock secs ( 0.04 usr 0.03 sys + 0.94 cusr 0.46 csys = 1.47 CPU)
Result: PASS
------------------------------
PREREQUISITES
------------------------------
Prerequisite modules loaded:
requires:
Module Need Have
------------------------- ------- --------
Class::Tiny 0 1.004
Data::MessagePack 0.35_01 1.00
Data::MessagePack::Stream 0 1.01
Time::Piece 0 1.31
UUID::Tiny 0 1.04
build_requires:
Module Need Have
------------------------- ------- --------
Capture::Tiny 0 0.30
ExtUtils::MakeMaker 6.36 7.22
Path::Class 0 0.35
Test::More 0.88 1.302086
Test::SharedFork 0 0.34
Test::TCP 1.3 2.14
version 0.77 0.9912
configure_requires:
Module Need Have
------------------------- ------- --------
Module::Build::Tiny 0.035 0.039
------------------------------
ENVIRONMENT AND OTHER CONTEXT
------------------------------
Environment variables:
AUTOMATED_TESTING = 1
LANG = en_US.UTF-8
LC_ALL = POSIX
LDFLAGS =
PATH = /Users/hornenj/perl5/perlbrew/bin:/Users/hornenj/perl5/perlbrew/perls/perl-5.12.5/bin:/Users/hornenj/perl5/perlbrew/bin:/Users/hornenj/perl5/perlbrew/perls/perl-5.26.0/bin:/Users/hornenj/bin:/usr/bin:/bin:/usr/X11R6/bin
PERL5LIB = /Users/hornenj/.cpan/build/Data-MessagePack-Stream-1.01-10/blib/arch:/Users/hornenj/.cpan/build/Data-MessagePack-Stream-1.01-10/blib/lib:/Users/hornenj/.cpan/build/Data-MessagePack-1.00-10/blib/arch:/Users/hornenj/.cpan/build/Data-MessagePack-1.00-10/blib/lib
PERL5OPT =
PERL5_CPANPLUS_IS_RUNNING = 37751
PERL5_CPAN_IS_RUNNING = 37751
PERL5_MINISMOKEBOX = 0.68
PERLBREW_BASHRC_VERSION = 0.80
PERLBREW_HOME = /Users/hornenj/.perlbrew
PERLBREW_LIB =
PERLBREW_MANPATH = /Users/hornenj/perl5/perlbrew/perls/perl-5.12.5/man
PERLBREW_PATH = /Users/hornenj/perl5/perlbrew/bin:/Users/hornenj/perl5/perlbrew/perls/perl-5.12.5/bin
PERLBREW_PERL = perl-5.12.5
PERLBREW_ROOT = /Users/hornenj/perl5/perlbrew
PERLBREW_VERSION = 0.80
PERL_EXTUTILS_AUTOINSTALL = --defaultdeps
PERL_LOCAL_LIB_ROOT =
PERL_MM_USE_DEFAULT = 1
SHELL = /bin/bash
TERM = xterm-256color
TMPDIR = /var/folders/pz/pd7y1qjs6s3cbk170cw50fjc000c61/T/
Perl special variables (and OS-specific diagnostics, for MSWin32):
$^X = /Users/hornenj/perl5/perlbrew/perls/perl-5.12.5/bin/perl
$UID/$EUID = 12481 / 12481
$GID = 14 14 5344 37191 527 12 62 204 399 206 37223 241 223
$EGID = 14 14 5344 37191 527 12 62 204 399 206 37223 241 223
Perl module toolchain versions installed:
Module Have
------------------- --------
CPAN 2.16
CPAN::Meta 2.150005
Cwd 3.47
ExtUtils::CBuilder 0.280224
ExtUtils::Command 7.22
ExtUtils::Install 2.04
ExtUtils::MakeMaker 7.22
ExtUtils::Manifest 1.70
ExtUtils::ParseXS 3.30
File::Spec 3.47
JSON 2.93
JSON::PP 2.27400
Module::Build 0.4214
Module::Signature n/a
Parse::CPAN::Meta 1.4422
Test::Harness 3.36
Test::More 1.302086
YAML 1.23
YAML::Syck 1.30
version 0.9912
--
Summary of my perl5 (revision 5 version 12 subversion 5) configuration:
Platform:
osname=darwin, osvers=12.2.1, archname=darwin-2level
uname='darwin ncbimac2008.ncbi.nlm.nih.gov 12.2.1 darwin kernel version 12.2.1: thu oct 18 12:13:47 pdt 2012; root:xnu-2050.20.9~1release_x86_64 x86_64 '
config_args='-de -Dprefix=/Users/hornenj/perl5/perlbrew/perls/perl-5.12.5'
hint=recommended, useposix=true, d_sigaction=define
useithreads=undef, usemultiplicity=undef
useperlio=define, d_sfio=undef, uselargefiles=define, usesocks=undef
use64bitint=define, use64bitall=define, uselongdouble=undef
usemymalloc=n, bincompat5005=undef
Compiler:
cc='cc', ccflags ='-fno-common -DPERL_DARWIN -no-cpp-precomp -fno-strict-aliasing -pipe -fstack-protector',
optimize='-O3',
cppflags='-no-cpp-precomp -fno-common -DPERL_DARWIN -no-cpp-precomp -fno-strict-aliasing -pipe -fstack-protector'
ccversion='', gccversion='4.2.1 Compatible Apple LLVM 4.2 (clang-425.0.24)', gccosandvers=''
intsize=4, longsize=8, ptrsize=8, doublesize=8, byteorder=12345678
d_longlong=define, longlongsize=8, d_longdbl=define, longdblsize=16
ivtype='long', ivsize=8, nvtype='double', nvsize=8, Off_t='off_t', lseeksize=8
alignbytes=8, prototype=define
Linker and Libraries:
ld='env MACOSX_DEPLOYMENT_TARGET=10.3 cc', ldflags =' -fstack-protector'
libpth=/usr/lib
libs=-ldbm -ldl -lm -lutil -lc
perllibs=-ldl -lm -lutil -lc
libc=, so=dylib, useshrplib=false, libperl=libperl.a
gnulibc_version=''
Dynamic Linking:
dlsrc=dl_dlopen.xs, dlext=bundle, d_dlsymun=undef, ccdlflags=' '
cccdlflags=' ', lddlflags=' -bundle -undefined dynamic_lookup -fstack-protector'
Characteristics of this binary (from libperl):
Compile-time options: PERL_DONT_CREATE_GVSV PERL_MALLOC_WRAP USE_64_BIT_ALL
USE_64_BIT_INT USE_LARGE_FILES USE_PERLIO
USE_PERL_ATOF
Built under darwin
Compiled at Mar 5 2013 11:08:14
%ENV:
PERL5LIB="/Users/hornenj/.cpan/build/Data-MessagePack-Stream-1.01-10/blib/arch:/Users/hornenj/.cpan/build/Data-MessagePack-Stream-1.01-10/blib/lib:/Users/hornenj/.cpan/build/Data-MessagePack-1.00-10/blib/arch:/Users/hornenj/.cpan/build/Data-MessagePack-1.00-10/blib/lib"
PERL5OPT=""
PERL5_CPANPLUS_IS_RUNNING="37751"
PERL5_CPAN_IS_RUNNING="37751"
PERL5_MINISMOKEBOX="0.68"
PERLBREW_BASHRC_VERSION="0.80"
PERLBREW_HOME="/Users/hornenj/.perlbrew"
PERLBREW_LIB=""
PERLBREW_MANPATH="/Users/hornenj/perl5/perlbrew/perls/perl-5.12.5/man"
PERLBREW_PATH="/Users/hornenj/perl5/perlbrew/bin:/Users/hornenj/perl5/perlbrew/perls/perl-5.12.5/bin"
PERLBREW_PERL="perl-5.12.5"
PERLBREW_ROOT="/Users/hornenj/perl5/perlbrew"
PERLBREW_VERSION="0.80"
PERL_EXTUTILS_AUTOINSTALL="--defaultdeps"
PERL_LOCAL_LIB_ROOT=""
PERL_MM_USE_DEFAULT="1"
@INC:
/Users/hornenj/.cpan/build/Data-MessagePack-Stream-1.01-10/blib/arch
/Users/hornenj/.cpan/build/Data-MessagePack-Stream-1.01-10/blib/lib
/Users/hornenj/.cpan/build/Data-MessagePack-1.00-10/blib/arch
/Users/hornenj/.cpan/build/Data-MessagePack-1.00-10/blib/lib
/Users/hornenj/perl5/perlbrew/perls/perl-5.12.5/lib/site_perl/5.12.5/darwin-2level
/Users/hornenj/perl5/perlbrew/perls/perl-5.12.5/lib/site_perl/5.12.5
/Users/hornenj/perl5/perlbrew/perls/perl-5.12.5/lib/5.12.5/darwin-2level
/Users/hornenj/perl5/perlbrew/perls/perl-5.12.5/lib/5.12.5
.