Report for Regexp-Common-2017040401

Back
From: metabase:user:a6c5a7a0-319a-11e7-a7c0-d53811f75916
Subject: PASS Regexp-Common-2017040401 v5.24.1 GNU/Linux
Date: 2017-05-07T05:26:42Z

This distribution has been tested as part of the CPAN Testers
project, supporting the Perl programming language.  See
http://wiki.cpantesters.org/ for more information or email
questions to cpan-testers-discuss@perl.org


--
Dear Abigail,

This is a computer-generated report for Regexp-Common-2017040401
on perl 5.24.1, created by CPAN-Reporter-1.2018.

Thank you for uploading your work to CPAN.  Congratulations!
All tests were successful.

Sections of this report:

    * Tester comments
    * Program output
    * Prerequisites
    * Environment and other context

------------------------------
TESTER COMMENTS
------------------------------

Additional comments from tester:

this report is from an automated smoke testing program
and was not reviewed by a human for accuracy

------------------------------
PROGRAM OUTPUT
------------------------------

Output from '/usr/bin/make test':

PERL_DL_NONLAZY=1 "/opt/perl5/bin/perl" "-MExtUtils::Command::MM" "-MTest::Harness" "-e" "undef *Test::Harness::Switches; test_harness(0, 'blib/lib', 'blib/arch')" t/*.t t/*/*.t
t/comment/delimited.t ............ ok
t/comment/html.t ................. ok
t/comment/nested.t ............... ok
t/comment/pascal.t ............... ok
t/comment/single_line.t .......... ok
t/comment/single_or_multiline.t .. ok
t/delimited/101_delimited.t ...... skipped: Test::Regexp not found
t/delimited/111_bquoted.t ........ skipped: Test::Regexp not found
t/net/101_ipv4.t ................. ok
t/net/102_ipv4_strict.t .......... skipped: Test::Regexp not found
t/net/111_ipv6.t ................. ok
t/net/121_mac.t .................. ok
t/net/131_domain.t ............... ok
t/number/101_integer.t ........... skipped: Test::Regexp not found
t/number/111_integer_base.t ...... skipped: Test::Regexp not found
t/number/121_integer_places.t .... skipped: Test::Regexp not found
t/number/122_integer_places.t .... skipped: Test::Regexp not found
t/number/123_integer_places.t .... skipped: Test::Regexp not found
t/number/131_integer_sep.t ....... skipped: Test::Regexp not found
t/number/141_integer_group.t ..... skipped: Test::Regexp not found
t/number/701_squares.t ........... skipped: Test::Regexp not found
t/number/801_roman.t ............. skipped: Test::Regexp not found
t/number/decimal.t ............... ok
t/number/number.t ................ ok
t/SEN/usa_ssn.t .................. ok
t/test___luhn.t .................. ok
t/test_balanced.t ................ ok
t/test_bases.t ................... ok
t/test_bases_sep.t ............... ok
t/test_comments.t ................ ok
t/test_curry.t ................... ok
t/test_i.t ....................... ok
t/test_lingua_palindrome.t ....... ok
t/test_list.t .................... ok
t/test_no_import.t ............... ok
t/test_profanity.t ............... ok
t/test_sub.t ..................... ok
t/test_sub_named.t ............... ok
t/test_ws.t ...................... ok
t/URI/any.t ...................... ok
t/URI/fax.t ...................... ok
t/URI/file.t ..................... ok
t/URI/ftp.t ...................... ok
t/URI/gopher.t ................... ok
t/URI/http.t ..................... ok
t/URI/news.t ..................... ok
t/URI/nntp.t ..................... ok
t/URI/pop.t ...................... ok
t/URI/prospero.t ................. ok
t/URI/tel.t ...................... ok
t/URI/telnet.t ................... ok
t/URI/tv.t ....................... ok
t/URI/wais.t ..................... ok
t/zip/101_austria.t .............. skipped: Test::Regexp not found
t/zip/111_australia.t ............ skipped: Test::Regexp not found
t/zip/112_australia.t ............ skipped: Test::Regexp not found
t/zip/121_belgium.t .............. skipped: Test::Regexp not found
t/zip/131_denmark.t .............. skipped: Test::Regexp not found
t/zip/141_greenland.t ............ skipped: Test::Regexp not found
t/zip/151_norway.t ............... skipped: Test::Regexp not found
t/zip/161_liechtenstein.t ........ skipped: Test::Regexp not found
t/zip/171_switzerland.t .......... skipped: Test::Regexp not found
t/zip/181_italy.t ................ skipped: Test::Regexp not found
t/zip/191_germany.t .............. skipped: Test::Regexp not found
t/zip/201_luxembourg.t ........... skipped: Test::Regexp not found
t/zip/211_france.t ............... skipped: Test::Regexp not found
t/zip/221_monaco.t ............... skipped: Test::Regexp not found
t/zip/231_san-marino.t ........... skipped: Test::Regexp not found
t/zip/241_vatican-city.t ......... skipped: Test::Regexp not found
t/zip/netherlands.t .............. ok
t/zip/spain.t .................... ok
t/zip/us.t ....................... ok
t/zip/zip.t ...................... ok
All tests successful.
Files=73, Tests=149252, 56 wallclock secs (20.77 usr  0.43 sys + 45.92 cusr  3.28 csys = 70.40 CPU)
Result: PASS

------------------------------
PREREQUISITES
------------------------------

Prerequisite modules loaded:

requires:

    Module              Need Have    
    ------------------- ---- --------
    Config              0    5.024001
    perl                5.01 5.024001
    strict              0    1.11    
    vars                0    1.03    
    warnings            0    1.36    

build_requires:

    Module              Need Have    
    ------------------- ---- --------
    Config              0    5.024001
    strict              0    1.11    
    Test::More          0    1.302085
    vars                0    1.03    
    warnings            0    1.36    

configure_requires:

    Module              Need Have    
    ------------------- ---- --------
    Config              0    5.024001
    ExtUtils::MakeMaker 0    7.24    
    perl                5.01 5.024001
    strict              0    1.11    
    vars                0    1.03    
    warnings            0    1.36    

opt_build_requires:

    Module              Need Have    
    ------------------- ---- --------
  ! Test::Regexp        0    n/a     


------------------------------
ENVIRONMENT AND OTHER CONTEXT
------------------------------

Environment variables:

    AUTOMATED_TESTING = 1
    PATH = /opt/bin:/usr/bin:/bin:/usr/sbin:/sbin
    PERL5LIB = /var/tmp/CPAN/Pod-POM-2.01-0/blib/arch:/var/tmp/CPAN/Pod-POM-2.01-0/blib/lib:/var/tmp/CPAN/Parse-RecDescent-1.967015-0/blib/arch:/var/tmp/CPAN/Parse-RecDescent-1.967015-0/blib/lib:/var/tmp/CPAN/MouseX-StrictConstructor-0.02-0/blib/arch:/var/tmp/CPAN/MouseX-StrictConstructor-0.02-0/blib/lib:/var/tmp/CPAN/MouseX-NativeTraits-1.09-0/blib/arch:/var/tmp/CPAN/MouseX-NativeTraits-1.09-0/blib/lib:/var/tmp/CPAN/Any-Moose-0.27-0/blib/arch:/var/tmp/CPAN/Any-Moose-0.27-0/blib/lib:/var/tmp/CPAN/Config-Model-Tester-2.060-0/blib/arch:/var/tmp/CPAN/Config-Model-Tester-2.060-0/blib/lib:/var/tmp/CPAN/Test-Memory-Cycle-1.06-0/blib/arch:/var/tmp/CPAN/Test-Memory-Cycle-1.06-0/blib/lib:/var/tmp/CPAN/Devel-Cycle-1.12-0/blib/arch:/var/tmp/CPAN/Devel-Cycle-1.12-0/blib/lib:/var/tmp/CPAN/Test-File-Contents-0.23-0/blib/arch:/var/tmp/CPAN/Test-File-Contents-0.23-0/blib/lib:/var/tmp/CPAN/App-Cmd-0.331-0/blib/arch:/var/tmp/CPAN/App-Cmd-0.331-0/blib/lib:/var/tmp/CPAN/Mouse-v2.4.9-0/blib/arch:/var/tmp/CPAN/Mouse-v2.4.9-0/blib/lib:/var/tmp/CPAN/Hash-Merge-0.200-0/blib/arch:/var/tmp/CPAN/Hash-Merge-0.200-0/blib/lib:/var/tmp/CPAN/PadWalker-2.2-0/blib/arch:/var/tmp/CPAN/PadWalker-2.2-0/blib/lib
    PERL5OPT = 
    PERL5_CPANPLUS_IS_RUNNING = 19442
    PERL5_CPAN_IS_RUNNING = 19442
    PERL5_MINISMOKEBOX = 0.66
    PERL_EXTUTILS_AUTOINSTALL = --defaultdeps
    PERL_MM_USE_DEFAULT = 1
    TMPDIR = /var/tmp

Perl special variables (and OS-specific diagnostics, for MSWin32):

    $^X = /opt/perl5/bin/perl
    $UID/$EUID = 0 / 0
    $GID = 0 0 1 2 3 4 6 10 11 26 27
    $EGID = 0 0 1 2 3 4 6 10 11 26 27

Perl module toolchain versions installed:

    Module              Have    
    ------------------- --------
    CPAN                2.16    
    CPAN::Meta          2.150010
    Cwd                 3.63_01 
    ExtUtils::CBuilder  0.280225
    ExtUtils::Command   7.24    
    ExtUtils::Install   2.04    
    ExtUtils::MakeMaker 7.24    
    ExtUtils::Manifest  1.70    
    ExtUtils::ParseXS   3.31    
    File::Spec          3.63_01 
    JSON                2.90    
    JSON::PP            2.27400 
    Module::Build       0.4222  
    Module::Signature   n/a     
    Parse::CPAN::Meta   2.150010
    Test::Harness       3.39    
    Test::More          1.302085
    YAML                1.23    
    YAML::Syck          1.30    
    version             0.9918  


--

Summary of my perl5 (revision 5 version 24 subversion 1) configuration:
   
  Platform:
    osname=linux, osvers=4.10.12-aufs.aa, archname=x86_64-linux
    uname='linux 20921ceb4773 4.10.12-aufs.aa #1 smp thu apr 27 12:31:48 cdt 2017 x86_64 amd opteron(tm) processor 6172 authenticamd gnulinux '
    config_args='-de -Dprefix=/opt/perl5 -Dman1dir=none -Dman3dir=none -Doptimize=-O2 -pipe -march=native'
    hint=recommended, useposix=true, d_sigaction=define
    useithreads=undef, usemultiplicity=undef
    use64bitint=define, use64bitall=define, uselongdouble=undef
    usemymalloc=n, bincompat5005=undef
  Compiler:
    cc='cc', ccflags ='-fwrapv -fno-strict-aliasing -pipe -fstack-protector-strong -D_LARGEFILE_SOURCE -D_FILE_OFFSET_BITS=64',
    optimize='-O2 -pipe -march=native',
    cppflags='-fwrapv -fno-strict-aliasing -pipe -fstack-protector-strong'
    ccversion='', gccversion='5.4.0', gccosandvers=''
    intsize=4, longsize=8, ptrsize=8, doublesize=8, byteorder=12345678, doublekind=3
    d_longlong=define, longlongsize=8, d_longdbl=define, longdblsize=16, longdblkind=3
    ivtype='long', ivsize=8, nvtype='double', nvsize=8, Off_t='off_t', lseeksize=8
    alignbytes=8, prototype=define
  Linker and Libraries:
    ld='cc', ldflags =' -fstack-protector-strong -L/usr/local/lib'
    libpth=/usr/lib/gcc/x86_64-pc-linux-gnu/5.4.0/include-fixed /usr/lib /usr/local/lib /lib/../lib64 /usr/lib/../lib64 /lib /lib64 /usr/lib64 /usr/local/lib64
    libs=-lpthread -lnsl -lgdbm -ldb -ldl -lm -lcrypt -lutil -lc -lgdbm_compat
    perllibs=-lpthread -lnsl -ldl -lm -lcrypt -lutil -lc
    libc=libc-2.23.so, so=so, useshrplib=false, libperl=libperl.a
    gnulibc_version='2.23'
  Dynamic Linking:
    dlsrc=dl_dlopen.xs, dlext=so, d_dlsymun=undef, ccdlflags='-Wl,-E'
    cccdlflags='-fPIC', lddlflags='-shared -O2 -pipe -march=native -L/usr/local/lib -fstack-protector-strong'


Characteristics of this binary (from libperl): 
  Compile-time options: HAS_TIMES PERLIO_LAYERS PERL_COPY_ON_WRITE
                        PERL_DONT_CREATE_GVSV
                        PERL_HASH_FUNC_ONE_AT_A_TIME_HARD PERL_MALLOC_WRAP
                        PERL_PRESERVE_IVUV USE_64_BIT_ALL USE_64_BIT_INT
                        USE_LARGE_FILES USE_LOCALE USE_LOCALE_COLLATE
                        USE_LOCALE_CTYPE USE_LOCALE_NUMERIC USE_LOCALE_TIME
                        USE_PERLIO USE_PERL_ATOF
  Built under linux
  Compiled at May  5 2017 04:31:36
  %ENV:
    PERL5LIB="/var/tmp/CPAN/Pod-POM-2.01-0/blib/arch:/var/tmp/CPAN/Pod-POM-2.01-0/blib/lib:/var/tmp/CPAN/Parse-RecDescent-1.967015-0/blib/arch:/var/tmp/CPAN/Parse-RecDescent-1.967015-0/blib/lib:/var/tmp/CPAN/MouseX-StrictConstructor-0.02-0/blib/arch:/var/tmp/CPAN/MouseX-StrictConstructor-0.02-0/blib/lib:/var/tmp/CPAN/MouseX-NativeTraits-1.09-0/blib/arch:/var/tmp/CPAN/MouseX-NativeTraits-1.09-0/blib/lib:/var/tmp/CPAN/Any-Moose-0.27-0/blib/arch:/var/tmp/CPAN/Any-Moose-0.27-0/blib/lib:/var/tmp/CPAN/Config-Model-Tester-2.060-0/blib/arch:/var/tmp/CPAN/Config-Model-Tester-2.060-0/blib/lib:/var/tmp/CPAN/Test-Memory-Cycle-1.06-0/blib/arch:/var/tmp/CPAN/Test-Memory-Cycle-1.06-0/blib/lib:/var/tmp/CPAN/Devel-Cycle-1.12-0/blib/arch:/var/tmp/CPAN/Devel-Cycle-1.12-0/blib/lib:/var/tmp/CPAN/Test-File-Contents-0.23-0/blib/arch:/var/tmp/CPAN/Test-File-Contents-0.23-0/blib/lib:/var/tmp/CPAN/App-Cmd-0.331-0/blib/arch:/var/tmp/CPAN/App-Cmd-0.331-0/blib/lib:/var/tmp/CPAN/Mouse-v2.4.9-0/blib/arch:/var/tmp/CPAN/Mouse-v2.4.9-0/blib/lib:/var/tmp/CPAN/Hash-Merge-0.200-0/blib/arch:/var/tmp/CPAN/Hash-Merge-0.200-0/blib/lib:/var/tmp/CPAN/PadWalker-2.2-0/blib/arch:/var/tmp/CPAN/PadWalker-2.2-0/blib/lib"
    PERL5OPT=""
    PERL5_CPANPLUS_IS_RUNNING="19442"
    PERL5_CPAN_IS_RUNNING="19442"
    PERL5_MINISMOKEBOX="0.66"
    PERL_EXTUTILS_AUTOINSTALL="--defaultdeps"
    PERL_MM_USE_DEFAULT="1"
  @INC:
    /var/tmp/CPAN/Pod-POM-2.01-0/blib/arch
    /var/tmp/CPAN/Pod-POM-2.01-0/blib/lib
    /var/tmp/CPAN/Parse-RecDescent-1.967015-0/blib/arch
    /var/tmp/CPAN/Parse-RecDescent-1.967015-0/blib/lib
    /var/tmp/CPAN/MouseX-StrictConstructor-0.02-0/blib/arch
    /var/tmp/CPAN/MouseX-StrictConstructor-0.02-0/blib/lib
    /var/tmp/CPAN/MouseX-NativeTraits-1.09-0/blib/arch
    /var/tmp/CPAN/MouseX-NativeTraits-1.09-0/blib/lib
    /var/tmp/CPAN/Any-Moose-0.27-0/blib/arch
    /var/tmp/CPAN/Any-Moose-0.27-0/blib/lib
    /var/tmp/CPAN/Config-Model-Tester-2.060-0/blib/arch
    /var/tmp/CPAN/Config-Model-Tester-2.060-0/blib/lib
    /var/tmp/CPAN/Test-Memory-Cycle-1.06-0/blib/arch
    /var/tmp/CPAN/Test-Memory-Cycle-1.06-0/blib/lib
    /var/tmp/CPAN/Devel-Cycle-1.12-0/blib/arch
    /var/tmp/CPAN/Devel-Cycle-1.12-0/blib/lib
    /var/tmp/CPAN/Test-File-Contents-0.23-0/blib/arch
    /var/tmp/CPAN/Test-File-Contents-0.23-0/blib/lib
    /var/tmp/CPAN/App-Cmd-0.331-0/blib/arch
    /var/tmp/CPAN/App-Cmd-0.331-0/blib/lib
    /var/tmp/CPAN/Mouse-v2.4.9-0/blib/arch
    /var/tmp/CPAN/Mouse-v2.4.9-0/blib/lib
    /var/tmp/CPAN/Hash-Merge-0.200-0/blib/arch
    /var/tmp/CPAN/Hash-Merge-0.200-0/blib/lib
    /var/tmp/CPAN/PadWalker-2.2-0/blib/arch
    /var/tmp/CPAN/PadWalker-2.2-0/blib/lib
    /opt/perl5/lib/site_perl/5.24.1/x86_64-linux
    /opt/perl5/lib/site_perl/5.24.1
    /opt/perl5/lib/5.24.1/x86_64-linux
    /opt/perl5/lib/5.24.1
    .