DateTime-Format-Strptime v1.79 Perl 5 v5.26.1 x86_64-linux-thread-multi

Status
Pass
From
E. Choroba
Dist
DateTime-Format-Strptime v1.79
Platform
Perl 5 v5.26.1 x86_64-linux-thread-multi
Date
2021-10-31 21:16:02
ID
c0bb41da-3a8f-11ec-87cc-200f6c06bc9c
This distribution has been tested as part of the CPAN Testers
project, supporting the Perl programming language.  See
http://wiki.cpantesters.org/ for more information or email
questions to cpan-testers-discuss@perl.org


--
Dear Dave Rolsky,

This is a computer-generated report for DateTime-Format-Strptime-1.79
on perl 5.26.1, created by CPAN-Reporter-1.2018.

Thank you for uploading your work to CPAN.  Congratulations!
All tests were successful.

Sections of this report:

    * Tester comments
    * Program output
    * Prerequisites
    * Environment and other context

------------------------------
TESTER COMMENTS
------------------------------

Additional comments from tester:

none provided

------------------------------
PROGRAM OUTPUT
------------------------------

Output from '/usr/bin/make test':

PERL_DL_NONLAZY=1 "/usr/bin/perl" "-MExtUtils::Command::MM" "-MTest::Harness" "-e" "undef *Test::Harness::Switches; test_harness(0, 'blib/lib', 'blib/arch')" t/*.t
# 
# Versions for all modules listed in MYMETA.json (including optional ones):
# 
# === Configure Requires ===
# 
#     Module              Want Have
#     ------------------- ---- ----
#     ExtUtils::MakeMaker  any 7.24
# 
# === Configure Suggests ===
# 
#     Module      Want       Have
#     -------- ------- ----------
#     JSON::PP 2.27300 2.27400_02
# 
# === Build Requires ===
# 
#     Module              Want Have
#     ------------------- ---- ----
#     ExtUtils::MakeMaker  any 7.24
# 
# === Test Requires ===
# 
#     Module              Want     Have
#     ------------------- ---- --------
#     ExtUtils::MakeMaker  any     7.24
#     File::Spec           any     3.67
#     FindBin              any     1.51
#     Test::Builder        any 1.302183
#     Test::Fatal          any    0.016
#     Test::More          0.96 1.302183
#     Test::Warnings       any    0.030
#     lib                  any     0.64
#     utf8                 any     1.19
# 
# === Test Recommends ===
# 
#     Module         Want     Have
#     ---------- -------- --------
#     CPAN::Meta 2.120900 2.150010
# 
# === Runtime Requires ===
# 
#     Module                     Want  Have
#     -------------------------- ---- -----
#     Carp                        any  1.42
#     DateTime                   1.00  1.54
#     DateTime::Locale           1.30  1.33
#     DateTime::Locale::Base      any  1.33
#     DateTime::Locale::FromData  any  1.33
#     DateTime::TimeZone         2.09  2.51
#     Exporter                    any  5.72
#     Params::ValidationCompiler  any  0.30
#     Specio                     0.33  0.47
#     Specio::Declare             any  0.47
#     Specio::Exporter            any  0.47
#     Specio::Library::Builtins   any  0.47
#     Specio::Library::String     any  0.47
#     Try::Tiny                   any  0.30
#     constant                    any  1.33
#     parent                      any 0.236
#     strict                      any  1.11
#     warnings                    any  1.37
# 
t/00-report-prereqs.t .... ok
t/basic.t ................ ok
t/edge.t ................. ok
t/errors.t ............... ok
t/format-datetime.t ...... ok
t/format-with-locale.t ... ok
t/generated-locale-de.t .. ok
t/generated-locale-en.t .. ok
t/generated-locale-ga.t .. ok
t/generated-locale-pt.t .. ok
t/generated-locale-zh.t .. ok
t/import.t ............... ok
t/zones.t ................ ok
All tests successful.
Files=13, Tests=143,  4 wallclock secs ( 0.14 usr  0.01 sys +  3.57 cusr  0.26 csys =  3.98 CPU)
Result: PASS

------------------------------
PREREQUISITES
------------------------------

Prerequisite modules loaded:

requires:

    Module                     Need     Have    
    -------------------------- -------- --------
    Carp                       0        1.42    
    constant                   0        1.33    
    DateTime                   1.00     1.54    
    DateTime::Locale           1.30     1.33    
    DateTime::Locale::Base     0        1.33    
    DateTime::Locale::FromData 0        1.33    
    DateTime::TimeZone         2.09     2.51    
    Exporter                   0        5.72    
    Params::ValidationCompiler 0        0.30    
    parent                     0        0.236   
    Specio                     0.33     0.47    
    Specio::Declare            0        0.47    
    Specio::Exporter           0        0.47    
    Specio::Library::Builtins  0        0.47    
    Specio::Library::String    0        0.47    
    strict                     0        1.11    
    Try::Tiny                  0        0.30    
    warnings                   0        1.37    

build_requires:

    Module                     Need     Have    
    -------------------------- -------- --------
    ExtUtils::MakeMaker        0        7.24    
    File::Spec                 0        3.67    
    FindBin                    0        1.51    
    lib                        0        0.64    
    Test::Builder              0        1.302183
    Test::Fatal                0        0.016   
    Test::More                 0.96     1.302183
    Test::Warnings             0        0.030   
    utf8                       0        1.19    

configure_requires:

    Module                     Need     Have    
    -------------------------- -------- --------
    ExtUtils::MakeMaker        0        7.24    

opt_build_requires:

    Module                     Need     Have    
    -------------------------- -------- --------
    CPAN::Meta                 2.120900 2.150010


------------------------------
ENVIRONMENT AND OTHER CONTEXT
------------------------------

Environment variables:

    LANG = en_US.UTF-8
    NONINTERACTIVE_TESTING = 1
    PATH = /home/choroba/perl5/bin:/home/choroba/bin:/bin:/sbin:/usr/bin:/usr/local/bin:/usr/games:/usr/X11R6/bin:/opt/gnome/bin:.
    PERL5LIB = /home/choroba/perl5/lib/perl5/x86_64-linux-thread-multi:/home/choroba/perl5/lib/perl5
    PERL5OPT = 
    PERL5_CPANPLUS_IS_RUNNING = 5160
    PERL5_CPAN_IS_RUNNING = 5160
    PERL_LOCAL_LIB_ROOT = /home/choroba/perl5
    PERL_MB_OPT = --install_base /home/choroba/perl5
    PERL_MM_OPT = INSTALL_BASE=/home/choroba/perl5
    PERL_MM_USE_DEFAULT = 1
    PERL_USE_UNSAFE_INC = 1
    SHELL = /bin/bash
    TERM = xterm-256color

Perl special variables (and OS-specific diagnostics, for MSWin32):

    $^X = /usr/bin/perl
    $UID/$EUID = 1000 / 1000
    $GID = 100 26 100 458
    $EGID = 100 26 100 458

Perl module toolchain versions installed:

    Module              Have      
    ------------------- ----------
    CPAN                2.18      
    CPAN::Meta          2.150010  
    Cwd                 3.67      
    ExtUtils::CBuilder  0.280225  
    ExtUtils::Command   7.24      
    ExtUtils::Install   2.04      
    ExtUtils::MakeMaker 7.24      
    ExtUtils::Manifest  1.70      
    ExtUtils::ParseXS   3.34      
    File::Spec          3.67      
    JSON                n/a       
    JSON::PP            2.27400_02
    Module::Build       0.4231    
    Module::Signature   0.87      
    Parse::CPAN::Meta   2.150010  
    Test::Harness       3.38      
    Test::More          1.302183  
    YAML                1.30      
    YAML::Syck          n/a       
    version             0.9917    


--

Summary of my perl5 (revision 5 version 26 subversion 1) configuration:
   
  Platform:
    osname=linux
    osvers=5.3.18-lp152.19-default
    archname=x86_64-linux-thread-multi
    uname='reproducible'
    config_args='-ds -e -Dprefix=/usr -Dvendorprefix=/usr -Dinstallusrbinperl -Dusethreads -Di_db -Di_dbm -Di_ndbm -Di_gdbm -Dd_dbm_open -Duseshrplib=true -Doptimize=-fmessage-length=0 -grecord-gcc-switches -O2 -Wall -D_FORTIFY_SOURCE=2 -fstack-protector-strong -funwind-tables -fasynchronous-unwind-tables -fstack-clash-protection -g -Wall -pipe -Accflags=-DPERL_USE_SAFE_PUTENV -Dotherlibdirs=/usr/lib/perl5/site_perl -Dinc_version_list=none'
    hint=recommended
    useposix=true
    d_sigaction=define
    useithreads=define
    usemultiplicity=define
    use64bitint=define
    use64bitall=define
    uselongdouble=undef
    usemymalloc=n
    default_inc_excludes_dot=define
    bincompat5005=undef
  Compiler:
    cc='cc'
    ccflags ='-D_REENTRANT -D_GNU_SOURCE -DPERL_USE_SAFE_PUTENV -fwrapv -fno-strict-aliasing -pipe -fstack-protector-strong -D_LARGEFILE_SOURCE -D_FILE_OFFSET_BITS=64'
    optimize='-fmessage-length=0 -grecord-gcc-switches -O2 -Wall -D_FORTIFY_SOURCE=2 -fstack-protector-strong -funwind-tables -fasynchronous-unwind-tables -fstack-clash-protection -g -Wall -pipe'
    cppflags='-D_REENTRANT -D_GNU_SOURCE -DPERL_USE_SAFE_PUTENV -fwrapv -fno-strict-aliasing -pipe -fstack-protector-strong'
    ccversion=''
    gccversion='7.5.0'
    gccosandvers=''
    intsize=4
    longsize=8
    ptrsize=8
    doublesize=8
    byteorder=12345678
    doublekind=3
    d_longlong=define
    longlongsize=8
    d_longdbl=define
    longdblsize=16
    longdblkind=3
    ivtype='long'
    ivsize=8
    nvtype='double'
    nvsize=8
    Off_t='off_t'
    lseeksize=8
    alignbytes=8
    prototype=define
  Linker and Libraries:
    ld='cc'
    ldflags =' -L/usr/local/lib64 -fstack-protector-strong'
    libpth=/usr/local/lib /usr/lib64/gcc/x86_64-suse-linux/7/include-fixed /usr/lib64/gcc/x86_64-suse-linux/7/../../../../x86_64-suse-linux/lib /usr/lib /lib/../lib64 /usr/lib/../lib64 /lib /lib64 /usr/lib64 /usr/local/lib64
    libs=-lm -ldl -lcrypt -lpthread
    perllibs=-lm -ldl -lcrypt -lpthread
    libc=/lib64/libc-2.26.so
    so=so
    useshrplib=true
    libperl=libperl.so
    gnulibc_version='2.26'
  Dynamic Linking:
    dlsrc=dl_dlopen.xs
    dlext=so
    d_dlsymun=undef
    ccdlflags='-Wl,-E -Wl,-rpath,/usr/lib/perl5/5.26.1/x86_64-linux-thread-multi/CORE'
    cccdlflags='-fPIC'
    lddlflags='-shared -L/usr/local/lib64 -fstack-protector-strong'


Characteristics of this binary (from libperl): 
  Compile-time options:
    HAS_TIMES
    MULTIPLICITY
    PERLIO_LAYERS
    PERL_COPY_ON_WRITE
    PERL_DONT_CREATE_GVSV
    PERL_IMPLICIT_CONTEXT
    PERL_MALLOC_WRAP
    PERL_OP_PARENT
    PERL_PRESERVE_IVUV
    PERL_USE_SAFE_PUTENV
    USE_64_BIT_ALL
    USE_64_BIT_INT
    USE_ITHREADS
    USE_LARGE_FILES
    USE_LOCALE
    USE_LOCALE_COLLATE
    USE_LOCALE_CTYPE
    USE_LOCALE_NUMERIC
    USE_LOCALE_TIME
    USE_PERLIO
    USE_PERL_ATOF
    USE_REENTRANT_API
  Built under linux
  Compiled at Jun  9 2020 12:00:00
  %ENV:
    PERL5LIB="/home/choroba/perl5/lib/perl5/x86_64-linux-thread-multi:/home/choroba/perl5/lib/perl5"
    PERL5OPT=""
    PERL5_CPANPLUS_IS_RUNNING="5160"
    PERL5_CPAN_IS_RUNNING="5160"
    PERL_LOCAL_LIB_ROOT="/home/choroba/perl5"
    PERL_MB_OPT="--install_base /home/choroba/perl5"
    PERL_MM_OPT="INSTALL_BASE=/home/choroba/perl5"
    PERL_MM_USE_DEFAULT="1"
    PERL_USE_UNSAFE_INC="1"
  @INC:
    /home/choroba/perl5/lib/perl5/x86_64-linux-thread-multi
    /home/choroba/perl5/lib/perl5/x86_64-linux-thread-multi
    /home/choroba/perl5/lib/perl5
    /usr/lib/perl5/site_perl/5.26.1/x86_64-linux-thread-multi
    /usr/lib/perl5/site_perl/5.26.1
    /usr/lib/perl5/vendor_perl/5.26.1/x86_64-linux-thread-multi
    /usr/lib/perl5/vendor_perl/5.26.1
    /usr/lib/perl5/5.26.1/x86_64-linux-thread-multi
    /usr/lib/perl5/5.26.1
    /usr/lib/perl5/site_perl
    .