Back
From: metabase:user:cd035d39-6d5b-1014-ab3a-39c0c09612a1
Subject: PASS DateTime-Format-Strptime-1.73 v5.24.1
Date: 2017-02-13T14:23:57Z
This distribution has been tested as part of the CPAN Testers
project, supporting the Perl programming language. See
http://wiki.cpantesters.org/ for more information or email
questions to cpan-testers-discuss@perl.org
--
Dear Dave Rolsky,
This is a computer-generated report for DateTime-Format-Strptime-1.73
on perl 5.24.1, created by CPAN-Reporter-1.2018.
Thank you for uploading your work to CPAN. Congratulations!
All tests were successful.
Sections of this report:
* Tester comments
* Program output
* Prerequisites
* Environment and other context
------------------------------
TESTER COMMENTS
------------------------------
Additional comments from tester:
none provided
------------------------------
PROGRAM OUTPUT
------------------------------
Output from 'C:\strawberry\c\bin\dmake.EXE test':
"C:\Strawberry\perl\bin\perl.exe" "-MExtUtils::Command::MM" "-MTest::Harness" "-e" "undef *Test::Harness::Switches; test_harness(0, 'blib\lib', 'blib\arch')" t/*.t
#
# Versions for all modules listed in MYMETA.json (including optional ones):
#
# === Configure Requires ===
#
# Module Want Have
# ------------------- ---- ----
# ExtUtils::MakeMaker any 7.24
#
# === Configure Suggests ===
#
# Module Want Have
# -------- ------- -------
# JSON::PP 2.27300 2.27400
#
# === Build Requires ===
#
# Module Want Have
# ------------------- ---- ----
# ExtUtils::MakeMaker any 7.24
#
# === Test Requires ===
#
# Module Want Have
# ------------------- ---- --------
# ExtUtils::MakeMaker any 7.24
# File::Spec any 3.63_01
# Test::Builder any 1.302075
# Test::Fatal any 0.014
# Test::More 0.96 1.302075
# Test::Warnings any 0.026
# lib any 0.63
# utf8 any 1.19
#
# === Test Recommends ===
#
# Module Want Have
# ---------- -------- --------
# CPAN::Meta 2.120900 2.150010
#
# === Runtime Requires ===
#
# Module Want Have
# --------------------------- ---- -----
# Carp any 1.40
# DateTime 1.00 1.42
# DateTime::Locale 1.05 1.12
# DateTime::Locale::Base any 1.12
# DateTime::Locale::FromData any 1.12
# DateTime::TimeZone 2.09 2.09
# Exporter any 5.72
# Package::DeprecationManager 0.15 0.17
# Params::ValidationCompiler any 0.23
# Specio 0.33 0.34
# Specio::Declare any 0.34
# Specio::Exporter any 0.34
# Specio::Library::Builtins any 0.34
# Specio::Library::String any 0.34
# Try::Tiny any 0.28
# constant any 1.33
# parent any 0.236
# strict any 1.11
# warnings any 1.36
#
t/00-report-prereqs.t ... ok
t/basic.t ............... ok
Subroutine olson_version redefined at C:/Strawberry/perl/site/lib/DateTime/TimeZone/america/new_york.pm line 2008, <DATA> line 1.
Subroutine has_dst_changes redefined at C:/Strawberry/perl/site/lib/DateTime/TimeZone/america/new_york.pm line 2010, <DATA> line 1.
Subroutine _max_year redefined at C:/Strawberry/perl/site/lib/DateTime/TimeZone/america/new_york.pm line 2012, <DATA> line 1.
Subroutine _new_instance redefined at C:/Strawberry/perl/site/lib/DateTime/TimeZone/america/new_york.pm line 2014, <DATA> line 1.
Subroutine _last_offset redefined at C:/Strawberry/perl/site/lib/DateTime/TimeZone/america/new_york.pm line 2018, <DATA> line 1.
Subroutine _last_observance redefined at C:/Strawberry/perl/site/lib/DateTime/TimeZone/america/new_york.pm line 2056, <DATA> line 1.
Subroutine _rules redefined at C:/Strawberry/perl/site/lib/DateTime/TimeZone/america/new_york.pm line 2083, <DATA> line 1.
Subroutine olson_version redefined at C:/Strawberry/perl/site/lib/DateTime/TimeZone/amERicA/new_YORK.pm line 2008, <DATA> line 1.
Subroutine has_dst_changes redefined at C:/Strawberry/perl/site/lib/DateTime/TimeZone/amERicA/new_YORK.pm line 2010, <DATA> line 1.
Subroutine _max_year redefined at C:/Strawberry/perl/site/lib/DateTime/TimeZone/amERicA/new_YORK.pm line 2012, <DATA> line 1.
Subroutine _new_instance redefined at C:/Strawberry/perl/site/lib/DateTime/TimeZone/amERicA/new_YORK.pm line 2014, <DATA> line 1.
Subroutine _last_offset redefined at C:/Strawberry/perl/site/lib/DateTime/TimeZone/amERicA/new_YORK.pm line 2018, <DATA> line 1.
Subroutine _last_observance redefined at C:/Strawberry/perl/site/lib/DateTime/TimeZone/amERicA/new_YORK.pm line 2056, <DATA> line 1.
Subroutine _rules redefined at C:/Strawberry/perl/site/lib/DateTime/TimeZone/amERicA/new_YORK.pm line 2083, <DATA> line 1.
t/edge.t ................ ok
t/errors.t .............. ok
t/format-datetime.t ..... ok
t/format-with-locale.t .. ok
t/import.t .............. ok
t/locale-de.t ........... ok
t/locale-en.t ........... ok
t/locale-ga.t ........... ok
t/locale-pt.t ........... ok
t/locale-zh.t ........... ok
t/zones.t ............... ok
All tests successful.
Files=13, Tests=143, 11 wallclock secs ( 0.23 usr + 0.01 sys = 0.25 CPU)
Result: PASS
------------------------------
PREREQUISITES
------------------------------
Prerequisite modules loaded:
requires:
Module Need Have
--------------------------- -------- --------
Carp 0 1.40
constant 0 1.33
DateTime 1.00 1.42
DateTime::Locale 1.05 1.12
DateTime::Locale::Base 0 1.12
DateTime::Locale::FromData 0 1.12
DateTime::TimeZone 2.09 2.09
Exporter 0 5.72
Package::DeprecationManager 0.15 0.17
Params::ValidationCompiler 0 0.23
parent 0 0.236
Specio 0.33 0.34
Specio::Declare 0 0.34
Specio::Exporter 0 0.34
Specio::Library::Builtins 0 0.34
Specio::Library::String 0 0.34
strict 0 1.11
Try::Tiny 0 0.28
warnings 0 1.36
build_requires:
Module Need Have
--------------------------- -------- --------
ExtUtils::MakeMaker 0 7.24
File::Spec 0 3.63_01
lib 0 0.63
Test::Builder 0 1.302075
Test::Fatal 0 0.014
Test::More 0.96 1.302075
Test::Warnings 0 0.026
utf8 0 1.19
configure_requires:
Module Need Have
--------------------------- -------- --------
ExtUtils::MakeMaker 0 7.24
opt_build_requires:
Module Need Have
--------------------------- -------- --------
CPAN::Meta 2.120900 2.150010
------------------------------
ENVIRONMENT AND OTHER CONTEXT
------------------------------
Environment variables:
COMSPEC = C:\WINDOWS\system32\cmd.exe
NUMBER_OF_PROCESSORS = 4
PATH = C:\ProgramData\Oracle\Java\javapath;C:\Program Files (x86)\ActiveState Komodo Edit\;C:\WINDOWS\system32;C:\WINDOWS;C:\WINDOWS\System32\Wbem;C:\WINDOWS\System32\WindowsPowerShell\v1.0\;C:\Program Files (x86)\Common Files\GTK\2.0\bin;C:\Program Files (x86)\GNU\GnuPG;C:\Program Files (x86)\Skype\Phone\;C:\Program Files\TortoiseSVN\bin;C:\Program Files (x86)\ATI Technologies\ATI.ACE\Core-Static;C:\Program Files\Calibre2\;C:\Program Files (x86)\Gpg4win\..\GnuPG\bin;C:\Program Files\Git\cmd;C:\Program Files\TortoiseGit\bin;C:\Strawberry\c\bin;C:\Strawberry\perl\site\bin;C:\Strawberry\perl\bin;C:\Users\gregor\AppData\Local\Microsoft\WindowsApps;
PERL5LIB = C:\cpan\build\Moose-2.2001-0/blib/arch;C:\cpan\build\Moose-2.2001-0/blib/lib;C:\cpan\build\Specio-0.33-0/blib/arch;C:\cpan\build\Specio-0.33-0/blib/lib
PERL5OPT =
PERL5_CPANPLUS_IS_RUNNING = 996
PERL5_CPAN_IS_RUNNING = 996
PROCESSOR_IDENTIFIER = AMD64 Family 18 Model 1 Stepping 0, AuthenticAMD
TEMP = C:\Users\gregor\AppData\Local\Temp
Perl special variables (and OS-specific diagnostics, for MSWin32):
$^X = C:\Strawberry\perl\bin\perl.exe
$UID/$EUID = 0 / 0
$GID = 0
$EGID = 0
Win32::GetOSName = Win10
Win32::GetOSVersion = , 10, 0, 14393, 2, 0, 0, 256, 1
Win32::FsType = NTFS
Win32::IsAdminUser = 0
Perl module toolchain versions installed:
Module Have
------------------- --------
CPAN 2.14
CPAN::Meta 2.150010
Cwd 3.63_01
ExtUtils::CBuilder 0.280225
ExtUtils::Command 7.24
ExtUtils::Install 2.04
ExtUtils::MakeMaker 7.24
ExtUtils::Manifest 1.70
ExtUtils::ParseXS 3.31
File::Spec 3.63_01
JSON 2.90
JSON::PP 2.27400
Module::Build 0.4220
Module::Signature 0.81
Parse::CPAN::Meta 2.150010
Test::Harness 3.36_01
Test::More 1.302075
YAML 1.21
YAML::Syck n/a
version 0.9917
--
Summary of my perl5 (revision 5 version 24 subversion 1) configuration:
Platform:
osname=MSWin32, osvers=6.3, archname=MSWin32-x64-multi-thread
uname='Win32 strawberry-perl 5.24.1.1 #1 Mon Jan 16 02:00:29 2017 x64'
config_args='undef'
hint=recommended, useposix=true, d_sigaction=undef
useithreads=define, usemultiplicity=define
use64bitint=define, use64bitall=undef, uselongdouble=undef
usemymalloc=n, bincompat5005=undef
Compiler:
cc='gcc', ccflags =' -s -O2 -DWIN32 -DWIN64 -DCONSERVATIVE -DPERL_TEXTMODE_SCRIPTS -DPERL_IMPLICIT_CONTEXT -DPERL_IMPLICIT_SYS -fwrapv -fno-strict-aliasing -mms-bitfields',
optimize='-s -O2',
cppflags='-DWIN32'
ccversion='', gccversion='4.9.2', gccosandvers=''
intsize=4, longsize=4, ptrsize=8, doublesize=8, byteorder=12345678, doublekind=3
d_longlong=define, longlongsize=8, d_longdbl=define, longdblsize=16, longdblkind=3
ivtype='long long', ivsize=8, nvtype='double', nvsize=8, Off_t='long long', lseeksize=8
alignbytes=8, prototype=define
Linker and Libraries:
ld='g++', ldflags ='-s -L"C:\STRAWB~1\perl\lib\CORE" -L"C:\STRAWB~1\c\lib"'
libpth=C:\STRAWB~1\c\lib C:\STRAWB~1\c\x86_64-w64-mingw32\lib C:\STRAWB~1\c\lib\gcc\x86_64-w64-mingw32\4.9.2
libs=-lmoldname -lkernel32 -luser32 -lgdi32 -lwinspool -lcomdlg32 -ladvapi32 -lshell32 -lole32 -loleaut32 -lnetapi32 -luuid -lws2_32 -lmpr -lwinmm -lversion -lodbc32 -lodbccp32 -lcomctl32
perllibs=-lmoldname -lkernel32 -luser32 -lgdi32 -lwinspool -lcomdlg32 -ladvapi32 -lshell32 -lole32 -loleaut32 -lnetapi32 -luuid -lws2_32 -lmpr -lwinmm -lversion -lodbc32 -lodbccp32 -lcomctl32
libc=, so=dll, useshrplib=true, libperl=libperl524.a
gnulibc_version=''
Dynamic Linking:
dlsrc=dl_win32.xs, dlext=xs.dll, d_dlsymun=undef, ccdlflags=' '
cccdlflags=' ', lddlflags='-mdll -s -L"C:\STRAWB~1\perl\lib\CORE" -L"C:\STRAWB~1\c\lib"'
Characteristics of this binary (from libperl):
Compile-time options: HAS_TIMES HAVE_INTERP_INTERN MULTIPLICITY
PERLIO_LAYERS PERL_COPY_ON_WRITE
PERL_DONT_CREATE_GVSV
PERL_HASH_FUNC_ONE_AT_A_TIME_HARD
PERL_IMPLICIT_CONTEXT PERL_IMPLICIT_SYS
PERL_MALLOC_WRAP PERL_PRESERVE_IVUV USE_64_BIT_INT
USE_ITHREADS USE_LARGE_FILES USE_LOCALE
USE_LOCALE_COLLATE USE_LOCALE_CTYPE
USE_LOCALE_NUMERIC USE_LOCALE_TIME USE_PERLIO
USE_PERL_ATOF
Built under MSWin32
Compiled at Jan 16 2017 02:12:13
%ENV:
PERL5LIB="C:\cpan\build\Moose-2.2001-0/blib/arch;C:\cpan\build\Moose-2.2001-0/blib/lib;C:\cpan\build\Specio-0.33-0/blib/arch;C:\cpan\build\Specio-0.33-0/blib/lib"
PERL5_CPANPLUS_IS_RUNNING="996"
PERL5_CPAN_IS_RUNNING="996"
@INC:
C:\cpan\build\Moose-2.2001-0/blib/arch
C:\cpan\build\Moose-2.2001-0/blib/lib
C:\cpan\build\Specio-0.33-0/blib/arch
C:\cpan\build\Specio-0.33-0/blib/lib
C:/Strawberry/perl/site/lib/MSWin32-x64-multi-thread
C:/Strawberry/perl/site/lib
C:/Strawberry/perl/vendor/lib
C:/Strawberry/perl/lib
.