Report for Filter-Crypto-2.07

Back
From: metabase:user:320bfe00-2aae-11df-837a-5e0a49663a4f
Subject: PASS Filter-Crypto-2.07 v5.21.10 GNU/Linux
Date: 2015-03-19T05:06:51Z

This distribution has been tested as part of the CPAN Testers
project, supporting the Perl programming language.  See
http://wiki.cpantesters.org/ for more information or email
questions to cpan-testers-discuss@perl.org


--
Dear Steve Hay,

This is a computer-generated report for Filter-Crypto-2.07
on perl 5.21.10, created by CPAN-Reporter-1.2011.

Thank you for uploading your work to CPAN.  Congratulations!
All tests were successful.

Sections of this report:

    * Tester comments
    * Program output
    * Prerequisites
    * Environment and other context

------------------------------
TESTER COMMENTS
------------------------------

Additional comments from tester:

this report is from an automated smoke testing program
and was not reviewed by a human for accuracy

------------------------------
PROGRAM OUTPUT
------------------------------

Output from '/usr/bin/make test':

make[1]: Entering directory '/tmp/loop_over_bdir-10246-aWM8yw/Filter-Crypto-2.07-oy0qCd/CryptFile'
Running Mkbootstrap for Filter::Crypto::CryptFile ()
chmod 644 "CryptFile.bs"
Manifying 1 pod document
make[1]: Leaving directory '/tmp/loop_over_bdir-10246-aWM8yw/Filter-Crypto-2.07-oy0qCd/CryptFile'
make[1]: Entering directory '/tmp/loop_over_bdir-10246-aWM8yw/Filter-Crypto-2.07-oy0qCd/Decrypt'
Running Mkbootstrap for Filter::Crypto::Decrypt ()
chmod 644 "Decrypt.bs"
Manifying 1 pod document
make[1]: Leaving directory '/tmp/loop_over_bdir-10246-aWM8yw/Filter-Crypto-2.07-oy0qCd/Decrypt'
PERL_DL_NONLAZY=1 "/tmp/basesmoker-reloperl-5gTJ/bin/perl" "-MExtUtils::Command::MM" "-MTest::Harness" "-e" "undef *Test::Harness::Switches; test_harness(0, 'blib/lib', 'blib/arch')" t/*.t
t/01_imports_01.t .... ok
t/01_imports_02.t .... ok
t/01_imports_03.t .... ok
t/01_imports_04.t .... ok
t/02_function.t ...... ok
t/03_script.t ........ ok
t/04_par.t ........... skipped: PAR::Filter required to test PAR::Filter::Crypto
t/05_errstr.t ........ ok
t/06_changes.t ....... skipped: Author testing only
t/07_critic.t ........ skipped: Author testing only
t/08_pod.t ........... skipped: Author testing only
t/09_pod_coverage.t .. skipped: Author testing only
All tests successful.
Files=12, Tests=432, 16 wallclock secs ( 0.09 usr  0.09 sys + 10.88 cusr  3.36 csys = 14.42 CPU)
Result: PASS

------------------------------
PREREQUISITES
------------------------------

Prerequisite modules loaded:

requires:

    Module                Need     Have     
    --------------------- -------- ---------
    Carp                  0        1.35     
    Config                0        5.021010 
    constant              0        1.33     
    Cwd                   0        3.55     
    Exporter              0        5.72     
    ExtUtils::MakeMaker   6.66     7.04     
    Fcntl                 0        1.13     
    File::Basename        0        2.85     
    File::Copy            0        2.30     
    File::Find            0        1.29     
    File::Spec::Functions 0        3.55     
    File::Temp            0        0.2304   
    Getopt::Long          0        2.45     
    perl                  5.008001 5.021010 
    Pod::Usage            1.15     1.67     
    Scalar::Util          0        1.41     
    strict                0        1.09     
    Text::ParseWords      0        3.30     
    Text::Wrap            0        2013.0523
    warnings              0        1.31     
    XSLoader              0        0.20     

build_requires:

    Module                Need     Have     
    --------------------- -------- ---------
    blib                  0        1.06     
    ExtUtils::MakeMaker   0        7.04     
    FindBin               0        1.51     
    Test::More            0        1.001014 

configure_requires:

    Module                Need     Have     
    --------------------- -------- ---------
    Carp                  0        1.35     
    Config                0        5.021010 
    constant              0        1.33     
    Cwd                   0        3.55     
    ExtUtils::MakeMaker   6.66     7.04     
    Fcntl                 0        1.13     
    File::Basename        0        2.85     
    File::Copy            0        2.30     
    File::Spec::Functions 0        3.55     
    Getopt::Long          0        2.45     
    perl                  5.008001 5.021010 
    Pod::Usage            1.15     1.67     
    strict                0        1.09     
    Text::Wrap            0        2013.0523
    warnings              0        1.31     


------------------------------
ENVIRONMENT AND OTHER CONTEXT
------------------------------

Environment variables:

    AUTOMATED_TESTING = 1
    LANG = en_US.UTF-8
    LANGUAGE = en_US:en
    PATH = /home/sand/bin:/usr/local/bin:/usr/bin:/bin:/usr/games:/usr/local/perl/bin:/usr/X11/bin:/sbin:/usr/sbin
    PERL5LIB = 
    PERL5OPT = 
    PERL5_CPANPLUS_IS_RUNNING = 15907
    PERL5_CPAN_IS_RUNNING = 15907
    PERL_MM_USE_DEFAULT = 1
    SHELL = /usr/bin/zsh
    TERM = screen

Perl special variables (and OS-specific diagnostics, for MSWin32):

    $^X = /tmp/basesmoker-reloperl-5gTJ/bin/perl
    $UID/$EUID = 1005 / 1005
    $GID = 1005 1005
    $EGID = 1005 1005

Perl module toolchain versions installed:

    Module              Have    
    ------------------- --------
    CPAN                2.10    
    CPAN::Meta          2.150001
    Cwd                 3.55    
    ExtUtils::CBuilder  0.280221
    ExtUtils::Command   1.20    
    ExtUtils::Install   2.04    
    ExtUtils::MakeMaker 7.04    
    ExtUtils::Manifest  1.70    
    ExtUtils::ParseXS   3.27    
    File::Spec          3.55    
    JSON                2.90    
    JSON::PP            2.27300 
    Module::Build       0.4211  
    Module::Signature   0.73    
    Parse::CPAN::Meta   1.4414  
    Test::Harness       3.35    
    Test::More          1.001014
    YAML                1.14    
    YAML::Syck          1.29    
    version             0.9909  


--

Summary of my perl5 (revision 5 version 21 subversion 10) configuration:
  Commit id: d71230e7060d58db20a9853f2cbd19f150b65542
  Platform:
    osname=linux, osvers=3.16.0-4-amd64, archname=x86_64-linux
    uname='linux k83 3.16.0-4-amd64 #1 smp debian 3.16.7-ckt7-1 (2015-03-01) x86_64 gnulinux '
    config_args='-Dprefix=/home/sand/src/perl/repoperls/installed-perls/perl/v5.21.9-293-gd71230e/165a -Dmyhostname=k83 -Dinstallusrbinperl=n -Uversiononly -Dusedevel -des -Ui_db -Uuseithreads -Uuselongdouble -DDEBUGGING=-g'
    hint=recommended, useposix=true, d_sigaction=define
    useithreads=undef, usemultiplicity=undef
    use64bitint=define, use64bitall=define, uselongdouble=undef
    usemymalloc=n, bincompat5005=undef
  Compiler:
    cc='cc', ccflags ='-fwrapv -fno-strict-aliasing -pipe -fstack-protector-strong -I/usr/local/include -D_LARGEFILE_SOURCE -D_FILE_OFFSET_BITS=64 -D_FORTIFY_SOURCE=2',
    optimize='-O2 -g',
    cppflags='-fwrapv -fno-strict-aliasing -pipe -fstack-protector-strong -I/usr/local/include'
    ccversion='', gccversion='4.9.2', gccosandvers=''
    intsize=4, longsize=8, ptrsize=8, doublesize=8, byteorder=12345678, doublekind=3
    d_longlong=define, longlongsize=8, d_longdbl=define, longdblsize=16, longdblkind=3
    ivtype='long', ivsize=8, nvtype='double', nvsize=8, Off_t='off_t', lseeksize=8
    alignbytes=8, prototype=define
  Linker and Libraries:
    ld='cc', ldflags =' -fstack-protector-strong -L/usr/local/lib'
    libpth=/usr/local/lib /usr/lib/gcc/x86_64-linux-gnu/4.9/include-fixed /usr/include/x86_64-linux-gnu /usr/lib /lib/x86_64-linux-gnu /lib/../lib /usr/lib/x86_64-linux-gnu /usr/lib/../lib /lib
    libs=-lpthread -lnsl -lgdbm -ldb -ldl -lm -lcrypt -lutil -lc -lgdbm_compat
    perllibs=-lpthread -lnsl -ldl -lm -lcrypt -lutil -lc
    libc=libc-2.19.so, so=so, useshrplib=false, libperl=libperl.a
    gnulibc_version='2.19'
  Dynamic Linking:
    dlsrc=dl_dlopen.xs, dlext=so, d_dlsymun=undef, ccdlflags='-Wl,-E'
    cccdlflags='-fPIC', lddlflags='-shared -O2 -g -L/usr/local/lib -fstack-protector-strong'


Characteristics of this binary (from libperl): 
  Compile-time options: HAS_TIMES PERLIO_LAYERS PERL_DONT_CREATE_GVSV
                        PERL_HASH_FUNC_ONE_AT_A_TIME_HARD PERL_MALLOC_WRAP
                        PERL_NEW_COPY_ON_WRITE PERL_PRESERVE_IVUV
                        PERL_USE_DEVEL USE_64_BIT_ALL USE_64_BIT_INT
                        USE_LARGE_FILES USE_LOCALE USE_LOCALE_COLLATE
                        USE_LOCALE_CTYPE USE_LOCALE_NUMERIC USE_LOCALE_TIME
                        USE_PERLIO USE_PERL_ATOF
  Built under linux
  Compiled at Mar 18 2015 18:37:02
  %ENV:
    PERL5LIB=""
    PERL5OPT=""
    PERL5_CPANPLUS_IS_RUNNING="15907"
    PERL5_CPAN_IS_RUNNING="15907"
    PERL_MM_USE_DEFAULT="1"
  @INC:
    /home/sand/src/perl/repoperls/installed-perls/perl/v5.21.9-293-gd71230e/165a/lib/site_perl/5.21.10/x86_64-linux
    /home/sand/src/perl/repoperls/installed-perls/perl/v5.21.9-293-gd71230e/165a/lib/site_perl/5.21.10
    /home/sand/src/perl/repoperls/installed-perls/perl/v5.21.9-293-gd71230e/165a/lib/5.21.10/x86_64-linux
    /home/sand/src/perl/repoperls/installed-perls/perl/v5.21.9-293-gd71230e/165a/lib/5.21.10
    .