Web-Scraper v0.38 Perl 5 v5.16.2 darwin-2level
- Status
- Pass
- From
- Nigel Horne
- Dist
-
Web-Scraper v0.38
- Platform
- Perl 5 v5.16.2 darwin-2level
- Date
- 2017-10-29 07:57:04
- ID
- c0cc1ebc-bc7e-11e7-a661-868bdb1c1d4b
This distribution has been tested as part of the CPAN Testers
project, supporting the Perl programming language. See
http://wiki.cpantesters.org/ for more information or email
questions to cpan-testers-discuss@perl.org
--
Dear Tatsuhiko Miyagawa,
This is a computer-generated report for Web-Scraper-0.38
on perl 5.16.2, created by CPAN-Reporter-1.2018.
Thank you for uploading your work to CPAN. Congratulations!
All tests were successful.
Sections of this report:
* Tester comments
* Program output
* Prerequisites
* Environment and other context
------------------------------
TESTER COMMENTS
------------------------------
Additional comments from tester:
this report is from an automated smoke testing program
and was not reviewed by a human for accuracy
------------------------------
PROGRAM OUTPUT
------------------------------
Output from './Build test':
t/00_compile.t .......... ok
t/01_process.t .......... ok
t/02_process_multi.t .... ok
t/03_scraper_nest.t ..... ok
t/04_callback.t ......... ok
t/05_process_first.t .... ok
t/06_define.t ........... ok
t/07-live.t ............. skipped: LIVE_TEST not enabled
t/08-leak.t ............. skipped: LEAK_TEST is not defined
t/09-process_hash.t ..... ok
t/11_absolute.t ......... ok
t/12_html.t ............. ok
t/13_textnode.t ......... ok
t/14_absolute_nested.t .. ok
t/15_absolute_hash.t .... ok
t/16_filter.t ........... ok
t/17_filter_loop.t ...... ok
t/18_http_response.t .... skipped: LIVE_TEST not enabled
t/19_decode_content.t ... skipped: LIVE_TEST not enabled
t/20_comment_nodes.t .... skipped: Please upgrade HTML::TreeBuilder::XPath and HTML::TreeBuilder::LibXML modules for comment nodes supporting
t/21_html5.t ............ ok
t/22_filter_regex.t ..... ok
t/redefine.t ............ ok
t/release-pod-syntax.t .. skipped: these tests are for release candidate testing
t/xml-simple.t .......... skipped: Test requires module 'HTML::TreeBuilder::LibXML' but it's not found
All tests successful.
Files=25, Tests=42, 2 wallclock secs ( 0.05 usr 0.04 sys + 1.75 cusr 0.56 csys = 2.40 CPU)
Result: PASS
------------------------------
PREREQUISITES
------------------------------
Prerequisite modules loaded:
requires:
Module Need Have
------------------------ -------- --------
HTML::Entities 0 3.69
HTML::Selector::XPath 0.03 0.23
HTML::Tagset 0 3.20
HTML::TreeBuilder 3.23 5.03
HTML::TreeBuilder::XPath 0.08 0.14
LWP 5.827 6.27
perl 5.008001 5.016002
Scalar::Util 0 1.47
UNIVERSAL::require 0 0.18
URI 0 1.69
XML::XPathEngine 0.08 0.14
YAML 0 1.23
build_requires:
Module Need Have
------------------------ -------- --------
ExtUtils::MakeMaker 6.59 7.30
Test::Base 0 0.88
Test::More 0 1.302106
Test::Requires 0 0.10
configure_requires:
Module Need Have
------------------------ -------- --------
Module::Build::Tiny 0.039 0.039
------------------------------
ENVIRONMENT AND OTHER CONTEXT
------------------------------
Environment variables:
AUTOMATED_TESTING = 1
LANG = en_US.UTF-8
LC_ALL = POSIX
PATH = /Users/hornenj/perl5/perlbrew/bin:/Users/hornenj/perl5/perlbrew/perls/perl-5.16.2/bin:/Users/hornenj/bin:/sw/bin:/Users/hornenj/perl5/perlbrew/bin:/usr/bin:/bin:/usr/X11R6/bin
PERL5LIB = /Users/hornenj/.cpan/build/HTML-Selector-XPath-0.23-1/blib/arch:/Users/hornenj/.cpan/build/HTML-Selector-XPath-0.23-1/blib/lib:/Users/hornenj/.cpan/build/Novel-Robot-Browser-0.20-0/blib/arch:/Users/hornenj/.cpan/build/Novel-Robot-Browser-0.20-0/blib/lib:/Users/hornenj/.cpan/build/Term-ProgressBar-2.21-0/blib/arch:/Users/hornenj/.cpan/build/Term-ProgressBar-2.21-0/blib/lib:/Users/hornenj/.cpan/build/Class-MethodMaker-2.24-0/blib/arch:/Users/hornenj/.cpan/build/Class-MethodMaker-2.24-0/blib/lib:/Users/hornenj/.cpan/build/Parallel-Loops-0.08-0/blib/arch:/Users/hornenj/.cpan/build/Parallel-Loops-0.08-0/blib/lib:/Users/hornenj/.cpan/build/Encode-Detect-CJK-2.0.2-0/blib/arch:/Users/hornenj/.cpan/build/Encode-Detect-CJK-2.0.2-0/blib/lib:/Users/hornenj/.cpan/build/Data-MessagePack-1.00-0/blib/arch:/Users/hornenj/.cpan/build/Data-MessagePack-1.00-0/blib/lib
PERL5OPT =
PERL5_CPANPLUS_IS_RUNNING = 25578
PERL5_CPAN_IS_RUNNING = 25578
PERL5_MINISMOKEBOX = 0.68
PERLBREW_BASHRC_VERSION = 0.80
PERLBREW_HOME = /Users/hornenj/.perlbrew
PERLBREW_LIB =
PERLBREW_MANPATH = /Users/hornenj/perl5/perlbrew/perls/perl-5.16.2/man
PERLBREW_PATH = /Users/hornenj/perl5/perlbrew/bin:/Users/hornenj/perl5/perlbrew/perls/perl-5.16.2/bin
PERLBREW_PERL = perl-5.16.2
PERLBREW_ROOT = /Users/hornenj/perl5/perlbrew
PERLBREW_VERSION = 0.80
PERL_EXTUTILS_AUTOINSTALL = --defaultdeps
PERL_LOCAL_LIB_ROOT =
PERL_MM_USE_DEFAULT = 1
SHELL = /bin/bash
TERM = xterm-256color
TMPDIR = /var/folders/pz/pd7y1qjs6s3cbk170cw50fjc000c61/T/
Perl special variables (and OS-specific diagnostics, for MSWin32):
$^X = /Users/hornenj/perl5/perlbrew/perls/perl-5.16.2/bin/perl
$UID/$EUID = 12481 / 12481
$GID = 14 14 5344 37191 527 12 62 204 399 206 37223 241 223
$EGID = 14 14 5344 37191 527 12 62 204 399 206 37223 241 223
Perl module toolchain versions installed:
Module Have
------------------- --------
CPAN 2.16
CPAN::Meta 2.150005
Cwd 3.47
ExtUtils::CBuilder 0.280224
ExtUtils::Command 7.30
ExtUtils::Install 2.06
ExtUtils::MakeMaker 7.30
ExtUtils::Manifest 1.70
ExtUtils::ParseXS 3.30
File::Spec 3.47
JSON 2.93
JSON::PP 2.27400
Module::Build 0.4214
Module::Signature n/a
Parse::CPAN::Meta 1.4422
Test::Harness 3.36
Test::More 1.302106
YAML 1.23
YAML::Syck 1.30
version 0.9912
--
Summary of my perl5 (revision 5 version 16 subversion 2) configuration:
Platform:
osname=darwin, osvers=12.2.1, archname=darwin-2level
uname='darwin ncbimac2008.ncbi.nlm.nih.gov 12.2.1 darwin kernel version 12.2.1: thu oct 18 12:13:47 pdt 2012; root:xnu-2050.20.9~1release_x86_64 x86_64 '
config_args='-de -Dprefix=/Users/hornenj/perl5/perlbrew/perls/perl-5.16.2'
hint=previous, useposix=true, d_sigaction=define
useithreads=undef, usemultiplicity=undef
useperlio=define, d_sfio=undef, uselargefiles=define, usesocks=undef
use64bitint=define, use64bitall=define, uselongdouble=undef
usemymalloc=n, bincompat5005=undef
Compiler:
cc='cc', ccflags ='-fno-common -DPERL_DARWIN -fno-strict-aliasing -pipe -fstack-protector',
optimize='-O3',
cppflags='-fno-common -DPERL_DARWIN -fno-strict-aliasing -pipe -fstack-protector -fno-common -DPERL_DARWIN -fno-strict-aliasing -pipe -fstack-protector'
ccversion='', gccversion='4.2.1 Compatible Apple LLVM 4.2 (clang-425.0.24)', gccosandvers=''
intsize=4, longsize=8, ptrsize=8, doublesize=8, byteorder=12345678
d_longlong=define, longlongsize=8, d_longdbl=define, longdblsize=16
ivtype='long', ivsize=8, nvtype='double', nvsize=8, Off_t='off_t', lseeksize=8
alignbytes=8, prototype=define
Linker and Libraries:
ld='env MACOSX_DEPLOYMENT_TARGET=10.3 cc', ldflags =' -fstack-protector'
libpth=/usr/lib
libs=-ldbm -ldl -lm -lutil -lc
perllibs=-ldl -lm -lutil -lc
libc=, so=dylib, useshrplib=false, libperl=libperl.a
gnulibc_version=''
Dynamic Linking:
dlsrc=dl_dlopen.xs, dlext=bundle, d_dlsymun=undef, ccdlflags=' '
cccdlflags=' ', lddlflags=' -bundle -undefined dynamic_lookup -fstack-protector'
Characteristics of this binary (from libperl):
Compile-time options: HAS_TIMES PERLIO_LAYERS PERL_DONT_CREATE_GVSV
PERL_MALLOC_WRAP PERL_PRESERVE_IVUV USE_64_BIT_ALL
USE_64_BIT_INT USE_LARGE_FILES USE_LOCALE
USE_LOCALE_COLLATE USE_LOCALE_CTYPE
USE_LOCALE_NUMERIC USE_PERLIO USE_PERL_ATOF
Built under darwin
Compiled at Mar 4 2013 16:03:07
%ENV:
PERL5LIB="/Users/hornenj/.cpan/build/HTML-Selector-XPath-0.23-1/blib/arch:/Users/hornenj/.cpan/build/HTML-Selector-XPath-0.23-1/blib/lib:/Users/hornenj/.cpan/build/Novel-Robot-Browser-0.20-0/blib/arch:/Users/hornenj/.cpan/build/Novel-Robot-Browser-0.20-0/blib/lib:/Users/hornenj/.cpan/build/Term-ProgressBar-2.21-0/blib/arch:/Users/hornenj/.cpan/build/Term-ProgressBar-2.21-0/blib/lib:/Users/hornenj/.cpan/build/Class-MethodMaker-2.24-0/blib/arch:/Users/hornenj/.cpan/build/Class-MethodMaker-2.24-0/blib/lib:/Users/hornenj/.cpan/build/Parallel-Loops-0.08-0/blib/arch:/Users/hornenj/.cpan/build/Parallel-Loops-0.08-0/blib/lib:/Users/hornenj/.cpan/build/Encode-Detect-CJK-2.0.2-0/blib/arch:/Users/hornenj/.cpan/build/Encode-Detect-CJK-2.0.2-0/blib/lib:/Users/hornenj/.cpan/build/Data-MessagePack-1.00-0/blib/arch:/Users/hornenj/.cpan/build/Data-MessagePack-1.00-0/blib/lib"
PERL5OPT=""
PERL5_CPANPLUS_IS_RUNNING="25578"
PERL5_CPAN_IS_RUNNING="25578"
PERL5_MINISMOKEBOX="0.68"
PERLBREW_BASHRC_VERSION="0.80"
PERLBREW_HOME="/Users/hornenj/.perlbrew"
PERLBREW_LIB=""
PERLBREW_MANPATH="/Users/hornenj/perl5/perlbrew/perls/perl-5.16.2/man"
PERLBREW_PATH="/Users/hornenj/perl5/perlbrew/bin:/Users/hornenj/perl5/perlbrew/perls/perl-5.16.2/bin"
PERLBREW_PERL="perl-5.16.2"
PERLBREW_ROOT="/Users/hornenj/perl5/perlbrew"
PERLBREW_VERSION="0.80"
PERL_EXTUTILS_AUTOINSTALL="--defaultdeps"
PERL_LOCAL_LIB_ROOT=""
PERL_MM_USE_DEFAULT="1"
@INC:
/Users/hornenj/.cpan/build/HTML-Selector-XPath-0.23-1/blib/arch
/Users/hornenj/.cpan/build/HTML-Selector-XPath-0.23-1/blib/lib
/Users/hornenj/.cpan/build/Novel-Robot-Browser-0.20-0/blib/arch
/Users/hornenj/.cpan/build/Novel-Robot-Browser-0.20-0/blib/lib
/Users/hornenj/.cpan/build/Term-ProgressBar-2.21-0/blib/arch
/Users/hornenj/.cpan/build/Term-ProgressBar-2.21-0/blib/lib
/Users/hornenj/.cpan/build/Class-MethodMaker-2.24-0/blib/arch
/Users/hornenj/.cpan/build/Class-MethodMaker-2.24-0/blib/lib
/Users/hornenj/.cpan/build/Parallel-Loops-0.08-0/blib/arch
/Users/hornenj/.cpan/build/Parallel-Loops-0.08-0/blib/lib
/Users/hornenj/.cpan/build/Encode-Detect-CJK-2.0.2-0/blib/arch
/Users/hornenj/.cpan/build/Encode-Detect-CJK-2.0.2-0/blib/lib
/Users/hornenj/.cpan/build/Data-MessagePack-1.00-0/blib/arch
/Users/hornenj/.cpan/build/Data-MessagePack-1.00-0/blib/lib
/Users/hornenj/perl5/perlbrew/perls/perl-5.16.2/lib/site_perl/5.16.2/darwin-2level
/Users/hornenj/perl5/perlbrew/perls/perl-5.16.2/lib/site_perl/5.16.2
/Users/hornenj/perl5/perlbrew/perls/perl-5.16.2/lib/5.16.2/darwin-2level
/Users/hornenj/perl5/perlbrew/perls/perl-5.16.2/lib/5.16.2
.