Perl-MinimumVersion v1.40 Perl 5 v5.14.4 darwin-2level

Status
Pass
From
Karen Etheridge
Dist
Perl-MinimumVersion v1.40
Platform
Perl 5 v5.14.4 darwin-2level
Date
2021-04-29 04:17:04
ID
c0d7e90a-a8a1-11eb-a70c-b3ddc39a6efb
This distribution has been tested as part of the CPAN Testers
project, supporting the Perl programming language.  See
http://wiki.cpantesters.org/ for more information or email
questions to cpan-testers-discuss@perl.org


--
Dear DBOOK,

This is a computer-generated report for Perl-MinimumVersion-1.40
on perl 5.14.4, created by App::cpanminus::reporter 0.17 (1.9018).

Thank you for uploading your work to CPAN.  Congratulations!
All tests were successful.

Sections of this report:

    * Tester comments
    * Program output
    * Prerequisites
    * Environment and other context

------------------------------
TESTER COMMENTS
------------------------------

Additional comments from tester:

none provided

------------------------------
PROGRAM OUTPUT
------------------------------

Output from '':

Building and testing Perl-MinimumVersion-1.40
cp script/perlver blib/script/perlver
"/Volumes/amaretto/Users/ether/perl5/perlbrew/perls/14.4/bin/perl" -MExtUtils::MY -e 'MY->fixin(shift)' -- blib/script/perlver
PERL_DL_NONLAZY=1 "/Volumes/amaretto/Users/ether/perl5/perlbrew/perls/14.4/bin/perl" "-MExtUtils::Command::MM" "-MTest::Harness" "-e" "undef *Test::Harness::Switches; test_harness(0, 'blib/lib', 'blib/arch')" t/*.t
# 
# Versions for all modules listed in MYMETA.json (including optional ones):
# 
# === Configure Requires ===
# 
#     Module              Want    Have
#     ------------------- ---- -------
#     ExtUtils::MakeMaker  any 7.61_01
# 
# === Configure Suggests ===
# 
#     Module      Want Have
#     -------- ------- ----
#     JSON::PP 2.27300 4.05
# 
# === Build Requires ===
# 
#     Module              Want    Have
#     ------------------- ---- -------
#     ExtUtils::MakeMaker  any 7.61_01
# 
# === Test Requires ===
# 
#     Module                Want     Have
#     --------------------- ---- --------
#     ExtUtils::MakeMaker    any  7.61_01
#     File::Spec             any     3.47
#     File::Spec::Functions  any     3.47
#     Test::More            0.47 1.302183
# 
# === Test Recommends ===
# 
#     Module         Want     Have
#     ---------- -------- --------
#     CPAN::Meta 2.120900 2.150010
# 
# === Runtime Requires ===
# 
#     Module                  Want   Have
#     ---------------------- ----- ------
#     Carp                     any   1.35
#     Exporter                 any   5.72
#     File::Find::Rule         any   0.33
#     File::Find::Rule::Perl   any   1.13
#     File::Spec               any   3.47
#     Getopt::Long             any   2.45
#     List::Util              1.20   1.56
#     PPI                    1.215  1.252
#     PPI::Util                any  1.252
#     PPIx::Regexp           0.033  0.057
#     PPIx::Utils              any  0.003
#     Params::Util            0.25   1.07
#     strict                   any   1.04
#     vars                     any   1.02
#     version                 0.76 0.9925
#     warnings                 any   1.12
# 
t/00-report-prereqs.t .... ok
t/04_substr.t ............ ok
t/03_open_3arg.t ......... ok
t/05_foreach.t ........... ok
t/06_weaken.t ............ ok
t/02_main.t .............. ok
t/07_splice.t ............ ok
t/08_mkdir.t ............. ok
t/09_pkg_name_version.t .. ok
t/10_yada_yada_yada.t .... ok
t/11_feature_bundle.t .... ok
t/12_double_colon.t ...... ok
t/13_perl_510.t .......... ok
t/14_regex.t ............. ok
t/16_binmode.t ........... ok
t/17_when.t .............. ok
t/15_each.t .............. ok
t/18_exists_subr.t ....... ok
t/19_opentemp.t .......... ok
t/20_sort_subref.t ....... ok
t/21_openscalar.t ........ ok
t/22_while_readdir.t ..... ok
t/23_internals.t ......... ok
t/24_state.t ............. ok
t/28_experimental.t ...... ok
t/26_stacked_labels.t .... ok
t/25_scheduled_blocks.t .. ok
All tests successful.
Files=27, Tests=350,  1 wallclock secs ( 0.12 usr  0.05 sys +  4.85 cusr  1.01 csys =  6.03 CPU)
Result: PASS

------------------------------
PREREQUISITES
------------------------------

Prerequisite modules loaded:

    No requirements found

------------------------------
ENVIRONMENT AND OTHER CONTEXT
------------------------------

Environment variables:

    HARNESS_OPTIONS = j6:c
    LANG = en_CA.UTF-8
    NO_NETWORK_TESTING = 1
    PATH = /Volumes/amaretto/Users/ether/.perlbrew/libs/14.4@std/bin:/Volumes/amaretto/Users/ether/perl5/perlbrew/bin:/Volumes/amaretto/Users/ether/perl5/perlbrew/perls/14.4/bin:/Volumes/amaretto/Users/ether/bin:/Volumes/amaretto/Users/ether/git/misc/install/jaeger/bin:/Volumes/amaretto/Users/ether/git/misc/install/generic/bin:/opt/local/bin:/opt/local/sbin:/Volumes/amaretto/Users/ether/git/git-hub/lib:/usr/local/bin:/usr/bin:/bin:/usr/sbin:/sbin:/Library/Apple/usr/bin:/opt/local/share/git-core/contrib/workdir:/opt/local/share/git-core/contrib/workdir
    PERL5LIB = /Volumes/amaretto/Users/ether/.perlbrew/libs/14.4@std/lib/perl5
    PERLBREW_HOME = /Volumes/amaretto/Users/ether/.perlbrew
    PERLBREW_LIB = std
    PERLBREW_MANPATH = /Volumes/amaretto/Users/ether/.perlbrew/libs/14.4@std/man:/Volumes/amaretto/Users/ether/perl5/perlbrew/perls/14.4/man
    PERLBREW_PATH = /Volumes/amaretto/Users/ether/.perlbrew/libs/14.4@std/bin:/Volumes/amaretto/Users/ether/perl5/perlbrew/bin:/Volumes/amaretto/Users/ether/perl5/perlbrew/perls/14.4/bin
    PERLBREW_PERL = 14.4
    PERLBREW_ROOT = /Volumes/amaretto/Users/ether/perl5/perlbrew
    PERLBREW_SHELLRC_VERSION = 0.89
    PERLBREW_VERSION = 0.92
    PERLDOC = -oman
    PERLDOC_PAGER = less -sicMr
    PERL_AUTOINSTALL_PREFER_CPAN = 1
    PERL_INSTALL_QUIET = 1
    PERL_LOCAL_LIB_ROOT = /Volumes/amaretto/Users/ether/.perlbrew/libs/14.4@std
    PERL_MB_OPT = --install_base /Volumes/amaretto/Users/ether/.perlbrew/libs/14.4@std
    PERL_MM_OPT = INSTALL_BASE=/Volumes/amaretto/Users/ether/.perlbrew/libs/14.4@std
    PERL_TEST_HARNESS_ASAP = 1
    PERL_USE_UNSAFE_INC = 0
    SHELL = /bin/bash
    TERM = xterm-color

Perl special variables (and OS-specific diagnostics, for MSWin32):

    EGID = 20 20 12 61 79 80 81 98 701 33 100 204 250 395 398 399 400
    EUID = 502
    EXECUTABLE_NAME = /Volumes/amaretto/Users/ether/perl5/perlbrew/perls/14.4/bin/perl
    GID = 20 20 12 61 79 80 81 98 701 33 100 204 250 395 398 399 400
    UID = 502

Perl module toolchain versions installed:

    Module              Have     
    ------------------- ---------
    CPAN                1.9600_01
    CPAN::Meta          2.150010 
    Cwd                 3.47     
    ExtUtils::CBuilder  0.280203 
    ExtUtils::Command   7.61_01  
    ExtUtils::Install   2.16     
    ExtUtils::MakeMaker 7.61_01  
    ExtUtils::Manifest  1.70     
    ExtUtils::ParseXS   3.35     
    File::Spec          3.47     
    JSON                4.02     
    JSON::PP            4.05     
    Module::Build       0.4211   
    Module::Signature   0.83     
    Parse::CPAN::Meta   2.150010 
    Test::Harness       3.35     
    Test::More          1.302183 
    YAML                1.30     
    YAML::Syck          n/a      
    version             0.9929   


--

Summary of my perl5 (revision 5 version 14 subversion 4) configuration:
   
  Platform:
    osname=darwin, osvers=14.1.0, archname=darwin-2level
    uname='darwin jaeger 14.1.0 darwin kernel version 14.1.0: mon dec 22 23:10:38 pst 2014; root:xnu-2782.10.72~2release_x86_64 x86_64 '
    config_args='-de -Dprefix=/Volumes/amaretto/Users/ether/perl5/perlbrew/perls/14.4 -Dman1dir=none -Dman3dir=none -Aeval:scriptdir=/Volumes/amaretto/Users/ether/perl5/perlbrew/perls/14.4/bin'
    hint=recommended, useposix=true, d_sigaction=define
    useithreads=undef, usemultiplicity=undef
    useperlio=define, d_sfio=undef, uselargefiles=define, usesocks=undef
    use64bitint=define, use64bitall=define, uselongdouble=undef
    usemymalloc=n, bincompat5005=undef
  Compiler:
    cc='cc', ccflags ='-fno-common -DPERL_DARWIN -fno-strict-aliasing -pipe -fstack-protector -I/opt/local/include',
    optimize='-O3',
    cppflags='-fno-common -DPERL_DARWIN -fno-strict-aliasing -pipe -fstack-protector -I/opt/local/include'
    ccversion='', gccversion='4.2.1 Compatible Apple LLVM 6.0 (clang-600.0.56)', gccosandvers=''
    intsize=4, longsize=8, ptrsize=8, doublesize=8, byteorder=12345678
    d_longlong=define, longlongsize=8, d_longdbl=define, longdblsize=16
    ivtype='long', ivsize=8, nvtype='double', nvsize=8, Off_t='off_t', lseeksize=8
    alignbytes=8, prototype=define
  Linker and Libraries:
    ld='env MACOSX_DEPLOYMENT_TARGET=10.3 cc', ldflags =' -fstack-protector -L/opt/local/lib'
    libpth=/opt/local/lib /usr/lib
    libs=-lgdbm -ldbm -ldl -lm -lutil -lc
    perllibs=-ldl -lm -lutil -lc
    libc=, so=dylib, useshrplib=false, libperl=libperl.a
    gnulibc_version=''
  Dynamic Linking:
    dlsrc=dl_dlopen.xs, dlext=bundle, d_dlsymun=undef, ccdlflags=' '
    cccdlflags=' ', lddlflags=' -bundle -undefined dynamic_lookup -L/opt/local/lib -fstack-protector'


Characteristics of this binary (from libperl): 
  Compile-time options: PERL_DONT_CREATE_GVSV PERL_MALLOC_WRAP
                        PERL_PRESERVE_IVUV USE_64_BIT_ALL USE_64_BIT_INT
                        USE_LARGE_FILES USE_PERLIO USE_PERL_ATOF
  Locally applied patches:
	Devel::PatchPerl 1.30
  Built under darwin
  Compiled at Feb 22 2015 18:52:36
  %ENV:
    PERL5LIB="/Volumes/amaretto/Users/ether/.perlbrew/libs/14.4@std/lib/perl5"
    PERLBREW_HOME="/Volumes/amaretto/Users/ether/.perlbrew"
    PERLBREW_LIB="std"
    PERLBREW_MANPATH="/Volumes/amaretto/Users/ether/.perlbrew/libs/14.4@std/man:/Volumes/amaretto/Users/ether/perl5/perlbrew/perls/14.4/man"
    PERLBREW_PATH="/Volumes/amaretto/Users/ether/.perlbrew/libs/14.4@std/bin:/Volumes/amaretto/Users/ether/perl5/perlbrew/bin:/Volumes/amaretto/Users/ether/perl5/perlbrew/perls/14.4/bin"
    PERLBREW_PERL="14.4"
    PERLBREW_ROOT="/Volumes/amaretto/Users/ether/perl5/perlbrew"
    PERLBREW_SHELLRC_VERSION="0.89"
    PERLBREW_VERSION="0.92"
    PERLDOC="-oman"
    PERLDOC_PAGER="less -sicMr"
    PERL_AUTOINSTALL_PREFER_CPAN="1"
    PERL_INSTALL_QUIET="1"
    PERL_LOCAL_LIB_ROOT="/Volumes/amaretto/Users/ether/.perlbrew/libs/14.4@std"
    PERL_MB_OPT="--install_base /Volumes/amaretto/Users/ether/.perlbrew/libs/14.4@std"
    PERL_MM_OPT="INSTALL_BASE=/Volumes/amaretto/Users/ether/.perlbrew/libs/14.4@std"
    PERL_TEST_HARNESS_ASAP="1"
    PERL_USE_UNSAFE_INC="0"
  @INC:
    /Volumes/amaretto/Users/ether/.perlbrew/libs/14.4@std/lib/perl5/darwin-2level
    /Volumes/amaretto/Users/ether/.perlbrew/libs/14.4@std/lib/perl5
    /Volumes/amaretto/Users/ether/perl5/perlbrew/perls/14.4/lib/site_perl/5.14.4/darwin-2level
    /Volumes/amaretto/Users/ether/perl5/perlbrew/perls/14.4/lib/site_perl/5.14.4
    /Volumes/amaretto/Users/ether/perl5/perlbrew/perls/14.4/lib/5.14.4/darwin-2level
    /Volumes/amaretto/Users/ether/perl5/perlbrew/perls/14.4/lib/5.14.4
    .