Report for Capture-Tiny-Extended-0.114

Back
From: metabase:user:30ae4450-2aae-11df-837a-5e0a49663a4f
Subject: PASS Capture-Tiny-Extended-0.114 v5.14.3 
Date: 2013-01-12T23:32:08Z

This distribution has been tested as part of the CPAN Testers
project, supporting the Perl programming language.  See
http://wiki.cpantesters.org/ for more information or email
questions to cpan-testers-discuss@perl.org


--
Dear Christian Walde,

This is a computer-generated report for Capture-Tiny-Extended-0.114
on perl 5.14.3, created by CPAN-Reporter-1.2009.

Thank you for uploading your work to CPAN.  Congratulations!
All tests were successful.

Sections of this report:

    * Tester comments
    * Program output
    * Prerequisites
    * Environment and other context

------------------------------
TESTER COMMENTS
------------------------------

Additional comments from tester:

this report is from an automated smoke testing program
and was not reviewed by a human for accuracy

------------------------------
PROGRAM OUTPUT
------------------------------

Output from 'C:\strawberry5143\c\bin\dmake.exe test':

C:\strawberry5143\perl\bin\perl.exe "-MExtUtils::Command::MM" "-e" "test_harness(0, 'blib\lib', 'blib\arch')" t/*.t
t/00-compile.t ............. ok
t/01-Capture-Tiny.t ........ ok
t/02-capture.t ............. ok
t/03-tee.t ................. ok
t/06-stdout-closed.t ....... ok
t/07-stderr-closed.t ....... ok
t/08-stdin-closed.t ........ ok
t/09-preserve-exit-code.t .. ok
t/10-stdout-string.t ....... ok
t/11-stderr-string.t ....... ok
t/12-stdin-string.t ........ ok
t/13-stdout-tied.t ......... ok
t/14-stderr-tied.t ......... ok
t/15-stdin-tied.t .......... skipped: not supported on Windows yet
t/16-catch-errors.t ........ ok
All tests successful.

Test Summary Report
-------------------
t/13-stdout-tied.t       (Wstat: 0 Tests: 489 Failed: 0)
  TODO passed:   8-10, 18-19, 27-28, 35-37, 45-46, 54-55
                58, 67, 80, 82, 91, 99-100, 107, 109, 118
                126-127, 140-145, 160-162, 178-180, 194-199
                214-216, 232-234, 244-247, 258, 270, 280-283
                294, 306, 328, 330, 332-334, 336-337, 362-363
                366-367, 389, 391-393, 395-397, 418, 420
                422-424, 426-427, 452-453, 456-457, 479
                481-483, 485-487
t/14-stderr-tied.t       (Wstat: 0 Tests: 489 Failed: 0)
  TODO passed:   8, 10, 17, 19, 26-28, 35, 37, 44, 46, 53-55
                58, 61, 64, 67, 70, 73, 80-82, 89-91, 98-100
                107-109, 116-118, 125-127, 140-141, 144
                158-159, 162, 176-181, 194-195, 198, 212-213
                216, 230-235, 244-245, 247, 256-257, 259
                268-271, 280-281, 283, 292-293, 295, 304-307
                328-337, 358-367, 388-397, 418-427, 448-457
                478-487
Files=15, Tests=4415, 64 wallclock secs ( 0.15 usr +  0.08 sys =  0.23 CPU)
Result: PASS

------------------------------
PREREQUISITES
------------------------------

Prerequisite modules loaded:

requires:

    Module              Need Have  
    ------------------- ---- ------
    Carp                0    1.26  
    Exporter            0    5.67  
    File::Spec          0    3.33  
    File::Temp          0    0.22  
    IO::Handle          0    1.31  
    Win32API::File      0    0.1200

build_requires:

    Module              Need Have  
    ------------------- ---- ------
    File::Find          0    1.19  
    Test::More          0.62 0.98  

configure_requires:

    Module              Need Have  
    ------------------- ---- ------
    ExtUtils::MakeMaker 6.30 6.62  


------------------------------
ENVIRONMENT AND OTHER CONTEXT
------------------------------

Environment variables:

    AUTOMATED_TESTING = 1
    COMSPEC = C:\WINDOWS\system32\cmd.exe
    NUMBER_OF_PROCESSORS = 1
    PATH = C:\Program Files\Far Manager\;C:\WINDOWS\system32;C:\WINDOWS;C:\WINDOWS\System32\Wbem;C:\strawberry5143\c\bin;C:\strawberry5143\perl\site\bin;C:\strawberry5143\perl\bin
    PERL5LIB = C:\strawberry5143\cpan\build\Devel-Hide-0.0008-HbBkTc/blib/arch;C:\strawberry5143\cpan\build\Devel-Hide-0.0008-HbBkTc/blib/lib;C:\strawberry5143\cpan\build\Geo-Distance-0.20-l8qz83/blib/arch;C:\strawberry5143\cpan\build\Geo-Distance-0.20-l8qz83/blib/lib;C:\strawberry5143\cpan\build\ORLite-Mirror-1.24-vL_jdo/blib/arch;C:\strawberry5143\cpan\build\ORLite-Mirror-1.24-vL_jdo/blib/lib;C:\strawberry5143\cpan\build\FileHandle-Fmode-0.13-mEvjBC/blib/arch;C:\strawberry5143\cpan\build\FileHandle-Fmode-0.13-mEvjBC/blib/lib;C:\strawberry5143\cpan\build\B-Compiling-0.02-pOvEPH/blib/arch;C:\strawberry5143\cpan\build\B-Compiling-0.02-pOvEPH/blib/lib;C:\strawberry5143\cpan\build\HTTP-Headers-Fast-0.16-x5V0GV/blib/arch;C:\strawberry5143\cpan\build\HTTP-Headers-Fast-0.16-x5V0GV/blib/lib;C:\strawberry5143\cpan\build\Crypt-GPG-1.63-ux4ldD/blib/arch;C:\strawberry5143\cpan\build\Crypt-GPG-1.63-ux4ldD/blib/lib
    PERL5OPT = 
    PERL5_CPANPLUS_IS_RUNNING = 464
    PERL5_CPAN_IS_RUNNING = 464
    PERL5_CPAN_IS_RUNNING_IN_RECURSION = 1140,464
    PERL_CR_SMOKER_CURRENT = Task-Elkhound-0.03
    PERL_EXTUTILS_AUTOINSTALL = --defaultdeps
    PERL_MM_USE_DEFAULT = 1
    PROCESSOR_IDENTIFIER = x86 Family 16 Model 5 Stepping 3, AuthenticAMD
    TEMP = C:\DOCUME~1\c\LOCALS~1\Temp
    TERM = dumb

Perl special variables (and OS-specific diagnostics, for MSWin32):

    $^X = C:\strawberry5143\perl\bin\perl.exe
    $UID/$EUID = 0 / 0
    $GID = 0
    $EGID = 0
    Win32::GetOSName = WinXP/.Net
    Win32::GetOSVersion = Service Pack 3, 5, 1, 2600, 2, 3, 0, 256, 1
    Win32::FsType = NTFS
    Win32::IsAdminUser = 1

Perl module toolchain versions installed:

    Module              Have    
    ------------------- --------
    CPAN                1.9800  
    CPAN::Meta          2.120921
    Cwd                 3.36    
    ExtUtils::CBuilder  0.280205
    ExtUtils::Command   1.17    
    ExtUtils::Install   1.56    
    ExtUtils::MakeMaker 6.62    
    ExtUtils::Manifest  1.61    
    ExtUtils::ParseXS   3.15    
    File::Spec          3.33    
    JSON                2.53    
    JSON::PP            2.27200 
    Module::Build       0.4003  
    Module::Signature   0.68    
    Parse::CPAN::Meta   1.4404  
    Test::Harness       3.25    
    Test::More          0.98    
    YAML                0.84    
    YAML::Syck          1.22    
    version             0.9901  


--

Summary of my perl5 (revision 5 version 14 subversion 3) configuration:
   
  Platform:
    osname=MSWin32, osvers=4.0, archname=MSWin32-x86-multi-thread
    uname='Win32 strawberry-perl 5.14.3.1 #1 Wed Oct 17 22:51:55 2012 i386'
    config_args='undef'
    hint=recommended, useposix=true, d_sigaction=undef
    useithreads=define, usemultiplicity=define
    useperlio=define, d_sfio=undef, uselargefiles=define, usesocks=undef
    use64bitint=undef, use64bitall=undef, uselongdouble=undef
    usemymalloc=n, bincompat5005=undef
  Compiler:
    cc='gcc', ccflags =' -s -O2 -DWIN32  -DPERL_TEXTMODE_SCRIPTS -DPERL_IMPLICIT_CONTEXT -DPERL_IMPLICIT_SYS -fno-strict-aliasing -mms-bitfields',
    optimize='-s -O2',
    cppflags='-DWIN32'
    ccversion='', gccversion='4.6.3', gccosandvers=''
    intsize=4, longsize=4, ptrsize=4, doublesize=8, byteorder=1234
    d_longlong=undef, longlongsize=8, d_longdbl=define, longdblsize=12
    ivtype='long', ivsize=4, nvtype='double', nvsize=8, Off_t='long long', lseeksize=8
    alignbytes=8, prototype=define
  Linker and Libraries:
    ld='g++', ldflags ='-s -L"C:\strawberry5143\perl\lib\CORE" -L"C:\strawberry5143\c\lib"'
    libpth=C:\strawberry5143\c\lib C:\strawberry5143\c\i686-w64-mingw32\lib
    libs=-lmoldname -lkernel32 -luser32 -lgdi32 -lwinspool -lcomdlg32 -ladvapi32 -lshell32 -lole32 -loleaut32 -lnetapi32 -luuid -lws2_32 -lmpr -lwinmm -lversion -lodbc32 -lodbccp32 -lcomctl32
    perllibs=-lmoldname -lkernel32 -luser32 -lgdi32 -lwinspool -lcomdlg32 -ladvapi32 -lshell32 -lole32 -loleaut32 -lnetapi32 -luuid -lws2_32 -lmpr -lwinmm -lversion -lodbc32 -lodbccp32 -lcomctl32
    libc=, so=dll, useshrplib=true, libperl=libperl514.a
    gnulibc_version=''
  Dynamic Linking:
    dlsrc=dl_win32.xs, dlext=dll, d_dlsymun=undef, ccdlflags=' '
    cccdlflags=' ', lddlflags='-mdll -s -L"C:\strawberry5143\perl\lib\CORE" -L"C:\strawberry5143\c\lib"'


Characteristics of this binary (from libperl): 
  Compile-time options: MULTIPLICITY PERL_DONT_CREATE_GVSV
                        PERL_IMPLICIT_CONTEXT PERL_IMPLICIT_SYS
                        PERL_MALLOC_WRAP PERL_PRESERVE_IVUV PL_OP_SLAB_ALLOC
                        USE_ITHREADS USE_LARGE_FILES USE_PERLIO
                        USE_PERL_ATOF
  Built under MSWin32
  Compiled at Oct 17 2012 23:05:06
  %ENV:
    PERL5LIB="C:\strawberry5143\cpan\build\Devel-Hide-0.0008-HbBkTc/blib/arch;C:\strawberry5143\cpan\build\Devel-Hide-0.0008-HbBkTc/blib/lib;C:\strawberry5143\cpan\build\Geo-Distance-0.20-l8qz83/blib/arch;C:\strawberry5143\cpan\build\Geo-Distance-0.20-l8qz83/blib/lib;C:\strawberry5143\cpan\build\ORLite-Mirror-1.24-vL_jdo/blib/arch;C:\strawberry5143\cpan\build\ORLite-Mirror-1.24-vL_jdo/blib/lib;C:\strawberry5143\cpan\build\FileHandle-Fmode-0.13-mEvjBC/blib/arch;C:\strawberry5143\cpan\build\FileHandle-Fmode-0.13-mEvjBC/blib/lib;C:\strawberry5143\cpan\build\B-Compiling-0.02-pOvEPH/blib/arch;C:\strawberry5143\cpan\build\B-Compiling-0.02-pOvEPH/blib/lib;C:\strawberry5143\cpan\build\HTTP-Headers-Fast-0.16-x5V0GV/blib/arch;C:\strawberry5143\cpan\build\HTTP-Headers-Fast-0.16-x5V0GV/blib/lib;C:\strawberry5143\cpan\build\Crypt-GPG-1.63-ux4ldD/blib/arch;C:\strawberry5143\cpan\build\Crypt-GPG-1.63-ux4ldD/blib/lib"
    PERL5_CPANPLUS_IS_RUNNING="464"
    PERL5_CPAN_IS_RUNNING="464"
    PERL5_CPAN_IS_RUNNING_IN_RECURSION="1140,464"
    PERL_CR_SMOKER_CURRENT="Task-Elkhound-0.03"
    PERL_EXTUTILS_AUTOINSTALL="--defaultdeps"
    PERL_MM_USE_DEFAULT="1"
  @INC:
    C:\strawberry5143\cpan\build\Devel-Hide-0.0008-HbBkTc/blib/arch
    C:\strawberry5143\cpan\build\Devel-Hide-0.0008-HbBkTc/blib/lib
    C:\strawberry5143\cpan\build\Geo-Distance-0.20-l8qz83/blib/arch
    C:\strawberry5143\cpan\build\Geo-Distance-0.20-l8qz83/blib/lib
    C:\strawberry5143\cpan\build\ORLite-Mirror-1.24-vL_jdo/blib/arch
    C:\strawberry5143\cpan\build\ORLite-Mirror-1.24-vL_jdo/blib/lib
    C:\strawberry5143\cpan\build\FileHandle-Fmode-0.13-mEvjBC/blib/arch
    C:\strawberry5143\cpan\build\FileHandle-Fmode-0.13-mEvjBC/blib/lib
    C:\strawberry5143\cpan\build\B-Compiling-0.02-pOvEPH/blib/arch
    C:\strawberry5143\cpan\build\B-Compiling-0.02-pOvEPH/blib/lib
    C:\strawberry5143\cpan\build\HTTP-Headers-Fast-0.16-x5V0GV/blib/arch
    C:\strawberry5143\cpan\build\HTTP-Headers-Fast-0.16-x5V0GV/blib/lib
    C:\strawberry5143\cpan\build\Crypt-GPG-1.63-ux4ldD/blib/arch
    C:\strawberry5143\cpan\build\Crypt-GPG-1.63-ux4ldD/blib/lib
    C:/strawberry5143/perl/site/lib
    C:/strawberry5143/perl/vendor/lib
    C:/strawberry5143/perl/lib
    .