Report for Sys-CpuAffinity-1.11_02

Back
From: metabase:user:320bfe00-2aae-11df-837a-5e0a49663a4f
Subject: PASS Sys-CpuAffinity-1.11_02 v5.14.0 GNU/Linux
Date: 2016-11-15T00:30:47Z

This distribution has been tested as part of the CPAN Testers
project, supporting the Perl programming language.  See
http://wiki.cpantesters.org/ for more information or email
questions to cpan-testers-discuss@perl.org


--
Dear Marty O'Brien,

This is a computer-generated report for Sys-CpuAffinity-1.11_02
on perl 5.14.0, created by CPAN-Reporter-1.2018.

Thank you for uploading your work to CPAN.  Congratulations!
All tests were successful.

Sections of this report:

    * Tester comments
    * Program output
    * Prerequisites
    * Environment and other context

------------------------------
TESTER COMMENTS
------------------------------

Additional comments from tester:

this report is from an automated smoke testing program
and was not reviewed by a human for accuracy

------------------------------
PROGRAM OUTPUT
------------------------------

Output from './Build test':

# Testing Sys::CpuAffinity 1.11_02, Perl 5.014000, /home/sand/src/perl/repoperls/installed-perls/perl/v5.14.0/f7bf/bin/perl, linux
t/00-load.t .......... ok


System configuration
====================
$^O = linux; $] = 5.014000
$ENV{AUTOMATED_TESTING} = 1
Defined XS functions:
	xs_fortytwo
	xs_sched_getaffinity_get_affinity
	xs_sched_setaffinity_set_affinity

module Win32::API: not available
module Win32::Process: not available
module BSD::Process::Affinity: not available
bindprocessor: not found
dmesg available at: /bin/dmesg
sysctl available at: /sbin/sysctl
psrinfo: not found
hinv: not found
hwprefs: not found
lsdev: not found
system_profiler: not found
prtconf: not found
taskset available at: /usr/bin/taskset
pbind: not found
cpuset: not found

t/02-available.t ..... ok
result: -1 3 ESRCH
result: -1 3 ESRCH
Sys::CpuAffinity: invalid mask 0 in call to setAffinty
 at t/10-exercise.t line 110.
Sys::CpuAffinity: mask 16 is not valid for system with 4 processors.
 at t/10-exercise.t line 111.
t/10-exercise.t ...... ok


=================================================
Num processors =
    bindprocessor                  - 0 -
    dmesg_bsd                      - 0 -
    dmesg_solaris                  - 0 -
    ENV                            - 0 -
    hinv                           - 0 -
    hwprefs                        - 0 -
    lsdev                          - 0 -
    proc_cpuinfo                   - 4 -
    proc_stat                      - 4 -
    prtconf                        - 0 -
    psrinfo                        - 0 -
    sysctl                         - 0 -
    system_profiler                - 0 -
    taskset                        - 4 -
    Test_Smoke_SysInfo             - 0 -
    Win32API_System_Info           - 0 -
    xs_cpusetGetCPUCount           - 0 -
    xs_solaris                     - 0 -
    xs_Win32API_System_Info        - 0 -


===============================================
Current affinity = 
    BSD_Process_Affinity           ==> 0
    cpuset                         ==> 0
    pbind                          ==> 0
    psaix                          ==> 0
    taskset                        ==> 15
    Win32API                       ==> 0
    Win32Process                   ==> 0
    xs_cpuset_getaffinity          ==> 0
    xs_DEBUG_sched_getaffinity     ==> ---
diag CPU_SETSIZE=1024
diag sizeof(__cpu_mask)=8
diag __NCPUBITS=64
diag sizeof(cpu_set_t)=128
diag sizeof(pid_t)=4
getaffinity0
getaffinity1 pid=5023 size=1024 128 cpuset=0x40
getaffinity2 ncpus=4
getaffinity5
getaffinity6 i=0 r=0
getaffinity8 add 0 to mask
getaffinity6 i=1 r=1
getaffinity8 add 1 to mask
getaffinity6 i=2 r=1
getaffinity8 add 2 to mask
getaffinity6 i=3 r=1
getaffinity8 add 3 to mask
getaffinitya r=1
15
    xs_irix_sysmp                  ==> 0
    xs_processor_affinity          ==> 0
    xs_processor_bind              ==> 0
    xs_pthread_self_getaffinity    ==> 0
    xs_sched_getaffinity           ==> 15
    xs_win32                       ==> 0


==================================================
Set affinity =
    bindprocessor                  =>   8 ==>  15   [FAIL]
    BSD_Process_Affinity           =>   5 ==>  15   [FAIL]
    cpuset                         =>   2 ==>  15   [FAIL]
    pbind                          =>   5 ==>  15   [FAIL]
    taskset                        =>  11 ==>  11   [ ok ]
    Win32API                       =>  12 ==>  11   [FAIL]
    Win32Process                   =>  14 ==>  11   [FAIL]
    xs_cpuset_setaffinity          =>   3 ==>  11   [FAIL]
    xs_irix_sysmp                  =>  14 ==>  11   [FAIL]
    xs_processor_affinity          =>  10 ==>  11   [FAIL]
    xs_processor_bind              =>   2 ==>  11   [FAIL]
    xs_pthread_self_setaffinity    =>   3 ==>  11   [FAIL]
    xs_sched_setaffinity           =>  14 ==>  14   [ ok ]
    xs_win32                       =>   5 ==>  14   [FAIL]


t/11-exercise-all.t .. ok
# This system has 4 cpus. Spoofing Sys::CpuAffinity::getNumCpus() to return 32
t/12-32cpus.t ........ ok
All tests successful.
Files=5, Tests=24,  4 wallclock secs ( 0.02 usr  0.02 sys +  0.81 cusr  0.10 csys =  0.95 CPU)
Result: PASS

------------------------------
PREREQUISITES
------------------------------

Prerequisite modules loaded:

build_requires:

    Module        Need Have    
    ------------- ---- --------
    Module::Build 0.25 0.4220  
    Test::More    0    1.302066

configure_requires:

    Module        Need Have    
    ------------- ---- --------
    Module::Build 0.42 0.4220  


------------------------------
ENVIRONMENT AND OTHER CONTEXT
------------------------------

Environment variables:

    AUTOMATED_TESTING = 1
    LANG = en_US.UTF-8
    LANGUAGE = en_US:en
    PATH = /home/sand/bin:/usr/local/bin:/usr/bin:/bin:/usr/games:/usr/local/perl/bin:/usr/X11/bin:/sbin:/usr/sbin
    PERL5LIB = 
    PERL5OPT = 
    PERL5_CPANPLUS_IS_RUNNING = 4175
    PERL5_CPAN_IS_RUNNING = 4175
    PERL_CANARY_STABILITY_NOPROMPT = 1
    PERL_MM_USE_DEFAULT = 1
    SHELL = /usr/bin/zsh
    TERM = screen

Perl special variables (and OS-specific diagnostics, for MSWin32):

    $^X = /home/sand/src/perl/repoperls/installed-perls/perl/v5.14.0/f7bf/bin/perl
    $UID/$EUID = 1005 / 1005
    $GID = 1005 1005
    $EGID = 1005 1005

Perl module toolchain versions installed:

    Module              Have    
    ------------------- --------
    CPAN                2.15    
    CPAN::Meta          2.150010
    Cwd                 3.62    
    ExtUtils::CBuilder  0.280224
    ExtUtils::Command   7.24    
    ExtUtils::Install   1.56    
    ExtUtils::MakeMaker 7.24    
    ExtUtils::Manifest  1.70    
    ExtUtils::ParseXS   3.30    
    File::Spec          3.62    
    JSON                2.90    
    JSON::PP            2.27400 
    Module::Build       0.4220  
    Module::Signature   0.81    
    Parse::CPAN::Meta   2.150010
    Test::Harness       3.36    
    Test::More          1.302066
    YAML                1.18_001
    YAML::Syck          1.29    
    version             0.9917  


--

Summary of my perl5 (revision 5 version 14 subversion 0) configuration:
  Derived from: a35ef416833511da752c4b5b836b7a8915712aab
  Platform:
    osname=linux, osvers=4.7.0-1-amd64, archname=x86_64-linux-thread-multi
    uname='linux k83 4.7.0-1-amd64 #1 smp debian 4.7.2-1 (2016-08-28) x86_64 gnulinux '
    config_args='-Dprefix=/home/sand/src/perl/repoperls/installed-perls/perl/v5.14.0/f7bf -Dmyhostname=k83 -Dinstallusrbinperl=n -Uversiononly -Dusedevel -des -Ui_db -Dlibswanted=cl pthread socket inet nsl gdbm dbm malloc dl ld sun m crypt sec util c cposix posix ucb BSD gdbm_compat -Duseithreads -Uuselongdouble -DDEBUGGING=-g'
    hint=recommended, useposix=true, d_sigaction=define
    useithreads=define, usemultiplicity=define
    useperlio=define, d_sfio=undef, uselargefiles=define, usesocks=undef
    use64bitint=define, use64bitall=define, uselongdouble=undef
    usemymalloc=n, bincompat5005=undef
  Compiler:
    cc='cc', ccflags ='-D_REENTRANT -D_GNU_SOURCE -fno-strict-aliasing -pipe -fstack-protector -I/usr/local/include -D_LARGEFILE_SOURCE -D_FILE_OFFSET_BITS=64',
    optimize='-O2 -g',
    cppflags='-D_REENTRANT -D_GNU_SOURCE -fno-strict-aliasing -pipe -fstack-protector -I/usr/local/include'
    ccversion='', gccversion='6.2.0 20160830', gccosandvers=''
    intsize=4, longsize=8, ptrsize=8, doublesize=8, byteorder=12345678
    d_longlong=define, longlongsize=8, d_longdbl=define, longdblsize=16
    ivtype='long', ivsize=8, nvtype='double', nvsize=8, Off_t='off_t', lseeksize=8
    alignbytes=8, prototype=define
  Linker and Libraries:
    ld='cc', ldflags =' -fstack-protector -L/usr/local/lib'
    libpth=/usr/local/lib /lib/x86_64-linux-gnu /lib/../lib /usr/lib/x86_64-linux-gnu /usr/lib/../lib /lib /usr/lib
    libs=-lpthread -lnsl -lgdbm -ldl -lm -lcrypt -lutil -lc -lgdbm_compat
    perllibs=-lpthread -lnsl -ldl -lm -lcrypt -lutil -lc
    libc=libc-2.24.so, so=so, useshrplib=false, libperl=libperl.a
    gnulibc_version='2.24'
  Dynamic Linking:
    dlsrc=dl_dlopen.xs, dlext=so, d_dlsymun=undef, ccdlflags='-Wl,-E'
    cccdlflags='-fPIC', lddlflags='-shared -O2 -g -L/usr/local/lib -fstack-protector'


Characteristics of this binary (from libperl): 
  Compile-time options: MULTIPLICITY PERL_DONT_CREATE_GVSV
                        PERL_IMPLICIT_CONTEXT PERL_MALLOC_WRAP
                        PERL_PRESERVE_IVUV PERL_USE_DEVEL USE_64_BIT_ALL
                        USE_64_BIT_INT USE_ITHREADS USE_LARGE_FILES
                        USE_PERLIO USE_PERL_ATOF USE_REENTRANT_API
  Locally applied patches:
	uncommitted-changes
  Built under linux
  Compiled at Sep 18 2016 17:40:20
  %ENV:
    PERL5LIB=""
    PERL5OPT=""
    PERL5_CPANPLUS_IS_RUNNING="4175"
    PERL5_CPAN_IS_RUNNING="4175"
    PERL_CANARY_STABILITY_NOPROMPT="1"
    PERL_MM_USE_DEFAULT="1"
  @INC:
    /home/sand/src/perl/repoperls/installed-perls/perl/v5.14.0/f7bf/lib/site_perl/5.14.0/x86_64-linux-thread-multi
    /home/sand/src/perl/repoperls/installed-perls/perl/v5.14.0/f7bf/lib/site_perl/5.14.0
    /home/sand/src/perl/repoperls/installed-perls/perl/v5.14.0/f7bf/lib/5.14.0/x86_64-linux-thread-multi
    /home/sand/src/perl/repoperls/installed-perls/perl/v5.14.0/f7bf/lib/5.14.0
    .