Report for Catalyst-Engine-Stomp-0.17

Back
From: metabase:user:d2c9f356-b46f-11df-9a90-20a83c0b7757
Subject: PASS Catalyst-Engine-Stomp-0.17 v5.15.5 SunOS/Solaris
Date: 2011-12-02T02:45:54Z

This distribution has been tested as part of the CPAN Testers
project, supporting the Perl programming language.  See
http://wiki.cpantesters.org/ for more information or email
questions to cpan-testers-discuss@perl.org


--
Dear Paul Mooney,

This is a computer-generated report for Catalyst-Engine-Stomp-0.17
on perl 5.15.5, created by CPAN-Reporter-1.2002.

Thank you for uploading your work to CPAN.  Congratulations!
All tests were successful.

Sections of this report:

    * Tester comments
    * Program output
    * Prerequisites
    * Environment and other context

------------------------------
TESTER COMMENTS
------------------------------

Additional comments from tester:

this report is from an automated smoke testing program
and was not reviewed by a human for accuracy

------------------------------
PROGRAM OUTPUT
------------------------------

Output from '/usr/local/bin/make test':

PERL_DL_NONLAZY=1 /export/home/cpant4/perl5/bin/perl5.15.5 "-MExtUtils::Command::MM" "-e" "test_harness(0, 'inc', 'blib/lib', 'blib/arch')" t/00_use.t t/01_notabs.t t/02_pod.t t/03_pod_coverage.t t/10_good-message.t t/11_bad-action.t t/12_json-message.t t/13_message-driven-request.t t/14_message-catch-error.t t/15_utf8.t t/16_old_config.t t/17_new_style_subscriptions.t t/18_jmstype.t
t/00_use.t ...................... ok
t/01_notabs.t ................... skipped: NoTabs test only for developers.
t/02_pod.t ...................... skipped: set TEST_POD to enable this test
t/03_pod_coverage.t ............. skipped: set TEST_POD to enable this test
t/10_good-message.t ............. skipped: No ActiveMQ server installed by Alien::ActiveMQ, try running the "install-activemq" command
t/11_bad-action.t ............... skipped: No ActiveMQ server installed by Alien::ActiveMQ, try running the "install-activemq" command
t/12_json-message.t ............. skipped: No ActiveMQ server installed by Alien::ActiveMQ, try running the "install-activemq" command
Use of uninitialized value in string eq at /export/home/cpant4/perl5/lib/site_perl/5.15.5/Catalyst/Engine.pm line 481.
Use of uninitialized value in string eq at /export/home/cpant4/perl5/lib/site_perl/5.15.5/Catalyst.pm line 1793.
Use of uninitialized value in string eq at /export/home/cpant4/perl5/lib/site_perl/5.15.5/Catalyst/Engine.pm line 481.
Use of uninitialized value in string eq at /export/home/cpant4/perl5/lib/site_perl/5.15.5/Catalyst.pm line 1793.
[error] no message type specified
t/13_message-driven-request.t ... ok
Use of uninitialized value in string eq at /export/home/cpant4/perl5/lib/site_perl/5.15.5/Catalyst/Engine.pm line 481.
Use of uninitialized value in string eq at /export/home/cpant4/perl5/lib/site_perl/5.15.5/Catalyst.pm line 1793.
Use of uninitialized value in string eq at /export/home/cpant4/perl5/lib/site_perl/5.15.5/Catalyst/Engine.pm line 481.
Use of uninitialized value in string eq at /export/home/cpant4/perl5/lib/site_perl/5.15.5/Catalyst.pm line 1793.
[error] Exception thrown: StompTestApp::Error=HASH(0x970c848)
t/14_message-catch-error.t ...... ok
t/15_utf8.t ..................... skipped: No ActiveMQ server installed by Alien::ActiveMQ, try running the "install-activemq" command
t/16_old_config.t ............... skipped: No ActiveMQ server installed by Alien::ActiveMQ, try running the "install-activemq" command
t/17_new_style_subscriptions.t .. skipped: No ActiveMQ server installed by Alien::ActiveMQ, try running the "install-activemq" command
t/18_jmstype.t .................. skipped: No ActiveMQ server installed by Alien::ActiveMQ, try running the "install-activemq" command
All tests successful.
Files=13, Tests=12, 10 wallclock secs ( 0.19 usr  0.13 sys +  7.61 cusr  2.03 csys =  9.96 CPU)
Result: PASS

------------------------------
PREREQUISITES
------------------------------

Prerequisite modules loaded:

requires:

    Module                         Need    Have    
    ------------------------------ ------- --------
    Alien::ActiveMQ                0.00003 0.00004 
    Catalyst::Engine::Embeddable   v0.0.1  0.000003
    Catalyst::Plugin::ConfigLoader 0       0.30    
    Catalyst::Runtime              5.80004 5.90007 
    Data::Serializer               0.49    0.59    
    Moose                          0       2.0401  
    MooseX::Types                  0       0.30    
  ! MooseX::Workers                0.05    n/a     
    namespace::autoclean           0.05    0.13    
    Net::Stomp                     0.34    0.44    
    YAML                           0       0.77    
    YAML::XS                       0.32    0.37    

build_requires:

    Module                         Need    Have    
    ------------------------------ ------- --------
    Alien::ActiveMQ                0.00003 0.00004 
    Catalyst::Plugin::ConfigLoader 0       0.30    
    ExtUtils::MakeMaker            6.42    6.63_02 

configure_requires:

    Module                         Need    Have    
    ------------------------------ ------- --------
    ExtUtils::MakeMaker            6.42    6.63_02 


------------------------------
ENVIRONMENT AND OTHER CONTEXT
------------------------------

Environment variables:

    AUTOMATED_TESTING = 1
    LANG = C
    LD_LIBRARY_PATH = /usr/local/lib:
    PATH = /export/home/cpant4/perl5/bin:/usr/local/bin:/usr/bin
    PERL5LIB = /export/home/cpant4/.cpan/build/Catalyst-Engine-Embeddable-0.000003-cGKXL3/blib/arch:/export/home/cpant4/.cpan/build/Catalyst-Engine-Embeddable-0.000003-cGKXL3/blib/lib:/export/home/cpant4/.cpan/build/Catalyst-Plugin-ConfigLoader-0.30-sPvXiH/blib/arch:/export/home/cpant4/.cpan/build/Catalyst-Plugin-ConfigLoader-0.30-sPvXiH/blib/lib:/export/home/cpant4/.cpan/build/Alien-ActiveMQ-0.00004-zOO2Ov/blib/arch:/export/home/cpant4/.cpan/build/Alien-ActiveMQ-0.00004-zOO2Ov/blib/lib:/export/home/cpant4/.cpan/build/Net-Stomp-0.44-8qeqx_/blib/arch:/export/home/cpant4/.cpan/build/Net-Stomp-0.44-8qeqx_/blib/lib:/export/home/cpant4/.cpan/build/Method-Signatures-Simple-1.02-x4RQy1/blib/arch:/export/home/cpant4/.cpan/build/Method-Signatures-Simple-1.02-x4RQy1/blib/lib:/export/home/cpant4/.cpan/build/IPC-Run-0.90-LUSBdJ/blib/arch:/export/home/cpant4/.cpan/build/IPC-Run-0.90-LUSBdJ/blib/lib
    PERL5OPT = 
    PERL5_CPANPLUS_IS_RUNNING = 5758
    PERL5_CPAN_IS_RUNNING = 5758
    PERL5_CPAN_IS_RUNNING_IN_RECURSION = 134,5758
    PERL_CR_SMOKER_CURRENT = Catalyst-Engine-Stomp-0.17
    PERL_EXTUTILS_AUTOINSTALL = --defaultdeps
    PERL_MM_USE_DEFAULT = 1
    SHELL = /bin/bash
    TERM = xterm

Perl special variables (and OS-specific diagnostics, for MSWin32):

    $^X = /export/home/cpant4/perl5/bin/perl5.15.5
    $UID/$EUID = 104 / 104
    $GID = 1 1
    $EGID = 1 1

Perl module toolchain versions installed:

    Module              Have    
    ------------------- --------
    CPAN                1.9800  
    CPAN::Meta          2.112621
    Cwd                 3.37    
    ExtUtils::CBuilder  0.280204
    ExtUtils::Command   1.17    
    ExtUtils::Install   1.57    
    ExtUtils::MakeMaker 6.63_02 
    ExtUtils::Manifest  1.60    
    ExtUtils::ParseXS   3.05    
    File::Spec          3.34    
    JSON                2.53    
    JSON::PP            2.27200 
    Module::Build       0.39_01 
    Module::Signature   n/a     
    Parse::CPAN::Meta   1.4401  
    Test::Harness       3.23    
    Test::More          0.98    
    YAML                0.77    
    YAML::Syck          1.19    
    version             0.95    


--

Summary of my perl5 (revision 5 version 15 subversion 5) configuration:
   
  Platform:
    osname=solaris, osvers=2.10, archname=i86pc-solaris-64int
    uname='sunos vmrz0046 5.10 generic_141445-09 i86pc i386 i86pc solaris '
    config_args='-Dcc=gcc -Dprefix=~/perl5 -Duse64bitint -Dusedevel -d'
    hint=recommended, useposix=true, d_sigaction=define
    useithreads=undef, usemultiplicity=undef
    useperlio=define, d_sfio=undef, uselargefiles=define, usesocks=undef
    use64bitint=define, use64bitall=undef, uselongdouble=undef
    usemymalloc=n, bincompat5005=undef
  Compiler:
    cc='gcc', ccflags ='-DPTR_IS_LONG -fno-strict-aliasing -pipe -I/usr/local/include -D_LARGEFILE_SOURCE -D_FILE_OFFSET_BITS=64 -DPERL_USE_SAFE_PUTENV',
    optimize='-O',
    cppflags='-DPTR_IS_LONG -fno-strict-aliasing -pipe -I/usr/local/include'
    ccversion='', gccversion='3.4.6', gccosandvers='solaris2.10'
    intsize=4, longsize=4, ptrsize=4, doublesize=8, byteorder=12345678
    d_longlong=define, longlongsize=8, d_longdbl=define, longdblsize=12
    ivtype='long long', ivsize=8, nvtype='double', nvsize=8, Off_t='off_t', lseeksize=8
    alignbytes=4, prototype=define
  Linker and Libraries:
    ld='gcc', ldflags =' -L/usr/local/lib '
    libpth=/usr/local/lib /usr/lib /usr/ccs/lib
    libs=-lsocket -lnsl -lgdbm -ldl -lm -lc
    perllibs=-lsocket -lnsl -ldl -lm -lc
    libc=/lib/libc.so, so=so, useshrplib=false, libperl=libperl.a
    gnulibc_version=''
  Dynamic Linking:
    dlsrc=dl_dlopen.xs, dlext=so, d_dlsymun=undef, ccdlflags=' '
    cccdlflags='-fPIC', lddlflags='-G -L/usr/local/lib'


Characteristics of this binary (from libperl): 
  Compile-time options: HAS_TIMES PERLIO_LAYERS PERL_DONT_CREATE_GVSV
                        PERL_MALLOC_WRAP PERL_PRESERVE_IVUV PERL_USE_DEVEL
                        PERL_USE_SAFE_PUTENV USE_64_BIT_INT USE_LARGE_FILES
                        USE_LOCALE USE_LOCALE_COLLATE USE_LOCALE_CTYPE
                        USE_LOCALE_NUMERIC USE_PERLIO USE_PERL_ATOF
  Built under solaris
  Compiled at Nov 28 2011 11:34:47
  %ENV:
    PERL5LIB="/export/home/cpant4/.cpan/build/Catalyst-Engine-Embeddable-0.000003-cGKXL3/blib/arch:/export/home/cpant4/.cpan/build/Catalyst-Engine-Embeddable-0.000003-cGKXL3/blib/lib:/export/home/cpant4/.cpan/build/Catalyst-Plugin-ConfigLoader-0.30-sPvXiH/blib/arch:/export/home/cpant4/.cpan/build/Catalyst-Plugin-ConfigLoader-0.30-sPvXiH/blib/lib:/export/home/cpant4/.cpan/build/Alien-ActiveMQ-0.00004-zOO2Ov/blib/arch:/export/home/cpant4/.cpan/build/Alien-ActiveMQ-0.00004-zOO2Ov/blib/lib:/export/home/cpant4/.cpan/build/Net-Stomp-0.44-8qeqx_/blib/arch:/export/home/cpant4/.cpan/build/Net-Stomp-0.44-8qeqx_/blib/lib:/export/home/cpant4/.cpan/build/Method-Signatures-Simple-1.02-x4RQy1/blib/arch:/export/home/cpant4/.cpan/build/Method-Signatures-Simple-1.02-x4RQy1/blib/lib:/export/home/cpant4/.cpan/build/IPC-Run-0.90-LUSBdJ/blib/arch:/export/home/cpant4/.cpan/build/IPC-Run-0.90-LUSBdJ/blib/lib"
    PERL5OPT=""
    PERL5_CPANPLUS_IS_RUNNING="5758"
    PERL5_CPAN_IS_RUNNING="5758"
    PERL5_CPAN_IS_RUNNING_IN_RECURSION="134,5758"
    PERL_CR_SMOKER_CURRENT="Catalyst-Engine-Stomp-0.17"
    PERL_EXTUTILS_AUTOINSTALL="--defaultdeps"
    PERL_MM_USE_DEFAULT="1"
  @INC:
    /export/home/cpant4/.cpan/build/Catalyst-Engine-Embeddable-0.000003-cGKXL3/blib/arch
    /export/home/cpant4/.cpan/build/Catalyst-Engine-Embeddable-0.000003-cGKXL3/blib/lib
    /export/home/cpant4/.cpan/build/Catalyst-Plugin-ConfigLoader-0.30-sPvXiH/blib/arch
    /export/home/cpant4/.cpan/build/Catalyst-Plugin-ConfigLoader-0.30-sPvXiH/blib/lib
    /export/home/cpant4/.cpan/build/Alien-ActiveMQ-0.00004-zOO2Ov/blib/arch
    /export/home/cpant4/.cpan/build/Alien-ActiveMQ-0.00004-zOO2Ov/blib/lib
    /export/home/cpant4/.cpan/build/Net-Stomp-0.44-8qeqx_/blib/arch
    /export/home/cpant4/.cpan/build/Net-Stomp-0.44-8qeqx_/blib/lib
    /export/home/cpant4/.cpan/build/Method-Signatures-Simple-1.02-x4RQy1/blib/arch
    /export/home/cpant4/.cpan/build/Method-Signatures-Simple-1.02-x4RQy1/blib/lib
    /export/home/cpant4/.cpan/build/IPC-Run-0.90-LUSBdJ/blib/arch
    /export/home/cpant4/.cpan/build/IPC-Run-0.90-LUSBdJ/blib/lib
    /export/home/cpant4/perl5/lib/site_perl/5.15.5/i86pc-solaris-64int
    /export/home/cpant4/perl5/lib/site_perl/5.15.5
    /export/home/cpant4/perl5/lib/5.15.5/i86pc-solaris-64int
    /export/home/cpant4/perl5/lib/5.15.5
    /export/home/cpant4/perl5/lib/site_perl
    .