Back
From: metabase:user:30f4dfbe-2aae-11df-837a-5e0a49663a4f
Subject: PASS XSLoader-0.15 v5.12.3 Mac OS X
Date: 2011-08-11T20:30:29Z
This distribution has been tested as part of the CPAN Testers
project, supporting the Perl programming language. See
http://wiki.cpantesters.org/ for more information or email
questions to cpan-testers-discuss@perl.org
--
Dear Sebastien Aperghis-Tramoni,
This is a computer-generated report for XSLoader-0.15
on perl 5.12.3, created by CPAN-Reporter-1.2001.
Thank you for uploading your work to CPAN. Congratulations!
All tests were successful.
Sections of this report:
* Tester comments
* Program output
* Prerequisites
* Environment and other context
------------------------------
TESTER COMMENTS
------------------------------
Additional comments from tester:
none provided
------------------------------
PROGRAM OUTPUT
------------------------------
Output from '/usr/bin/make test':
PERL_DL_NONLAZY=1 /usr/bin/perl "-MExtUtils::Command::MM" "-e" "test_harness(0, 'blib/lib', 'blib/arch')" t/*.t
# testing XSLoader v0.15 under Perl 5.012003
t/00-load.t ... ok
t/01-api.t .... ok
t/distchk.t ... skipped: Test::Distribution required for checking distribution
t/pod.t ....... ok
t/podcover.t .. ok
t/portfs.t .... ok
t/XSLoader.t .. ok
All tests successful.
Files=7, Tests=28, 0 wallclock secs ( 0.05 usr 0.03 sys + 0.32 cusr 0.07 csys = 0.47 CPU)
Result: PASS
------------------------------
PREREQUISITES
------------------------------
Prerequisite modules loaded:
requires:
Module Need Have
------------------- ---- ----
Test::More 0.62 0.98
build_requires:
Module Need Have
------------------- ---- ----
ExtUtils::MakeMaker 0 6.59
configure_requires:
Module Need Have
------------------- ---- ----
ExtUtils::MakeMaker 0 6.59
------------------------------
ENVIRONMENT AND OTHER CONTEXT
------------------------------
Environment variables:
LANG = en_GB.UTF-8
PATH = /usr/local/bin:/usr/bin:/bin:/usr/sbin:/sbin:/usr/local/bin:/usr/X11/bin:/Users/nigel/bin:/Users/nigel/perl/bin
PERL5LIB = /Users/nigel/.cpan/build/XML-LibXML-1.84-lj68nl/blib/arch:/Users/nigel/.cpan/build/XML-LibXML-1.84-lj68nl/blib/lib:/Users/nigel/perl/Library/Perl/Updates/5.12.3:/Users/nigel/perl/Library/Perl/Updates/5.10.0:/Users/nigel/perl/Users/nigel/perl::/Users/nigel/perl/lib/perl5:/Users/nigel/perl/lib/perl5/site_perl
PERL5OPT =
PERL5_CPANPLUS_IS_RUNNING = 36419
PERL5_CPAN_IS_RUNNING = 36419
SHELL = /bin/bash
TERM = xterm-256color
TMPDIR = /var/folders/cw/7gjv01890zl491p_yjzkp2vm00011n/T/
VERSIONER_PERL_PREFER_32_BIT = no
VERSIONER_PERL_VERSION = 5.12
Perl special variables (and OS-specific diagnostics, for MSWin32):
$^X = /usr/bin/perl
$UID/$EUID = 1077 / 1077
$GID = 20 20 402 12 33 61 79 80 81 98 100 204 401 403
$EGID = 20 20 402 12 33 61 79 80 81 98 100 204 401 403
Perl module toolchain versions installed:
Module Have
------------------- --------
CPAN 1.9800
CPAN::Meta 2.112150
Cwd 3.33
ExtUtils::CBuilder 0.27
ExtUtils::Command 1.17
ExtUtils::Install 1.55
ExtUtils::MakeMaker 6.59
ExtUtils::Manifest 1.59
ExtUtils::ParseXS 3.02
File::Spec 3.33
JSON 2.53
JSON::PP 2.27200
Module::Build 0.3800
Module::Signature n/a
Parse::CPAN::Meta 1.4401
Test::Harness 3.23
Test::More 0.98
YAML 0.73
YAML::Syck 1.17
version 0.88
--
Summary of my perl5 (revision 5 version 12 subversion 3) configuration:
Platform:
osname=darwin, osvers=11.0, archname=darwin-thread-multi-2level
uname='darwin fifth.apple.com 11.0 darwin kernel version 11.0.0: sun may 29 13:02:55 pdt 2011; root:xnu-1699.22.44~4release_x86_64 x86_64 '
config_args='-ds -e -Dprefix=/usr -Dccflags=-g -pipe -Dldflags= -Dman3ext=3pm -Duseithreads -Duseshrplib -Dinc_version_list=none -Dcc=llvm-gcc-4.2'
hint=recommended, useposix=true, d_sigaction=define
useithreads=define, usemultiplicity=define
useperlio=define, d_sfio=undef, uselargefiles=define, usesocks=undef
use64bitint=define, use64bitall=define, uselongdouble=undef
usemymalloc=n, bincompat5005=undef
Compiler:
cc='llvm-gcc-4.2', ccflags ='-arch x86_64 -arch i386 -g -pipe -fno-common -DPERL_DARWIN -fno-strict-aliasing -fstack-protector -I/usr/local/include',
optimize='-Os',
cppflags='-g -pipe -fno-common -DPERL_DARWIN -fno-strict-aliasing -fstack-protector -I/usr/local/include'
ccversion='', gccversion='4.2.1 (Based on Apple Inc. build 5658) (LLVM build 2335.15.00)', gccosandvers=''
intsize=4, longsize=8, ptrsize=8, doublesize=8, byteorder=12345678
d_longlong=define, longlongsize=8, d_longdbl=define, longdblsize=16
ivtype='long', ivsize=8, nvtype='double', nvsize=8, Off_t='off_t', lseeksize=8
alignbytes=8, prototype=define
Linker and Libraries:
ld='llvm-gcc-4.2 -mmacosx-version-min=10.7', ldflags ='-arch x86_64 -arch i386 -fstack-protector -L/usr/local/lib'
libpth=/usr/local/lib /usr/lib
libs=-ldbm -ldl -lm -lutil -lc
perllibs=-ldl -lm -lutil -lc
libc=, so=dylib, useshrplib=true, libperl=libperl.dylib
gnulibc_version=''
Dynamic Linking:
dlsrc=dl_dlopen.xs, dlext=bundle, d_dlsymun=undef, ccdlflags=' '
cccdlflags=' ', lddlflags='-arch x86_64 -arch i386 -bundle -undefined dynamic_lookup -L/usr/local/lib -fstack-protector'
Characteristics of this binary (from libperl):
Compile-time options: MULTIPLICITY PERL_DONT_CREATE_GVSV
PERL_IMPLICIT_CONTEXT PERL_MALLOC_WRAP USE_64_BIT_ALL
USE_64_BIT_INT USE_ITHREADS USE_LARGE_FILES
USE_PERLIO USE_PERL_ATOF USE_REENTRANT_API
Locally applied patches:
/Library/Perl/Updates/<version> comes before system perl directories
installprivlib and installarchlib points to the Updates directory
Built under darwin
Compiled at Jun 13 2011 14:45:31
%ENV:
PERL5LIB="/Users/nigel/.cpan/build/XML-LibXML-1.84-lj68nl/blib/arch:/Users/nigel/.cpan/build/XML-LibXML-1.84-lj68nl/blib/lib:/Users/nigel/perl/Library/Perl/Updates/5.12.3:/Users/nigel/perl/Library/Perl/Updates/5.10.0:/Users/nigel/perl/Users/nigel/perl::/Users/nigel/perl/lib/perl5:/Users/nigel/perl/lib/perl5/site_perl"
PERL5OPT=""
PERL5_CPANPLUS_IS_RUNNING="36419"
PERL5_CPAN_IS_RUNNING="36419"
@INC:
/Users/nigel/.cpan/build/XML-LibXML-1.84-lj68nl/blib/arch
/Users/nigel/.cpan/build/XML-LibXML-1.84-lj68nl/blib/lib
/Users/nigel/perl/Library/Perl/Updates/5.12.3/darwin-thread-multi-2level
/Users/nigel/perl/Library/Perl/Updates/5.12.3
/Users/nigel/perl/Library/Perl/Updates/5.10.0
/Users/nigel/perl/Users/nigel/perl
/Users/nigel/perl/lib/perl5/darwin-thread-multi-2level
/Users/nigel/perl/lib/perl5
/Users/nigel/perl/lib/perl5/site_perl/5.12.3/darwin-thread-multi-2level
/Users/nigel/perl/lib/perl5/site_perl/5.12.3
/Users/nigel/perl/lib/perl5/site_perl
/Library/Perl/5.12/darwin-thread-multi-2level
/Library/Perl/5.12
/Network/Library/Perl/5.12/darwin-thread-multi-2level
/Network/Library/Perl/5.12
/Library/Perl/Updates/5.12.3
/System/Library/Perl/5.12/darwin-thread-multi-2level
/System/Library/Perl/5.12
/System/Library/Perl/Extras/5.12/darwin-thread-multi-2level
/System/Library/Perl/Extras/5.12
.