Back
From: metabase:user:34398b7c-37b0-11e2-bdfb-eb4185297f8d
Subject: PASS Test-Ika-0.03 v5.16.1 Mac OS X
Date: 2012-11-26T16:24:30Z
This distribution has been tested as part of the CPAN Testers
project, supporting the Perl programming language. See
http://wiki.cpantesters.org/ for more information or email
questions to cpan-testers-discuss@perl.org
--
Dear Tokuhiro Matsuno,
This is a computer-generated report for Test-Ika-0.03
on perl 5.16.1, created by CPAN-Reporter-1.2006.
Thank you for uploading your work to CPAN. Congratulations!
All tests were successful.
Sections of this report:
* Tester comments
* Program output
* Prerequisites
* Environment and other context
------------------------------
TESTER COMMENTS
------------------------------
Additional comments from tester:
this report is from an automated smoke testing program
and was not reviewed by a human for accuracy
------------------------------
PROGRAM OUTPUT
------------------------------
Output from './Build test':
t/00_compile.t ..................... ok
t/01_reporters.t ................... ok
t/02_hooks.t ....................... ok
t/03_Reporter-Test.t ............... ok
t/04_hooks2.t ...................... ok
t/05_suite_hooks.t ................. ok
t/06_suite_hooks_at_last.t ......... ok
t/07_suite_hooks_inner_describe.t .. ok
t/08_xit.t ......................... ok
All tests successful.
Files=9, Tests=19, 0 wallclock secs ( 0.03 usr 0.02 sys + 0.33 cusr 0.05 csys = 0.43 CPU)
Result: PASS
------------------------------
PREREQUISITES
------------------------------
Prerequisite modules loaded:
requires:
Module Need Have
-------------------- -------- --------
Exporter 0 5.66
Module::Load 0 0.22
parent 0 0.225
perl 5.010001 5.016001
Scope::Guard 0 0.20
Term::Encoding 0 0.02
Test::More 0.98 0.98
Test::Name::FromLine 0.06 0.08
Try::Tiny 0 0.11
build_requires:
Module Need Have
-------------------- -------- --------
Test::More 0.98 0.98
Test::Requires 0 0.06
configure_requires:
Module Need Have
-------------------- -------- --------
Module::Build 0.38 0.4003
------------------------------
ENVIRONMENT AND OTHER CONTEXT
------------------------------
Environment variables:
AUTOMATED_TESTING = 1
LANG = de_DE.UTF-8
MANPATH_WITHOUT_PERLBREW = /Users/glauschwuffel/.rvm/rubies/ruby-1.9.3-p194/share/man:/Users/glauschwuffel/.rvm/man:/usr/share/man:/usr/local/share/man/de:/usr/local/share/man:/usr/X11/man:/usr/local/git/share/man:/usr/texbin/man
PATH = /Users/glauschwuffel/perl5/perlbrew/bin:/Users/glauschwuffel/perl5/perlbrew/perls/perl-5.16.1/bin:/Users/glauschwuffel/.rvm/gems/ruby-1.9.3-p194@rails3tutorial2ndEd/bin:/Users/glauschwuffel/.rvm/gems/ruby-1.9.3-p194@global/bin:/Users/glauschwuffel/.rvm/rubies/ruby-1.9.3-p194/bin:/Users/glauschwuffel/.rvm/bin:/usr/bin:/bin:/usr/sbin:/sbin:/usr/local/bin:/usr/X11/bin:/usr/local/git/bin:/usr/texbin
PATH_WITHOUT_PERLBREW = /Users/glauschwuffel/.rvm/gems/ruby-1.9.3-p194@rails3tutorial2ndEd/bin:/Users/glauschwuffel/.rvm/gems/ruby-1.9.3-p194@global/bin:/Users/glauschwuffel/.rvm/rubies/ruby-1.9.3-p194/bin:/Users/glauschwuffel/.rvm/bin:/usr/bin:/bin:/usr/sbin:/sbin:/usr/local/bin:/usr/X11/bin:/usr/local/git/bin:/usr/texbin
PERL5LIB = /Users/glauschwuffel/.cpan/build/Term-Encoding-0.02-TLGCNe/blib/arch:/Users/glauschwuffel/.cpan/build/Term-Encoding-0.02-TLGCNe/blib/lib:/Users/glauschwuffel/.cpan/build/Test-Name-FromLine-0.08-A1Z1in/blib/arch:/Users/glauschwuffel/.cpan/build/Test-Name-FromLine-0.08-A1Z1in/blib/lib
PERL5OPT =
PERL5_CPANPLUS_IS_RUNNING = 84413
PERL5_CPAN_IS_RUNNING = 84413
PERL5_CPAN_IS_RUNNING_IN_RECURSION = 57750,84413
PERLBREW_BASHRC_VERSION = 0.46
PERLBREW_HOME = /Users/glauschwuffel/.perlbrew
PERLBREW_MANPATH = /Users/glauschwuffel/perl5/perlbrew/perls/perl-5.16.1/man
PERLBREW_PATH = /Users/glauschwuffel/perl5/perlbrew/bin:/Users/glauschwuffel/perl5/perlbrew/perls/perl-5.16.1/bin
PERLBREW_PERL = perl-5.16.1
PERLBREW_ROOT = /Users/glauschwuffel/perl5/perlbrew
PERLBREW_VERSION = 0.46
PERL_CR_SMOKER_CURRENT = Test-Ika-0.03
PERL_EXTUTILS_AUTOINSTALL = --defaultdeps
PERL_MM_USE_DEFAULT = 1
SHELL = /bin/bash
TERM = xterm-256color
TMPDIR = /var/folders/vt/gpl7slvn6016nqcbkrdb0pj40000gp/T/
Perl special variables (and OS-specific diagnostics, for MSWin32):
$^X = /Users/glauschwuffel/perl5/perlbrew/perls/perl-5.16.1/bin/perl
$UID/$EUID = 502 / 502
$GID = 20 20 402 401 404 12 33 61 79 80 81 98 100 204 406 405 403
$EGID = 20 20 402 401 404 12 33 61 79 80 81 98 100 204 406 405 403
Perl module toolchain versions installed:
Module Have
------------------- --------
CPAN 1.9800
CPAN::Meta 2.120921
Cwd 3.39_02
ExtUtils::CBuilder 0.280206
ExtUtils::Command 1.17
ExtUtils::Install 1.58
ExtUtils::MakeMaker 6.63_02
ExtUtils::Manifest 1.61
ExtUtils::ParseXS 3.16
File::Spec 3.39_02
JSON 2.53
JSON::PP 2.27200
Module::Build 0.4003
Module::Signature n/a
Parse::CPAN::Meta 1.4404
Test::Harness 3.25
Test::More 0.98
YAML 0.84
YAML::Syck 1.20
version 0.99
--
Summary of my perl5 (revision 5 version 16 subversion 1) configuration:
Platform:
osname=darwin, osvers=11.4.0, archname=darwin-2level
uname='darwin gregorgoldbachmbp-2.local 11.4.0 darwin kernel version 11.4.0: mon apr 9 19:32:15 pdt 2012; root:xnu-1699.26.8~1release_x86_64 x86_64 '
config_args='-de -Dprefix=/Users/glauschwuffel/perl5/perlbrew/perls/perl-5.16.1 -Aeval:scriptdir=/Users/glauschwuffel/perl5/perlbrew/perls/perl-5.16.1/bin'
hint=recommended, useposix=true, d_sigaction=define
useithreads=undef, usemultiplicity=undef
useperlio=define, d_sfio=undef, uselargefiles=define, usesocks=undef
use64bitint=define, use64bitall=define, uselongdouble=undef
usemymalloc=n, bincompat5005=undef
Compiler:
cc='cc', ccflags ='-fno-common -DPERL_DARWIN -fno-strict-aliasing -pipe -fstack-protector -I/usr/local/include',
optimize='-O3',
cppflags='-fno-common -DPERL_DARWIN -fno-strict-aliasing -pipe -fstack-protector -I/usr/local/include'
ccversion='', gccversion='4.2.1 Compatible Apple Clang 3.1 (tags/Apple/clang-318.0.61)', gccosandvers=''
intsize=4, longsize=8, ptrsize=8, doublesize=8, byteorder=12345678
d_longlong=define, longlongsize=8, d_longdbl=define, longdblsize=16
ivtype='long', ivsize=8, nvtype='double', nvsize=8, Off_t='off_t', lseeksize=8
alignbytes=8, prototype=define
Linker and Libraries:
ld='env MACOSX_DEPLOYMENT_TARGET=10.3 cc', ldflags =' -fstack-protector -L/usr/local/lib'
libpth=/usr/local/lib /usr/lib
libs=-ldbm -ldl -lm -lutil -lc
perllibs=-ldl -lm -lutil -lc
libc=, so=dylib, useshrplib=false, libperl=libperl.a
gnulibc_version=''
Dynamic Linking:
dlsrc=dl_dlopen.xs, dlext=bundle, d_dlsymun=undef, ccdlflags=' '
cccdlflags=' ', lddlflags=' -bundle -undefined dynamic_lookup -L/usr/local/lib -fstack-protector'
Characteristics of this binary (from libperl):
Compile-time options: HAS_TIMES PERLIO_LAYERS PERL_DONT_CREATE_GVSV
PERL_MALLOC_WRAP PERL_PRESERVE_IVUV USE_64_BIT_ALL
USE_64_BIT_INT USE_LARGE_FILES USE_LOCALE
USE_LOCALE_COLLATE USE_LOCALE_CTYPE
USE_LOCALE_NUMERIC USE_PERLIO USE_PERL_ATOF
Built under darwin
Compiled at Aug 18 2012 00:33:25
%ENV:
PERL5LIB="/Users/glauschwuffel/.cpan/build/Term-Encoding-0.02-TLGCNe/blib/arch:/Users/glauschwuffel/.cpan/build/Term-Encoding-0.02-TLGCNe/blib/lib:/Users/glauschwuffel/.cpan/build/Test-Name-FromLine-0.08-A1Z1in/blib/arch:/Users/glauschwuffel/.cpan/build/Test-Name-FromLine-0.08-A1Z1in/blib/lib"
PERL5OPT=""
PERL5_CPANPLUS_IS_RUNNING="84413"
PERL5_CPAN_IS_RUNNING="84413"
PERL5_CPAN_IS_RUNNING_IN_RECURSION="57750,84413"
PERLBREW_BASHRC_VERSION="0.46"
PERLBREW_HOME="/Users/glauschwuffel/.perlbrew"
PERLBREW_MANPATH="/Users/glauschwuffel/perl5/perlbrew/perls/perl-5.16.1/man"
PERLBREW_PATH="/Users/glauschwuffel/perl5/perlbrew/bin:/Users/glauschwuffel/perl5/perlbrew/perls/perl-5.16.1/bin"
PERLBREW_PERL="perl-5.16.1"
PERLBREW_ROOT="/Users/glauschwuffel/perl5/perlbrew"
PERLBREW_VERSION="0.46"
PERL_CR_SMOKER_CURRENT="Test-Ika-0.03"
PERL_EXTUTILS_AUTOINSTALL="--defaultdeps"
PERL_MM_USE_DEFAULT="1"
@INC:
/Users/glauschwuffel/.cpan/build/Term-Encoding-0.02-TLGCNe/blib/arch
/Users/glauschwuffel/.cpan/build/Term-Encoding-0.02-TLGCNe/blib/lib
/Users/glauschwuffel/.cpan/build/Test-Name-FromLine-0.08-A1Z1in/blib/arch
/Users/glauschwuffel/.cpan/build/Test-Name-FromLine-0.08-A1Z1in/blib/lib
/Users/glauschwuffel/perl5/perlbrew/perls/perl-5.16.1/lib/site_perl/5.16.1/darwin-2level
/Users/glauschwuffel/perl5/perlbrew/perls/perl-5.16.1/lib/site_perl/5.16.1
/Users/glauschwuffel/perl5/perlbrew/perls/perl-5.16.1/lib/5.16.1/darwin-2level
/Users/glauschwuffel/perl5/perlbrew/perls/perl-5.16.1/lib/5.16.1
.