ETL-Yertl v0.041 Perl 5 v5.16.3 x86_64-linux
- Status
- Pass
- From
- Slaven Rezić (SREZIC)
- Dist
-
ETL-Yertl v0.041
- Platform
- Perl 5 v5.16.3 x86_64-linux
- Date
- 2018-09-06 07:44:58
- ID
- c1251024-b1a8-11e8-b386-c5c13df01e58
This distribution has been tested as part of the CPAN Testers
project, supporting the Perl programming language. See
http://wiki.cpantesters.org/ for more information or email
questions to cpan-testers-discuss@perl.org
--
Dear Doug Bell,
This is a computer-generated report for ETL-Yertl-0.041
on perl 5.16.3, created by CPAN-Reporter-1.2018.
Thank you for uploading your work to CPAN. Congratulations!
All tests were successful.
Sections of this report:
* Tester comments
* Program output
* Prerequisites
* Environment and other context
------------------------------
TESTER COMMENTS
------------------------------
Additional comments from tester:
none provided
------------------------------
PROGRAM OUTPUT
------------------------------
Output from '/usr/bin/make test':
PERL_DL_NONLAZY=1 "/bbbike/perl-5.16.3/bin/perl" "-MExtUtils::Command::MM" "-MTest::Harness" "-e" "undef *Test::Harness::Switches; test_harness(0, 'blib/lib', 'blib/arch')" t/*.t t/adapter/*.t t/bin/*.t t/command/ygrok/*.t t/command/ygrok/pattern/*.t t/command/yq/*.t t/format/*.t t/integration/*.t
t/00-compile.t ........................... ok
#
# Versions for all modules listed in MYMETA.json (including optional ones):
#
# === Configure Requires ===
#
# Module Want Have
# ------------------- ---- ----
# ExtUtils::MakeMaker any 7.34
#
# === Build Requires ===
#
# Module Want Have
# ------------------- ---- ----
# ExtUtils::MakeMaker any 7.34
#
# === Test Requires ===
#
# Module Want Have
# ------------------- -------- --------
# Capture::Tiny any 0.46
# Dir::Self any 0.11
# ExtUtils::MakeMaker any 7.34
# File::Spec any 3.74
# Future any 0.38
# IO::Handle any 1.39
# IPC::Open3 any 1.12
# JSON::PP any 2.94
# Mock::MonkeyPatch any 0.03
# Test::Deep any 1.128
# Test::Differences any 0.64
# Test::Exception any 0.43
# Test::Lib any 0.002
# Test::More 1.001005 1.302136
#
# === Test Recommends ===
#
# Module Want Have
# ---------- -------- --------
# CPAN::Meta 2.120900 2.150010
#
# === Runtime Requires ===
#
# Module Want Have
# ------------------- ---------- ----------
# File::HomeDir any 1.002
# File::Spec any 3.74
# Getopt::Long 2.36 2.5
# Hash::Merge::Simple any 0.051
# IO::Async 0.72 0.72
# IO::Interactive any 1.022
# Import::Base 0.010 1.003
# JSON::MaybeXS any 1.004000
# List::Util any 1.50
# Module::Runtime any 0.014
# Net::Async::HTTP any 0.41
# Path::Tiny 0.072 0.108
# Pod::Usage::Return any 0.003
# Regexp::Common 2013031301 2017060201
# SQL::Abstract any 1.85
# Time::Local any 1.27
# Time::Piece any 1.3204
# URI any 1.74
# YAML::Tiny any 1.70
# boolean any 0.45
#
# === Runtime Recommends ===
#
# Module Want Have
# ------------ ---- -----
# DBD::SQLite any 1.56
# DBI any 1.641
# JSON::PP any 2.94
# JSON::XS any 3.04
# Text::CSV any 1.97
# Text::CSV_XS any 1.35
# YAML::Syck any 1.30
# YAML::XS any 0.74
#
t/00-report-prereqs.t .................... ok
Name "CORE::GLOBAL::time" used only once: possible typo at t/adapter/graphite.t line 142.
t/adapter/graphite.t ..................... ok
Name "CORE::GLOBAL::time" used only once: possible typo at t/adapter/influxdb.t line 151.
t/adapter/influxdb.t ..................... ok
t/bin/yfrom.t ............................ ok
t/bin/ygrok.t ............................ ok
Use of uninitialized value in string eq at /tmpfs/.cpan-build-cpansand/2018090606/ETL-Yertl-0.041-7/blib/lib/ETL/Yertl.pm line 23.
t/bin/yq.t ............................... ok
t/bin/ysql.t ............................. ok
t/bin/yto.t .............................. ok
t/bin/yts.t .............................. ok
t/command/ygrok/edit_patterns.t .......... ok
t/command/ygrok/pattern/http_combined.t .. ok
t/command/ygrok/pattern/http_common.t .... ok
t/command/ygrok/pattern/linux_proc.t ..... ok
t/command/ygrok/pattern/ls-l.t ........... ok
t/command/ygrok/pattern/ps-u.t ........... ok
t/command/ygrok/pattern/ps-x.t ........... ok
t/command/ygrok/pattern/ps.t ............. ok
t/command/ygrok/pattern/syslog.t ......... ok
t/command/yq/combinator.t ................ ok
t/command/yq/comparison.t ................ ok
t/command/yq/conditional.t ............... ok
t/command/yq/filter.t .................... ok
empty does not take arguments
t/command/yq/functions.t ................. ok
t/command/yq/regression.t ................ ok
t/command/yq/values.t .................... ok
t/format.t ............................... ok
t/format/csv.t ........................... ok
Prototype mismatch: sub main::decode_json ($) vs none at /opt/perl-5.16.3/lib/site_perl/5.16.3/Exporter.pm line 66.
at (eval 47) line 1.
t/format/json.t .......................... ok
t/format/yaml.t .......................... ok
t/format_stream.t ........................ ok
Use of uninitialized value in string eq at /tmpfs/.cpan-build-cpansand/2018090606/ETL-Yertl-0.041-7/blib/lib/ETL/Yertl.pm line 23.
t/helpers.t .............................. ok
t/input_series.t ......................... ok
Use of uninitialized value in string eq at /tmpfs/.cpan-build-cpansand/2018090606/ETL-Yertl-0.041-7/blib/lib/ETL/Yertl.pm line 23.
t/integration/parse_apache_log.t ......... ok
t/transform.t ............................ ok
All tests successful.
Files=35, Tests=124, 12 wallclock secs ( 0.11 usr 0.16 sys + 6.91 cusr 1.41 csys = 8.59 CPU)
Result: PASS
------------------------------
PREREQUISITES
------------------------------
Prerequisite modules loaded:
requires:
Module Need Have
------------------- ---------- ----------
boolean 0 0.45
File::HomeDir 0 1.002
File::Spec 0 3.74
Getopt::Long 2.36 2.5
Hash::Merge::Simple 0 0.051
Import::Base 0.010 1.003
IO::Async 0.72 0.72
IO::Interactive 0 1.022
JSON::MaybeXS 0 1.004000
List::Util 0 1.50
Module::Runtime 0 0.014
Net::Async::HTTP 0 0.41
Path::Tiny 0.072 0.108
perl 5.010 5.016003
Pod::Usage::Return 0 0.003
Regexp::Common 2013031301 2017060201
SQL::Abstract 0 1.85
Time::Local 0 1.27
Time::Piece 0 1.3204
URI 0 1.74
YAML::Tiny 0 1.70
build_requires:
Module Need Have
------------------- ---------- ----------
Capture::Tiny 0 0.46
Dir::Self 0 0.11
ExtUtils::MakeMaker 0 7.34
File::Spec 0 3.74
Future 0 0.38
IO::Handle 0 1.39
IPC::Open3 0 1.12
JSON::PP 0 2.94
Mock::MonkeyPatch 0 0.03
Test::Deep 0 1.128
Test::Differences 0 0.64
Test::Exception 0 0.43
Test::Lib 0 0.002
Test::More 1.001005 1.302136
configure_requires:
Module Need Have
------------------- ---------- ----------
ExtUtils::MakeMaker 0 7.34
------------------------------
ENVIRONMENT AND OTHER CONTEXT
------------------------------
Environment variables:
LANG = C
LC_ALL = de_DE.UTF-8
PATH = /usr/local/bin:/usr/bin:/bin:/usr/local/sbin:/usr/sbin:/sbin:/home/cpansand/bin/linux-gnu:/home/cpansand/bin/sh:/home/cpansand/bin:/usr/games:/home/cpansand/devel:/home/eserte/src/srezic-misc/scripts
PERL5LIB =
PERL5OPT =
PERL5_CPANPLUS_IS_RUNNING = 10912
PERL5_CPAN_IS_RUNNING = 10912
PERL5_CPAN_IS_RUNNING_IN_RECURSION = 15949,10912
PERLDOC = -MPod::Perldoc::ToTextOverstrike
PERL_BATCH = yes
PERL_CANARY_STABILITY_NOPROMPT = 1
PERL_CPAN_REPORTER_CONFIG = /var/tmp/cpansmoker-1023/2018090603/cpanreporter_000_config.ini
PERL_EXTUTILS_AUTOINSTALL = --defaultdeps
PERL_PARALLEL_SMOKER = yes
PERL_USE_UNSAFE_INC = 1
SHELL = /bin/zsh
TERM = screen
TMPDIR = /var/tmp/cpansmoker-1023/2018090603
Perl special variables (and OS-specific diagnostics, for MSWin32):
$^X = /bbbike/perl-5.16.3/bin/perl
$UID/$EUID = 1023 / 1023
$GID = 1023 1023
$EGID = 1023 1023
Perl module toolchain versions installed:
Module Have
------------------- --------
CPAN 2.16
CPAN::Meta 2.150010
Cwd 3.74
ExtUtils::CBuilder 0.280230
ExtUtils::Command 7.34
ExtUtils::Install 2.14
ExtUtils::MakeMaker 7.34
ExtUtils::Manifest 1.71
ExtUtils::ParseXS 3.30
File::Spec 3.74
JSON 2.97001
JSON::PP 2.94
Module::Build 0.4224
Module::Signature 0.81
Parse::CPAN::Meta 2.150010
Test::Harness 3.42
Test::More 1.302136
YAML 1.24
YAML::Syck 1.30
version 0.9918
--
Summary of my perl5 (revision 5 version 16 subversion 3) configuration:
Platform:
osname=linux, osvers=3.16.0-4-amd64, archname=x86_64-linux
uname='linux eserte 3.16.0-4-amd64 #1 smp debian 3.16.7-ckt25-2 (2016-04-08) x86_64 gnulinux '
config_args='-ds -e -Dprefix=/opt/perl-5.16.3 -Dcf_email=srezic@cpan.org'
hint=recommended, useposix=true, d_sigaction=define
useithreads=undef, usemultiplicity=undef
useperlio=define, d_sfio=undef, uselargefiles=define, usesocks=undef
use64bitint=define, use64bitall=define, uselongdouble=undef
usemymalloc=n, bincompat5005=undef
Compiler:
cc='cc', ccflags ='-fno-strict-aliasing -pipe -fstack-protector -I/usr/local/include -D_LARGEFILE_SOURCE -D_FILE_OFFSET_BITS=64',
optimize='-O2',
cppflags='-fno-strict-aliasing -pipe -fstack-protector -I/usr/local/include'
ccversion='', gccversion='4.9.2', gccosandvers=''
intsize=4, longsize=8, ptrsize=8, doublesize=8, byteorder=12345678
d_longlong=define, longlongsize=8, d_longdbl=define, longdblsize=16
ivtype='long', ivsize=8, nvtype='double', nvsize=8, Off_t='off_t', lseeksize=8
alignbytes=8, prototype=define
Linker and Libraries:
ld='cc', ldflags =' -fstack-protector -L/usr/local/lib'
libpth=/usr/local/lib /lib/x86_64-linux-gnu /lib/../lib /usr/lib/x86_64-linux-gnu /usr/lib/../lib /lib /usr/lib
libs=-lnsl -lgdbm -ldb -ldl -lm -lcrypt -lutil -lc -lgdbm_compat
perllibs=-lnsl -ldl -lm -lcrypt -lutil -lc
libc=libc-2.19.so, so=so, useshrplib=false, libperl=libperl.a
gnulibc_version='2.19'
Dynamic Linking:
dlsrc=dl_dlopen.xs, dlext=so, d_dlsymun=undef, ccdlflags='-Wl,-E'
cccdlflags='-fPIC', lddlflags='-shared -O2 -L/usr/local/lib -fstack-protector'
Characteristics of this binary (from libperl):
Compile-time options: HAS_TIMES PERLIO_LAYERS PERL_DONT_CREATE_GVSV
PERL_MALLOC_WRAP PERL_PRESERVE_IVUV USE_64_BIT_ALL
USE_64_BIT_INT USE_LARGE_FILES USE_LOCALE
USE_LOCALE_COLLATE USE_LOCALE_CTYPE
USE_LOCALE_NUMERIC USE_PERLIO USE_PERL_ATOF
Locally applied patches:
Devel::PatchPerl 1.42
Built under linux
Compiled at May 7 2016 11:11:48
%ENV:
PERL5LIB=""
PERL5OPT=""
PERL5_CPANPLUS_IS_RUNNING="10912"
PERL5_CPAN_IS_RUNNING="10912"
PERL5_CPAN_IS_RUNNING_IN_RECURSION="15949,10912"
PERLDOC="-MPod::Perldoc::ToTextOverstrike"
PERL_BATCH="yes"
PERL_CANARY_STABILITY_NOPROMPT="1"
PERL_CPAN_REPORTER_CONFIG="/var/tmp/cpansmoker-1023/2018090603/cpanreporter_000_config.ini"
PERL_EXTUTILS_AUTOINSTALL="--defaultdeps"
PERL_PARALLEL_SMOKER="yes"
PERL_USE_UNSAFE_INC="1"
@INC:
/opt/perl-5.16.3/lib/site_perl/5.16.3/x86_64-linux
/opt/perl-5.16.3/lib/site_perl/5.16.3
/opt/perl-5.16.3/lib/5.16.3/x86_64-linux
/opt/perl-5.16.3/lib/5.16.3
.