Thrift-API-HiveClient2 v0.022 Perl 5 v5.14.3 x86_64-linux-thread-multi

Status
Pass
From
Nigel Horne
Dist
Thrift-API-HiveClient2 v0.022
Platform
Perl 5 v5.14.3 x86_64-linux-thread-multi
Date
2018-01-30 16:36:43
ID
c13890c8-05db-11e8-af2b-acaf1d79aee4
This distribution has been tested as part of the CPAN Testers
project, supporting the Perl programming language.  See
http://wiki.cpantesters.org/ for more information or email
questions to cpan-testers-discuss@perl.org


--
Dear Burak Gursoy,

This is a computer-generated report for Thrift-API-HiveClient2-0.022
on perl 5.14.3, created by CPAN-Reporter-1.2018.

Thank you for uploading your work to CPAN.  Congratulations!
All tests were successful.

Sections of this report:

    * Tester comments
    * Program output
    * Prerequisites
    * Environment and other context

------------------------------
TESTER COMMENTS
------------------------------

Additional comments from tester:

this report is from an automated smoke testing program
and was not reviewed by a human for accuracy

------------------------------
PROGRAM OUTPUT
------------------------------

Output from '/usr/bin/make test':

PERL_DL_NONLAZY=1 "/home/njh/perl5/perlbrew/perls/perl-5.14.3/bin/perl" "-MExtUtils::Command::MM" "-MTest::Harness" "-e" "undef *Test::Harness::Switches; test_harness(0, 'blib/lib', 'blib/arch')" t/*.t
# Testing Thrift::API::HiveClient2 0.022, Perl 5.014003, /home/njh/perl5/perlbrew/perls/perl-5.14.3/bin/perl
t/00-load.t .............. ok
t/00-compile.t ........... ok
# 
# Versions for all modules listed in MYMETA.json (including optional ones):
# 
# === Configure Requires ===
# 
#     Module              Want Have
#     ------------------- ---- ----
#     ExtUtils::MakeMaker  any 7.22
# 
# === Build Requires ===
# 
#     Module              Want Have
#     ------------------- ---- ----
#     ExtUtils::MakeMaker  any 7.22
# 
# === Test Requires ===
# 
#     Module                     Want     Have
#     -------------------------- ---- --------
#     ExtUtils::MakeMaker         any     7.22
#     File::Spec                  any     3.47
#     IO::Handle                  any     1.31
#     IPC::Open3                  any   1.0901
#     Test::More                  any 1.302086
#     Thrift::XS::BinaryProtocol  any    undef
# 
# === Test Recommends ===
# 
#     Module         Want     Have
#     ---------- -------- --------
#     CPAN::Meta 2.120900 2.150005
# 
# === Runtime Requires ===
# 
#     Module                       Want      Have
#     ------------------------- ------- ---------
#     Authen::SASL                  any      2.16
#     Carp                          any    1.3301
#     Class::Accessor               any      0.51
#     List::MoreUtils               any      0.33
#     Moo                           any  2.003004
#     Scalar::Util                  any      1.41
#     Thrift                    v0.10.0 0.6.0-dev
#     Thrift::BinaryProtocol        any     undef
#     Thrift::BufferedTransport     any     undef
#     Thrift::Exception             any     undef
#     Thrift::MessageType           any     undef
#     Thrift::SASL::Transport       any   missing
#     Thrift::Socket                any     undef
#     Thrift::Type                  any     undef
#     base                          any      2.18
#     constant                      any      1.21
#     strict                        any      1.04
#     version                       any      0.88
#     warnings                      any      1.12
# 
# 
# *** WARNING WARNING WARNING WARNING WARNING WARNING WARNING WARNING ***
# 
# The following REQUIRED prerequisites were not satisfied:
# 
# Thrift version '0.6.0-dev' cannot be parsed (version 'v0.10.0' required)
# Thrift::SASL::Transport is not installed (any version required)
# 
t/00-report-prereqs.t .... ok
t/author-pod-coverage.t .. skipped: these tests are for testing by the author
t/author-pod-syntax.t .... skipped: these tests are for testing by the author
t/manifest.t ............. skipped: Author tests not required for installation
t/release-distmeta.t ..... skipped: these tests are for release candidate testing
t/01-new.t ............... skipped: Set up HiveServer2 host with $ENV{HIVEHOST}
All tests successful.
Files=8, Tests=7,  1 wallclock secs ( 0.06 usr  0.02 sys +  1.17 cusr  0.31 csys =  1.56 CPU)
Result: PASS

------------------------------
PREREQUISITES
------------------------------

Prerequisite modules loaded:

requires:

    Module                     Need    Have     
    -------------------------- ------- ---------
    Authen::SASL               0       2.16     
    base                       0       2.18     
    Carp                       0       1.3301   
    Class::Accessor            0       0.51     
    constant                   0       1.21     
    List::MoreUtils            0       0.33     
    Moo                        0       2.003004 
    perl                       5.010   5.014003 
    Scalar::Util               0       1.41     
    strict                     0       1.04     
  ! Thrift                     v0.10.0 0.6.0-dev
    Thrift::BinaryProtocol     0       0        
    Thrift::BufferedTransport  0       0        
  ! Thrift::Exception          0       broken   
  ! Thrift::MessageType        0       broken   
  ! Thrift::SASL::Transport    0       n/a      
    Thrift::Socket             0       0        
  ! Thrift::Type               0       broken   
    version                    0       0.88     
    warnings                   0       1.12     

build_requires:

    Module                     Need    Have     
    -------------------------- ------- ---------
    ExtUtils::MakeMaker        0       7.22     
    File::Spec                 0       3.47     
    IO::Handle                 0       1.31     
    IPC::Open3                 0       1.0901   
    Test::More                 0       1.302086 
    Thrift::XS::BinaryProtocol 0       0        

configure_requires:

    Module                     Need    Have     
    -------------------------- ------- ---------
    ExtUtils::MakeMaker        0       7.22     


------------------------------
ENVIRONMENT AND OTHER CONTEXT
------------------------------

Environment variables:

    AUTOMATED_TESTING = 1
    HARNESS_OPTIONS = j2
    LANG = en_GB.UTF-8
    LANGUAGE = en_GB:en
    PATH = /home/njh/perl5/perlbrew/bin:/home/njh/perl5/perlbrew/perls/perl-5.14.3/bin:src/njh/smoker/bin:/usr/bin:/bin
    PERL5LIB = /home/njh/.cpan/build/Thrift-XS-1.04-6/blib/arch:/home/njh/.cpan/build/Thrift-XS-1.04-6/blib/lib:/home/njh/.cpan/build/Test-BinaryData-0.014-6/blib/arch:/home/njh/.cpan/build/Test-BinaryData-0.014-6/blib/lib:/home/njh/.cpan/build/Devel-CheckLib-1.11-6/blib/arch:/home/njh/.cpan/build/Devel-CheckLib-1.11-6/blib/lib:/home/njh/.cpan/build/Mock-Config-0.03-6/blib/arch:/home/njh/.cpan/build/Mock-Config-0.03-6/blib/lib:/home/njh/.cpan/build/Thrift-0.11.0-6/blib/arch:/home/njh/.cpan/build/Thrift-0.11.0-6/blib/lib:/home/njh/.cpan/build/Bit-Vector-7.4-9/blib/arch:/home/njh/.cpan/build/Bit-Vector-7.4-9/blib/lib:/home/njh/.cpan/build/Carp-Clan-6.06-8/blib/arch:/home/njh/.cpan/build/Carp-Clan-6.06-8/blib/lib:/home/njh/.cpan/build/Moo-2.003004-8/blib/arch:/home/njh/.cpan/build/Moo-2.003004-8/blib/lib:/home/njh/.cpan/build/Sub-Quote-2.004000-8/blib/arch:/home/njh/.cpan/build/Sub-Quote-2.004000-8/blib/lib:/home/njh/.cpan/build/Role-Tiny-2.000006-8/blib/arch:/home/njh/.cpan/build/Role-Tiny-2.000006-8/blib/lib:/home/njh/.cpan/build/Class-Method-Modifiers-2.12-8/blib/arch:/home/njh/.cpan/build/Class-Method-Modifiers-2.12-8/blib/lib:/home/njh/.cpan/build/Class-Accessor-0.51-8/blib/arch:/home/njh/.cpan/build/Class-Accessor-0.51-8/blib/lib:/home/njh/.cpan/build/Authen-SASL-2.16-6/blib/arch:/home/njh/.cpan/build/Authen-SASL-2.16-6/blib/lib
    PERL5OPT = 
    PERL5_CPANPLUS_IS_RUNNING = 14901
    PERL5_CPAN_IS_RUNNING = 14901
    PERLBREW_BASHRC_VERSION = 0.75
    PERLBREW_HOME = /home/njh/.perlbrew
    PERLBREW_MANPATH = /home/njh/perl5/perlbrew/perls/perl-5.14.3/man
    PERLBREW_PATH = /home/njh/perl5/perlbrew/bin:/home/njh/perl5/perlbrew/perls/perl-5.14.3/bin
    PERLBREW_PERL = perl-5.14.3
    PERLBREW_ROOT = /home/njh/perl5/perlbrew
    PERLBREW_VERSION = 0.75
    SHELL = /bin/sh

Perl special variables (and OS-specific diagnostics, for MSWin32):

    $^X = /home/njh/perl5/perlbrew/perls/perl-5.14.3/bin/perl
    $UID/$EUID = 1000 / 1000
    $GID = 1000 4 24 25 29 30 44 46 103 108 116 127 1000
    $EGID = 1000 4 24 25 29 30 44 46 103 108 116 127 1000

Perl module toolchain versions installed:

    Module              Have    
    ------------------- --------
    CPAN                2.16    
    CPAN::Meta          2.150005
    Cwd                 3.47    
    ExtUtils::CBuilder  0.280220
    ExtUtils::Command   7.22    
    ExtUtils::Install   1.56    
    ExtUtils::MakeMaker 7.22    
    ExtUtils::Manifest  1.70    
    ExtUtils::ParseXS   3.30    
    File::Spec          3.47    
    JSON                2.90    
    JSON::PP            2.27400 
    Module::Build       0.4210  
    Module::Signature   n/a     
    Parse::CPAN::Meta   1.4422  
    Test::Harness       3.36    
    Test::More          1.302086
    YAML                1.23    
    YAML::Syck          1.30    
    version             0.88    


--

Summary of my perl5 (revision 5 version 14 subversion 3) configuration:
   
  Platform:
    osname=linux, osvers=3.16-3-amd64, archname=x86_64-linux-thread-multi
    uname='linux compaq 3.16-3-amd64 #1 smp debian 3.16.5-1 (2014-10-10) x86_64 gnulinux '
    config_args='-de -Dprefix=/home/njh/perl5/perlbrew/perls/perl-5.14.3 -Duseithreads -Dusemultiplicity -Dusedevel -Accflags= -Aeval:scriptdir=/home/njh/perl5/perlbrew/perls/perl-5.14.3/bin'
    hint=recommended, useposix=true, d_sigaction=define
    useithreads=define, usemultiplicity=define
    useperlio=define, d_sfio=undef, uselargefiles=define, usesocks=undef
    use64bitint=define, use64bitall=define, uselongdouble=undef
    usemymalloc=n, bincompat5005=undef
  Compiler:
    cc='cc', ccflags ='-D_REENTRANT -D_GNU_SOURCE -fno-strict-aliasing -pipe -fstack-protector -I/usr/local/include -D_LARGEFILE_SOURCE -D_FILE_OFFSET_BITS=64',
    optimize='-O2',
    cppflags='-D_REENTRANT -D_GNU_SOURCE -fno-strict-aliasing -pipe -fstack-protector -I/usr/local/include'
    ccversion='', gccversion='4.9.2', gccosandvers=''
    intsize=4, longsize=8, ptrsize=8, doublesize=8, byteorder=12345678
    d_longlong=define, longlongsize=8, d_longdbl=define, longdblsize=16
    ivtype='long', ivsize=8, nvtype='double', nvsize=8, Off_t='off_t', lseeksize=8
    alignbytes=8, prototype=define
  Linker and Libraries:
    ld='cc', ldflags =' -fstack-protector -L/usr/local/lib'
    libpth=/usr/local/lib /lib/x86_64-linux-gnu /lib/../lib /usr/lib/x86_64-linux-gnu /usr/lib/../lib /lib /usr/lib
    libs=-lnsl -lgdbm -ldb -ldl -lm -lcrypt -lutil -lpthread -lc -lgdbm_compat
    perllibs=-lnsl -ldl -lm -lcrypt -lutil -lpthread -lc
    libc=, so=so, useshrplib=false, libperl=libperl.a
    gnulibc_version='2.19'
  Dynamic Linking:
    dlsrc=dl_dlopen.xs, dlext=so, d_dlsymun=undef, ccdlflags='-Wl,-E'
    cccdlflags='-fPIC', lddlflags='-shared -O2 -L/usr/local/lib -fstack-protector'


Characteristics of this binary (from libperl): 
  Compile-time options: MULTIPLICITY PERL_DONT_CREATE_GVSV
                        PERL_IMPLICIT_CONTEXT PERL_MALLOC_WRAP
                        PERL_PRESERVE_IVUV PERL_USE_DEVEL USE_64_BIT_ALL
                        USE_64_BIT_INT USE_ITHREADS USE_LARGE_FILES
                        USE_PERLIO USE_PERL_ATOF USE_REENTRANT_API
  Built under linux
  Compiled at Nov 15 2014 06:26:17
  %ENV:
    PERL5LIB="/home/njh/.cpan/build/Thrift-XS-1.04-6/blib/arch:/home/njh/.cpan/build/Thrift-XS-1.04-6/blib/lib:/home/njh/.cpan/build/Test-BinaryData-0.014-6/blib/arch:/home/njh/.cpan/build/Test-BinaryData-0.014-6/blib/lib:/home/njh/.cpan/build/Devel-CheckLib-1.11-6/blib/arch:/home/njh/.cpan/build/Devel-CheckLib-1.11-6/blib/lib:/home/njh/.cpan/build/Mock-Config-0.03-6/blib/arch:/home/njh/.cpan/build/Mock-Config-0.03-6/blib/lib:/home/njh/.cpan/build/Thrift-0.11.0-6/blib/arch:/home/njh/.cpan/build/Thrift-0.11.0-6/blib/lib:/home/njh/.cpan/build/Bit-Vector-7.4-9/blib/arch:/home/njh/.cpan/build/Bit-Vector-7.4-9/blib/lib:/home/njh/.cpan/build/Carp-Clan-6.06-8/blib/arch:/home/njh/.cpan/build/Carp-Clan-6.06-8/blib/lib:/home/njh/.cpan/build/Moo-2.003004-8/blib/arch:/home/njh/.cpan/build/Moo-2.003004-8/blib/lib:/home/njh/.cpan/build/Sub-Quote-2.004000-8/blib/arch:/home/njh/.cpan/build/Sub-Quote-2.004000-8/blib/lib:/home/njh/.cpan/build/Role-Tiny-2.000006-8/blib/arch:/home/njh/.cpan/build/Role-Tiny-2.000006-8/blib/lib:/home/njh/.cpan/build/Class-Method-Modifiers-2.12-8/blib/arch:/home/njh/.cpan/build/Class-Method-Modifiers-2.12-8/blib/lib:/home/njh/.cpan/build/Class-Accessor-0.51-8/blib/arch:/home/njh/.cpan/build/Class-Accessor-0.51-8/blib/lib:/home/njh/.cpan/build/Authen-SASL-2.16-6/blib/arch:/home/njh/.cpan/build/Authen-SASL-2.16-6/blib/lib"
    PERL5OPT=""
    PERL5_CPANPLUS_IS_RUNNING="14901"
    PERL5_CPAN_IS_RUNNING="14901"
    PERLBREW_BASHRC_VERSION="0.75"
    PERLBREW_HOME="/home/njh/.perlbrew"
    PERLBREW_MANPATH="/home/njh/perl5/perlbrew/perls/perl-5.14.3/man"
    PERLBREW_PATH="/home/njh/perl5/perlbrew/bin:/home/njh/perl5/perlbrew/perls/perl-5.14.3/bin"
    PERLBREW_PERL="perl-5.14.3"
    PERLBREW_ROOT="/home/njh/perl5/perlbrew"
    PERLBREW_VERSION="0.75"
  @INC:
    /home/njh/.cpan/build/Thrift-XS-1.04-6/blib/arch
    /home/njh/.cpan/build/Thrift-XS-1.04-6/blib/lib
    /home/njh/.cpan/build/Test-BinaryData-0.014-6/blib/arch
    /home/njh/.cpan/build/Test-BinaryData-0.014-6/blib/lib
    /home/njh/.cpan/build/Devel-CheckLib-1.11-6/blib/arch
    /home/njh/.cpan/build/Devel-CheckLib-1.11-6/blib/lib
    /home/njh/.cpan/build/Mock-Config-0.03-6/blib/arch
    /home/njh/.cpan/build/Mock-Config-0.03-6/blib/lib
    /home/njh/.cpan/build/Thrift-0.11.0-6/blib/arch
    /home/njh/.cpan/build/Thrift-0.11.0-6/blib/lib
    /home/njh/.cpan/build/Bit-Vector-7.4-9/blib/arch
    /home/njh/.cpan/build/Bit-Vector-7.4-9/blib/lib
    /home/njh/.cpan/build/Carp-Clan-6.06-8/blib/arch
    /home/njh/.cpan/build/Carp-Clan-6.06-8/blib/lib
    /home/njh/.cpan/build/Moo-2.003004-8/blib/arch
    /home/njh/.cpan/build/Moo-2.003004-8/blib/lib
    /home/njh/.cpan/build/Sub-Quote-2.004000-8/blib/arch
    /home/njh/.cpan/build/Sub-Quote-2.004000-8/blib/lib
    /home/njh/.cpan/build/Role-Tiny-2.000006-8/blib/arch
    /home/njh/.cpan/build/Role-Tiny-2.000006-8/blib/lib
    /home/njh/.cpan/build/Class-Method-Modifiers-2.12-8/blib/arch
    /home/njh/.cpan/build/Class-Method-Modifiers-2.12-8/blib/lib
    /home/njh/.cpan/build/Class-Accessor-0.51-8/blib/arch
    /home/njh/.cpan/build/Class-Accessor-0.51-8/blib/lib
    /home/njh/.cpan/build/Authen-SASL-2.16-6/blib/arch
    /home/njh/.cpan/build/Authen-SASL-2.16-6/blib/lib
    /home/njh/perl5/perlbrew/perls/perl-5.14.3/lib/site_perl/5.14.3/x86_64-linux-thread-multi
    /home/njh/perl5/perlbrew/perls/perl-5.14.3/lib/site_perl/5.14.3
    /home/njh/perl5/perlbrew/perls/perl-5.14.3/lib/5.14.3/x86_64-linux-thread-multi
    /home/njh/perl5/perlbrew/perls/perl-5.14.3/lib/5.14.3
    .