MARC-Record v2.0.7 Perl 5 v5.12.5 x86_64-linux-thread-multi

Status
Pass
From
Nigel Horne
Dist
MARC-Record v2.0.7
Platform
Perl 5 v5.12.5 x86_64-linux-thread-multi
Date
2018-11-07 23:06:27
ID
c147d5e0-e2e1-11e8-afbf-aec3b07506ca
This distribution has been tested as part of the CPAN Testers
project, supporting the Perl programming language.  See
http://wiki.cpantesters.org/ for more information or email
questions to cpan-testers-discuss@perl.org


--
Dear Galen Charlton,

This is a computer-generated report for MARC-Record-2.0.7
on perl 5.12.5, created by CPAN-Reporter-1.2018.

Thank you for uploading your work to CPAN.  Congratulations!
All tests were successful.

Sections of this report:

    * Tester comments
    * Program output
    * Prerequisites
    * Environment and other context

------------------------------
TESTER COMMENTS
------------------------------

Additional comments from tester:

this report is from an automated smoke testing program
and was not reviewed by a human for accuracy

------------------------------
PROGRAM OUTPUT
------------------------------

Output from '/usr/bin/make test':

PERL_DL_NONLAZY=1 "/home/njh/perl5/perlbrew/perls/perl-5.12.5/bin/perl" "-MExtUtils::Command::MM" "-MTest::Harness" "-e" "undef *Test::Harness::Switches; test_harness(0, 'blib/lib', 'blib/arch')" t/*.t
# Testing MARC::Record 2.0.7
t/00.load.t ....................... ok
t/10.camel.t ...................... ok
t/11.astring.t .................... ok
t/12.ldr.t ........................ ok
t/20.clone.t ...................... ok
t/60.insert.t ..................... ok
t/50.batch.t ...................... ok
t/60.update.t ..................... ok
t/61.append.t ..................... ok
t/61.replace.t .................... ok
t/62.before.t ..................... ok
t/63.after.t ...................... ok
t/64.create.t ..................... ok
t/66.grouped.t .................... ok
t/66.ordered.t .................... ok
t/67.subfield.t ................... ok
t/68.subfields.t .................. ok
t/70.croak.t ...................... ok
t/75.warnings.t ................... ok
t/80.alphatag.t ................... ok
t/82.baddir.t ..................... ok
t/81.decode.t ..................... ok
t/83.indicators.t ................. ok
t/batch-filter.t .................. ok
t/85.fh.t ......................... ok
t/convenience.t ................... ok
t/delete-field.t .................. ok
t/decode-filter.t ................. ok
t/delete-subfield.t ............... ok
t/dosEOF.t ........................ ok
t/extra_controlfields.t ........... ok
t/file-filter.t ................... ok
t/file-header.t ................... ok
t/filler.t ........................ ok
t/lineendings.t ................... ok
t/pod-coverage.t .................. ok
t/rename-field.t .................. ok
t/pod.t ........................... ok
t/rt67094_field_sans_subfields.t .. ok
t/title_proper.t .................. ok
t/utf8.t .......................... ok
All tests successful.
Files=41, Tests=1020,  3 wallclock secs ( 0.39 usr  0.19 sys +  4.95 cusr  0.73 csys =  6.26 CPU)
Result: PASS

------------------------------
PREREQUISITES
------------------------------

Prerequisite modules loaded:

requires:

    Module              Need Have    
    ------------------- ---- --------
    Carp                0    1.3301  
    File::Find          0    1.15    
    File::Spec          0    3.47    
    Test::More          0    1.302136

build_requires:

    Module              Need Have    
    ------------------- ---- --------
    ExtUtils::MakeMaker 0    7.22    

configure_requires:

    Module              Need Have    
    ------------------- ---- --------
    ExtUtils::MakeMaker 0    7.22    


------------------------------
ENVIRONMENT AND OTHER CONTEXT
------------------------------

Environment variables:

    AUTOMATED_TESTING = 1
    HARNESS_OPTIONS = j2
    LANG = en_GB.UTF-8
    LANGUAGE = en_GB:en
    PATH = /home/njh/perl5/perlbrew/bin:/home/njh/perl5/perlbrew/perls/perl-5.12.5/bin:/home/njh/src/njh/smoker/bin:/usr/bin:/bin
    PERL5LIB = /home/njh/.cpan/build/A1z-HTML5-Template-0.17-7/blib/arch:/home/njh/.cpan/build/A1z-HTML5-Template-0.17-7/blib/lib
    PERL5OPT = 
    PERL5_CPANPLUS_IS_RUNNING = 23077
    PERL5_CPAN_IS_RUNNING = 23077
    PERLBREW_HOME = /home/njh/.perlbrew
    PERLBREW_MANPATH = /home/njh/perl5/perlbrew/perls/perl-5.12.5/man
    PERLBREW_PATH = /home/njh/perl5/perlbrew/bin:/home/njh/perl5/perlbrew/perls/perl-5.12.5/bin
    PERLBREW_PERL = perl-5.12.5
    PERLBREW_ROOT = /home/njh/perl5/perlbrew
    PERLBREW_SHELLRC_VERSION = 0.83
    PERLBREW_VERSION = 0.83
    SHELL = /bin/sh
    TEMP = /tmp/user/1000
    TMPDIR = /tmp/user/1000/testwrapper.23063

Perl special variables (and OS-specific diagnostics, for MSWin32):

    $^X = /home/njh/perl5/perlbrew/perls/perl-5.12.5/bin/perl
    $UID/$EUID = 1000 / 1000
    $GID = 1000 4 24 25 29 30 44 46 103 108 116 127 1000
    $EGID = 1000 4 24 25 29 30 44 46 103 108 116 127 1000

Perl module toolchain versions installed:

    Module              Have    
    ------------------- --------
    CPAN                2.16    
    CPAN::Meta          2.150005
    Cwd                 3.47    
    ExtUtils::CBuilder  0.280220
    ExtUtils::Command   7.22    
    ExtUtils::Install   1.55    
    ExtUtils::MakeMaker 7.22    
    ExtUtils::Manifest  1.70    
    ExtUtils::ParseXS   3.30    
    File::Spec          3.47    
    JSON                2.97001 
    JSON::PP            2.27400 
    Module::Build       0.4224  
    Module::Signature   n/a     
    Parse::CPAN::Meta   1.4422  
    Test::Harness       3.36    
    Test::More          1.302136
    YAML                1.26    
    YAML::Syck          1.30    
    version             0.9909  


--

Summary of my perl5 (revision 5 version 12 subversion 5) configuration:
   
  Platform:
    osname=linux, osvers=3.16-3-amd64, archname=x86_64-linux-thread-multi
    uname='linux compaq 3.16-3-amd64 #1 smp debian 3.16.5-1 (2014-10-10) x86_64 gnulinux '
    config_args='-de -Dprefix=/home/njh/perl5/perlbrew/perls/perl-5.12.5 -Duseithreads -Dusemultiplicity -Dusedevel -Accflags= -Aeval:scriptdir=/home/njh/perl5/perlbrew/perls/perl-5.12.5/bin'
    hint=recommended, useposix=true, d_sigaction=define
    useithreads=define, usemultiplicity=define
    useperlio=define, d_sfio=undef, uselargefiles=define, usesocks=undef
    use64bitint=define, use64bitall=define, uselongdouble=undef
    usemymalloc=n, bincompat5005=undef
  Compiler:
    cc='cc', ccflags ='-D_REENTRANT -D_GNU_SOURCE -fno-strict-aliasing -pipe -fstack-protector -I/usr/local/include -D_LARGEFILE_SOURCE -D_FILE_OFFSET_BITS=64',
    optimize='-O2',
    cppflags='-D_REENTRANT -D_GNU_SOURCE -fno-strict-aliasing -pipe -fstack-protector -I/usr/local/include'
    ccversion='', gccversion='4.9.2', gccosandvers=''
    intsize=4, longsize=8, ptrsize=8, doublesize=8, byteorder=12345678
    d_longlong=define, longlongsize=8, d_longdbl=define, longdblsize=16
    ivtype='long', ivsize=8, nvtype='double', nvsize=8, Off_t='off_t', lseeksize=8
    alignbytes=8, prototype=define
  Linker and Libraries:
    ld='cc', ldflags =' -fstack-protector -L/usr/local/lib'
    libpth=/usr/local/lib /lib/x86_64-linux-gnu /lib/../lib /usr/lib/x86_64-linux-gnu /usr/lib/../lib /lib /usr/lib
    libs=-lnsl -lgdbm -ldb -ldl -lm -lcrypt -lutil -lpthread -lc -lgdbm_compat
    perllibs=-lnsl -ldl -lm -lcrypt -lutil -lpthread -lc
    libc=, so=so, useshrplib=false, libperl=libperl.a
    gnulibc_version='2.19'
  Dynamic Linking:
    dlsrc=dl_dlopen.xs, dlext=so, d_dlsymun=undef, ccdlflags='-Wl,-E'
    cccdlflags='-fPIC', lddlflags='-shared -O2 -L/usr/local/lib -fstack-protector'


Characteristics of this binary (from libperl): 
  Compile-time options: MULTIPLICITY PERL_DONT_CREATE_GVSV
                        PERL_IMPLICIT_CONTEXT PERL_MALLOC_WRAP PERL_USE_DEVEL
                        USE_64_BIT_ALL USE_64_BIT_INT USE_ITHREADS
                        USE_LARGE_FILES USE_PERLIO USE_PERL_ATOF
                        USE_REENTRANT_API
  Built under linux
  Compiled at Nov 15 2014 06:04:47
  %ENV:
    PERL5LIB="/home/njh/.cpan/build/A1z-HTML5-Template-0.17-7/blib/arch:/home/njh/.cpan/build/A1z-HTML5-Template-0.17-7/blib/lib"
    PERL5OPT=""
    PERL5_CPANPLUS_IS_RUNNING="23077"
    PERL5_CPAN_IS_RUNNING="23077"
    PERLBREW_HOME="/home/njh/.perlbrew"
    PERLBREW_MANPATH="/home/njh/perl5/perlbrew/perls/perl-5.12.5/man"
    PERLBREW_PATH="/home/njh/perl5/perlbrew/bin:/home/njh/perl5/perlbrew/perls/perl-5.12.5/bin"
    PERLBREW_PERL="perl-5.12.5"
    PERLBREW_ROOT="/home/njh/perl5/perlbrew"
    PERLBREW_SHELLRC_VERSION="0.83"
    PERLBREW_VERSION="0.83"
  @INC:
    /home/njh/.cpan/build/A1z-HTML5-Template-0.17-7/blib/arch
    /home/njh/.cpan/build/A1z-HTML5-Template-0.17-7/blib/lib
    /home/njh/perl5/perlbrew/perls/perl-5.12.5/lib/site_perl/5.12.5/x86_64-linux-thread-multi
    /home/njh/perl5/perlbrew/perls/perl-5.12.5/lib/site_perl/5.12.5
    /home/njh/perl5/perlbrew/perls/perl-5.12.5/lib/5.12.5/x86_64-linux-thread-multi
    /home/njh/perl5/perlbrew/perls/perl-5.12.5/lib/5.12.5
    .