WWW-Shorten-Flickr v0.03 Perl 5 v5.12.0 i386-freebsd

Status
Pass
From
Squeeks (SQUEEK)
Dist
WWW-Shorten-Flickr v0.03
Platform
Perl 5 v5.12.0 i386-freebsd
Date
2010-04-20 19:34:37
ID
c15ca416-4cb3-11df-ba26-3afb215e3911
This distribution has been tested as part of the CPAN Testers
project, supporting the Perl programming language.  See
http://wiki.cpantesters.org/ for more information or email
questions to cpan-testers-discuss@perl.org


--
Dear Shinsuke Matsui,

This is a computer-generated report for WWW-Shorten-Flickr-0.03
on perl 5.12.0, created by CPAN-Reporter-1.1711.

Thank you for uploading your work to CPAN.  Congratulations!
All tests were successful.

Sections of this report:

    * Tester comments
    * Program output
    * Prerequisites
    * Environment and other context

------------------------------
TESTER COMMENTS
------------------------------

Additional comments from tester:

this report is from an automated smoke testing program
and was not reviewed by a human for accuracy

------------------------------
PROGRAM OUTPUT
------------------------------

Output from '/usr/bin/make test':

PERL_DL_NONLAZY=1 /home/squeek/perl5/perlbrew/bin/perl "-MExtUtils::Command::MM" "-e" "test_harness(0, 'inc', 'blib/lib', 'blib/arch')" t/*.t
t/00_compile.t .. ok
t/01-shorter.t .. ok
t/02-longer.t ... ok
All tests successful.
Files=3, Tests=7,  8 wallclock secs ( 0.15 usr  0.05 sys +  1.66 cusr  0.34 csys =  2.20 CPU)
Result: PASS

------------------------------
PREREQUISITES
------------------------------

Prerequisite modules loaded:

requires:

    Module              Need Have
    ------------------- ---- ----
    Encode::Base58      0    0.01
    ExtUtils::MakeMaker 6.42 6.56
    Test::More          0    0.94
    WWW::Shorten        0    3.00


------------------------------
ENVIRONMENT AND OTHER CONTEXT
------------------------------

Environment variables:

    AUTOMATED_TESTING = 1
    PATH = /home/squeek/perl5/perlbrew/bin:/home/squeek/perl5/perlbrew/perls/current/bin:/sbin:/bin:/usr/sbin:/usr/bin:/usr/games:/usr/local/sbin:/usr/local/bin:/home/squeek/bin
    PERL5LIB = /home/squeek/.cpan/build/WWW-Shorten-3.00-3k4glX/blib/arch:/home/squeek/.cpan/build/WWW-Shorten-3.00-3k4glX/blib/lib:/home/squeek/.cpan/build/Encode-Base58-0.01-Y74DwB/blib/arch:/home/squeek/.cpan/build/Encode-Base58-0.01-Y74DwB/blib/lib
    PERL5OPT = 
    PERL5_CPANPLUS_IS_RUNNING = 7284
    PERL5_CPAN_IS_RUNNING = 7284
    PERL5_CPAN_IS_RUNNING_IN_RECURSION = 89667,7284
    PERL_CR_SMOKER_CURRENT = WWW-Shorten-Flickr-0.03
    PERL_EXTUTILS_AUTOINSTALL = --defaultdeps
    PERL_MM_USE_DEFAULT = 1
    SHELL = /bin/csh
    TERM = screen

Perl special variables (and OS-specific diagnostics, for MSWin32):

    $^X = /home/squeek/perl5/perlbrew/bin/perl
    $UID/$EUID = 1002 / 1002
    $GID = 1002 1002 1002
    $EGID = 1002 1002 1002

Perl module toolchain versions installed:

    Module              Have   
    ------------------- -------
    CPAN                1.94_56
    Cwd                 3.31   
    ExtUtils::CBuilder  0.27   
    ExtUtils::Command   1.16   
    ExtUtils::Install   1.55   
    ExtUtils::MakeMaker 6.56   
    ExtUtils::Manifest  1.57   
    ExtUtils::ParseXS   2.21   
    File::Spec          3.31   
    Module::Build       0.3603 
    Module::Signature   n/a    
    Test::Harness       3.17   
    Test::More          0.94   
    YAML                0.71   
    YAML::Syck          n/a    
    version             0.82   


--

Summary of my perl5 (revision 5 version 12 subversion 0) configuration:
   
  Platform:
    osname=freebsd, osvers=7.2-release, archname=i386-freebsd
    uname='freebsd smoketest 7.2-release freebsd 7.2-release #0: fri may 1 08:49:13 utc 2009 root@walker.cse.buffalo.edu:usrobjusrsrcsysgeneric i386 '
    config_args='-de -Dprefix=/home/squeek/perl5/perlbrew/perls/perl-5.12.0'
    hint=recommended, useposix=true, d_sigaction=define
    useithreads=undef, usemultiplicity=undef
    useperlio=define, d_sfio=undef, uselargefiles=define, usesocks=undef
    use64bitint=undef, use64bitall=undef, uselongdouble=undef
    usemymalloc=n, bincompat5005=undef
  Compiler:
    cc='cc', ccflags ='-DHAS_FPSETMASK -DHAS_FLOATINGPOINT_H -fno-strict-aliasing -pipe -fstack-protector -I/usr/local/include',
    optimize='-O',
    cppflags='-DHAS_FPSETMASK -DHAS_FLOATINGPOINT_H -fno-strict-aliasing -pipe -fstack-protector -I/usr/local/include'
    ccversion='', gccversion='4.2.1 20070719  [FreeBSD]', gccosandvers=''
    intsize=4, longsize=4, ptrsize=4, doublesize=8, byteorder=1234
    d_longlong=define, longlongsize=8, d_longdbl=define, longdblsize=12
    ivtype='long', ivsize=4, nvtype='double', nvsize=8, Off_t='off_t', lseeksize=8
    alignbytes=4, prototype=define
  Linker and Libraries:
    ld='cc', ldflags ='-Wl,-E  -fstack-protector -L/usr/local/lib'
    libpth=/usr/lib /usr/local/lib
    libs=-lm -lcrypt -lutil -lc
    perllibs=-lm -lcrypt -lutil -lc
    libc=, so=so, useshrplib=false, libperl=libperl.a
    gnulibc_version=''
  Dynamic Linking:
    dlsrc=dl_dlopen.xs, dlext=so, d_dlsymun=undef, ccdlflags=' '
    cccdlflags='-DPIC -fPIC', lddlflags='-shared  -L/usr/local/lib -fstack-protector'


Characteristics of this binary (from libperl): 
  Compile-time options: PERL_DONT_CREATE_GVSV PERL_MALLOC_WRAP
                        USE_LARGE_FILES USE_PERLIO USE_PERL_ATOF
  Built under freebsd
  Compiled at Apr 13 2010 09:07:40
  %ENV:
    PERL5LIB="/home/squeek/.cpan/build/WWW-Shorten-3.00-3k4glX/blib/arch:/home/squeek/.cpan/build/WWW-Shorten-3.00-3k4glX/blib/lib:/home/squeek/.cpan/build/Encode-Base58-0.01-Y74DwB/blib/arch:/home/squeek/.cpan/build/Encode-Base58-0.01-Y74DwB/blib/lib"
    PERL5OPT=""
    PERL5_CPANPLUS_IS_RUNNING="7284"
    PERL5_CPAN_IS_RUNNING="7284"
    PERL5_CPAN_IS_RUNNING_IN_RECURSION="89667,7284"
    PERL_CR_SMOKER_CURRENT="WWW-Shorten-Flickr-0.03"
    PERL_EXTUTILS_AUTOINSTALL="--defaultdeps"
    PERL_MM_USE_DEFAULT="1"
  @INC:
    /home/squeek/.cpan/build/WWW-Shorten-3.00-3k4glX/blib/arch
    /home/squeek/.cpan/build/WWW-Shorten-3.00-3k4glX/blib/lib
    /home/squeek/.cpan/build/Encode-Base58-0.01-Y74DwB/blib/arch
    /home/squeek/.cpan/build/Encode-Base58-0.01-Y74DwB/blib/lib
    /home/squeek/perl5/perlbrew/perls/perl-5.12.0/lib/site_perl/5.12.0/i386-freebsd
    /home/squeek/perl5/perlbrew/perls/perl-5.12.0/lib/site_perl/5.12.0
    /home/squeek/perl5/perlbrew/perls/perl-5.12.0/lib/5.12.0/i386-freebsd
    /home/squeek/perl5/perlbrew/perls/perl-5.12.0/lib/5.12.0
    .