Capture-Tiny-Extended v0.114 Perl 5 v5.39.10 OpenBSD.amd64-openbsd

Status
Pass
From
Carlos Guevara
Dist
Capture-Tiny-Extended v0.114
Platform
Perl 5 v5.39.10 OpenBSD.amd64-openbsd
Date
2024-03-27 07:58:10
ID
c1660352-ec0f-11ee-b65b-a98e80d1180c
This distribution has been tested as part of the CPAN Testers
project, supporting the Perl programming language.  See
http://wiki.cpantesters.org/ for more information or email
questions to cpan-testers-discuss@perl.org


--
Dear Christian Walde,

This is a computer-generated report for Capture-Tiny-Extended-0.114
on perl 5.39.10, created by CPAN-Reporter-1.2019.

Thank you for uploading your work to CPAN.  Congratulations!
All tests were successful.

Sections of this report:

    * Tester comments
    * Program output
    * Prerequisites
    * Environment and other context

------------------------------
TESTER COMMENTS
------------------------------

Additional comments from tester:

this report is from an automated smoke testing program
and was not reviewed by a human for accuracy

------------------------------
PROGRAM OUTPUT
------------------------------

Output from '/usr/bin/make test':

PERL_DL_NONLAZY=1 "/home/cpan/bin/perl/bin/perl5.39.10" "-MExtUtils::Command::MM" "-MTest::Harness" "-e" "undef *Test::Harness::Switches; test_harness(0, 'blib/lib', 'blib/arch')" t/*.t
t/00-compile.t ............. ok
t/01-Capture-Tiny.t ........ ok
t/02-capture.t ............. ok
t/03-tee.t ................. ok
t/06-stdout-closed.t ....... ok
t/07-stderr-closed.t ....... ok
t/08-stdin-closed.t ........ ok
t/09-preserve-exit-code.t .. ok
t/10-stdout-string.t ....... ok
t/11-stderr-string.t ....... ok
t/12-stdin-string.t ........ ok
t/13-stdout-tied.t ......... ok
t/14-stderr-tied.t ......... ok
t/15-stdin-tied.t .......... ok
t/16-catch-errors.t ........ ok
All tests successful.

Test Summary Report
-------------------
t/13-stdout-tied.t       (Wstat: 0 Tests: 489 Failed: 0)
  TODO passed:   8-10, 18-19, 27-28, 35-37, 45-46, 54-55
                58, 67, 80, 82, 91, 99-100, 107, 109, 118
                126-127, 140-145, 160-162, 178-180, 194-199
                214-216, 232-234, 244-247, 258, 270, 280-283
                294, 306, 328, 330, 332-334, 336-337, 362-363
                366-367, 389, 391-393, 395-397, 418, 420
                422-424, 426-427, 452-453, 456-457, 479
                481-483, 485-487
t/14-stderr-tied.t       (Wstat: 0 Tests: 489 Failed: 0)
  TODO passed:   5, 7, 14-16, 23, 25, 32, 34, 41-43, 50
                52, 57, 60, 63, 66, 69, 72, 77-79, 86-88
                95-97, 104-106, 113-115, 122-124, 134-135
                138, 152-157, 170-171, 174, 188-189, 192
                206-211, 224-225, 228, 240-241, 243, 252-255
                264-265, 267, 276-277, 279, 288-291, 300-301
                303, 318-327, 348-357, 378-387, 408-417
                438-447, 468-477
Files=15, Tests=4904, 76 wallclock secs ( 0.68 usr  0.05 sys + 20.96 cusr 52.17 csys = 73.86 CPU)
Result: PASS

------------------------------
PREREQUISITES
------------------------------

Prerequisite modules loaded:

requires:

    Module              Need Have    
    ------------------- ---- --------
    Carp                0    1.54    
    Exporter            0    5.78    
    File::Spec          0    3.90    
    File::Temp          0    0.2311  
    IO::Handle          0    1.55    

build_requires:

    Module              Need Have    
    ------------------- ---- --------
    File::Find          0    1.44    
    Test::More          0.62 1.302198

configure_requires:

    Module              Need Have    
    ------------------- ---- --------
    ExtUtils::MakeMaker 6.30 7.70    


------------------------------
ENVIRONMENT AND OTHER CONTEXT
------------------------------

Environment variables:

    AUTOMATED_TESTING = 1
    DATE_MANIP_TEST_DM5 = 1
    LC_ALL = C
    NONINTERACTIVE_TESTING = 1
    NO_NETWORK_TESTING = 1
    PATH = /home/cpan/bin/perl/bin:/home/cpan/bin:/home/cpan/bin:/bin:/sbin:/usr/bin:/usr/sbin:/usr/X11R6/bin:/usr/local/bin:/usr/local/sbin
    PERL5LIB = 
    PERL5OPT = 
    PERL5_CPANPLUS_IS_RUNNING = 56902
    PERL5_CPAN_IS_RUNNING = 56902
    PERL_MM_USE_DEFAULT = 1
    PERL_USE_UNSAFE_INC = 1
    SHELL = /usr/local/bin/bash
    TERM = screen
    TMPDIR = /home/cpan/tmp

Perl special variables (and OS-specific diagnostics, for MSWin32):

    $^X = /home/cpan/bin/perl/bin/perl5.39.10
    $UID/$EUID = 1001 / 1001
    $GID = 1001 1001
    $EGID = 1001 1001

Perl module toolchain versions installed:

    Module              Have    
    ------------------- --------
    CPAN                2.36    
    CPAN::Meta          2.150010
    Cwd                 3.90    
    ExtUtils::CBuilder  0.280240
    ExtUtils::Command   7.70    
    ExtUtils::Install   2.22    
    ExtUtils::MakeMaker 7.70    
    ExtUtils::Manifest  1.75    
    ExtUtils::ParseXS   3.51    
    File::Spec          3.90    
    JSON                4.10    
    JSON::PP            4.16    
    Module::Build       0.4234  
    Module::Signature   n/a     
    Parse::CPAN::Meta   2.150010
    Test2               1.302198
    Test::Harness       3.48    
    Test::More          1.302198
    YAML                1.31    
    YAML::Syck          1.34    
    version             0.9930  


--

Summary of my perl5 (revision 5 version 39 subversion 10) configuration:
  Commit id: 274d22bb39e627638b5a7f0fcb295d5e01d98a02
  Platform:
    osname=openbsd
    osvers=7.4
    archname=OpenBSD.amd64-openbsd
    uname='openbsd cjg-openbsd7 7.4 generic#3 amd64 '
    config_args='-des -Dprefix=/home/cpan/bin/perl -Dscriptdir=/home/cpan/bin/perl/bin -Dusedevel -Duse64bitall'
    hint=recommended
    useposix=true
    d_sigaction=define
    useithreads=undef
    usemultiplicity=undef
    use64bitint=define
    use64bitall=define
    uselongdouble=undef
    usemymalloc=n
    default_inc_excludes_dot=define
  Compiler:
    cc='cc'
    ccflags ='-DNO_LOCALE_NUMERIC -DNO_LOCALE_COLLATE -DNO_LOCALE_MONETARY -DNO_LOCALE_TIME -DNO_LOCALE_MESSAGES -DLIBC_HANDLES_MISMATCHED_CTYPE -fno-strict-aliasing -pipe -fstack-protector-strong -I/usr/local/include'
    optimize='-O2'
    cppflags='-DNO_LOCALE_NUMERIC -DNO_LOCALE_COLLATE -DNO_LOCALE_MONETARY -DNO_LOCALE_TIME -DNO_LOCALE_MESSAGES -DLIBC_HANDLES_MISMATCHED_CTYPE -fno-strict-aliasing -pipe -fstack-protector-strong -I/usr/local/include'
    ccversion=''
    gccversion='OpenBSD Clang 13.0.0'
    gccosandvers=''
    intsize=4
    longsize=8
    ptrsize=8
    doublesize=8
    byteorder=12345678
    doublekind=3
    d_longlong=define
    longlongsize=8
    d_longdbl=define
    longdblsize=16
    longdblkind=3
    ivtype='long'
    ivsize=8
    nvtype='double'
    nvsize=8
    Off_t='off_t'
    lseeksize=8
    alignbytes=8
    prototype=define
  Linker and Libraries:
    ld='cc'
    ldflags ='-Wl,-E  -fstack-protector-strong -L/usr/local/lib'
    libpth=/usr/lib/clang/13.0.0/lib /usr/lib /usr/local/lib
    libs=-lpthread -lm -lutil -lc
    perllibs=-lpthread -lm -lutil -lc
    libc=/usr/lib/libc.so.97.1
    so=so
    useshrplib=false
    libperl=libperl.a
    gnulibc_version=''
  Dynamic Linking:
    dlsrc=dl_dlopen.xs
    dlext=so
    d_dlsymun=undef
    ccdlflags=' '
    cccdlflags='-DPIC -fPIC '
    lddlflags='-shared -fPIC  -L/usr/local/lib -fstack-protector-strong'


Characteristics of this binary (from libperl): 
  Compile-time options:
    HAS_LONG_DOUBLE
    HAS_STRTOLD
    HAS_TIMES
    PERLIO_LAYERS
    PERL_COPY_ON_WRITE
    PERL_DONT_CREATE_GVSV
    PERL_HASH_FUNC_SIPHASH13
    PERL_HASH_USE_SBOX32
    PERL_MALLOC_WRAP
    PERL_OP_PARENT
    PERL_PRESERVE_IVUV
    PERL_USE_DEVEL
    PERL_USE_SAFE_PUTENV
    USE_64_BIT_ALL
    USE_64_BIT_INT
    USE_LARGE_FILES
    USE_LOCALE
    USE_LOCALE_CTYPE
    USE_PERLIO
    USE_PERL_ATOF
  Built under openbsd
  Compiled at Mar 26 2024 17:02:38
  %ENV:
    PERL5LIB=""
    PERL5OPT=""
    PERL5_CPANPLUS_IS_RUNNING="56902"
    PERL5_CPAN_IS_RUNNING="56902"
    PERL_MM_USE_DEFAULT="1"
    PERL_USE_UNSAFE_INC="1"
  @INC:
    /home/cpan/bin/perl/lib/site_perl/5.39.10/OpenBSD.amd64-openbsd
    /home/cpan/bin/perl/lib/site_perl/5.39.10
    /home/cpan/bin/perl/lib/5.39.10/OpenBSD.amd64-openbsd
    /home/cpan/bin/perl/lib/5.39.10
    .