HTTP-Message v6.43 Perl 5 v5.37.1 x86_64-linux-thread-multi-ld
- Status
- Pass
- From
- Andreas J. König (ANDK)
- Dist
-
HTTP-Message v6.43
- Platform
- Perl 5 v5.37.1 x86_64-linux-thread-multi-ld
- Date
- 2022-10-23 05:37:17
- ID
- c16fca74-5294-11ed-9b5e-395c5775ab79
This distribution has been tested as part of the CPAN Testers
project, supporting the Perl programming language. See
http://wiki.cpantesters.org/ for more information or email
questions to cpan-testers-discuss@perl.org
--
Dear Julien Fiegehenn,
This is a computer-generated report for HTTP-Message-6.43
on perl 5.37.1, created by CPAN-Reporter-1.2018.
Thank you for uploading your work to CPAN. Congratulations!
All tests were successful.
Sections of this report:
* Tester comments
* Program output
* Prerequisites
* Environment and other context
------------------------------
TESTER COMMENTS
------------------------------
Additional comments from tester:
this report is from an automated smoke testing program
and was not reviewed by a human for accuracy
------------------------------
PROGRAM OUTPUT
------------------------------
Output from '/usr/bin/make test':
PERL_DL_NONLAZY=1 "/home/sand/src/perl/repoperls/installed-perls/host/k93msid/v5.37.1/ac75/bin/perl" "-MExtUtils::Command::MM" "-MTest::Harness" "-e" "undef *Test::Harness::Switches; test_harness(0, 'blib/lib', 'blib/arch')" t/*.t
#
# Versions for all modules listed in MYMETA.json (including optional ones):
#
# === Configure Requires ===
#
# Module Want Have
# ------------------- ---- ----
# ExtUtils::MakeMaker any 7.64
#
# === Configure Suggests ===
#
# Module Want Have
# -------- ------- ----
# JSON::PP 2.27300 4.10
#
# === Build Requires ===
#
# Module Want Have
# ------------------- ---- ----
# ExtUtils::MakeMaker any 7.64
#
# === Test Requires ===
#
# Module Want Have
# ------------------- ---- --------
# ExtUtils::MakeMaker any 7.64
# File::Spec any 3.85
# File::Temp any 0.2311
# PerlIO::encoding any 0.30
# Test::More 0.88 1.302191
# Test::Needs any 0.002009
# Time::Local any 1.30
# Try::Tiny any 0.31
# URI::URL any 5.10
# lib any 0.65
# overload any 1.35
#
# === Test Recommends ===
#
# Module Want Have
# ---------------------- -------- --------
# CPAN::Meta 2.120900 2.150010
# IO::Compress::Brotli 0.004001 0.004001
# IO::Uncompress::Brotli 0.004001 0.004001
#
# === Runtime Requires ===
#
# Module Want Have
# -------------------------- ----- -----
# Carp any 1.53
# Compress::Raw::Bzip2 any 2.201
# Compress::Raw::Zlib any 2.202
# Encode 3.01 3.18
# Encode::Locale 1 1.05
# Exporter 5.57 5.77
# File::Spec any 3.85
# HTTP::Date 6 6.05
# IO::Compress::Bzip2 2.021 2.201
# IO::Compress::Deflate any 2.201
# IO::Compress::Gzip any 2.201
# IO::HTML any 1.004
# IO::Uncompress::Inflate any 2.201
# IO::Uncompress::RawInflate any 2.201
# LWP::MediaTypes 6 6.04
# MIME::Base64 2.1 3.16
# MIME::QuotedPrint any 3.16
# URI 1.10 5.10
# parent any 0.238
# strict any 1.12
# warnings any 1.58
#
# === Runtime Recommends ===
#
# Module Want Have
# ---------------------- -------- --------
# IO::Compress::Brotli 0.004001 0.004001
# IO::Uncompress::Brotli 0.004001 0.004001
#
# === Runtime Suggests ===
#
# Module Want Have
# ------ ---- ----
# Clone any 0.45
#
t/00-report-prereqs.t .......... ok
t/common-req.t ................. ok
t/headers-auth.t ............... ok
t/headers-etag.t ............... ok
t/headers-util.t ............... ok
t/headers.t .................... ok
t/http-config.t ................ ok
t/message-brotli.t ............. ok
t/message-charset.t ............ ok
t/message-decode-brotlibomb.t .. ok
t/message-decode-bzipbomb.t .... ok
t/message-decode-xml.t ......... ok
t/message-decode-zipbomb.t ..... ok
t/message-old.t ................ ok
t/message-parts.t .............. ok
t/message.t .................... ok
t/request.t .................... ok
t/request_type_with_data.t ..... ok
t/response.t ................... ok
t/status-old.t ................. ok
t/status.t ..................... ok
All tests successful.
Files=21, Tests=847, 8 wallclock secs ( 0.14 usr 0.35 sys + 5.42 cusr 1.51 csys = 7.42 CPU)
Result: PASS
------------------------------
PREREQUISITES
------------------------------
Prerequisite modules loaded:
requires:
Module Need Have
-------------------------- -------- --------
Carp 0 1.53
Compress::Raw::Bzip2 0 2.201
Compress::Raw::Zlib 0 2.202
Encode 3.01 3.18
Encode::Locale 1 1.05
Exporter 5.57 5.77
File::Spec 0 3.85
HTTP::Date 6 6.05
IO::Compress::Bzip2 2.021 2.201
IO::Compress::Deflate 0 2.201
IO::Compress::Gzip 0 2.201
IO::HTML 0 1.004
IO::Uncompress::Inflate 0 2.201
IO::Uncompress::RawInflate 0 2.201
LWP::MediaTypes 6 6.04
MIME::Base64 2.1 3.16
MIME::QuotedPrint 0 3.16
parent 0 0.238
perl 5.008001 5.037001
strict 0 1.12
URI 1.10 5.10
warnings 0 1.58
build_requires:
Module Need Have
-------------------------- -------- --------
ExtUtils::MakeMaker 0 7.64
File::Spec 0 3.85
File::Temp 0 0.2311
lib 0 0.65
overload 0 1.35
PerlIO::encoding 0 0.30
Test::More 0.88 1.302191
Test::Needs 0 0.002009
Time::Local 0 1.30
Try::Tiny 0 0.31
URI::URL 0 5.10
configure_requires:
Module Need Have
-------------------------- -------- --------
ExtUtils::MakeMaker 0 7.64
perl 5.006 5.037001
opt_requires:
Module Need Have
-------------------------- -------- --------
IO::Compress::Brotli 0.004001 0.004001
IO::Uncompress::Brotli 0.004001 0.004001
------------------------------
ENVIRONMENT AND OTHER CONTEXT
------------------------------
Environment variables:
AUTOMATED_TESTING = 1
LANG = en_US.UTF-8
LANGUAGE = en_US:en
PATH = /home/sand/bin:/usr/local/bin:/usr/bin:/bin:/usr/games:/usr/local/perl/bin:/usr/X11/bin:/sbin:/usr/sbin
PERL5LIB =
PERL5OPT =
PERL5_CPANPLUS_IS_RUNNING = 42389
PERL5_CPAN_IS_RUNNING = 42389
PERL_CANARY_STABILITY_NOPROMPT = 1
PERL_MM_USE_DEFAULT = 1
PERL_USE_UNSAFE_INC = 1
SHELL = /usr/bin/zsh
TERM = screen
Perl special variables (and OS-specific diagnostics, for MSWin32):
$^X = /home/sand/src/perl/repoperls/installed-perls/host/k93msid/v5.37.1/ac75/bin/perl
$UID/$EUID = 1005 / 1005
$GID = 1005 1005
$EGID = 1005 1005
Perl module toolchain versions installed:
Module Have
------------------- --------
CPAN 2.34
CPAN::Meta 2.150010
Cwd 3.85
ExtUtils::CBuilder 0.280237
ExtUtils::Command 7.64
ExtUtils::Install 2.20
ExtUtils::MakeMaker 7.64
ExtUtils::Manifest 1.73
ExtUtils::ParseXS 3.45
File::Spec 3.85
JSON 4.09
JSON::PP 4.10
Module::Build 0.4231
Module::Signature 0.88
Parse::CPAN::Meta 2.150010
Test::Harness 3.44
Test::More 1.302191
YAML 1.30
YAML::Syck 1.34
version 0.9929
--
Summary of my perl5 (revision 5 version 37 subversion 1) configuration:
Commit id: a33f7527640f5a662130b55a9fc8c2302b3b38f6
Platform:
osname=linux
osvers=5.10.0-14-amd64
archname=x86_64-linux-thread-multi-ld
uname='linux k93msid 5.10.0-14-amd64 #1 smp debian 5.10.113-1 (2022-04-29) x86_64 gnulinux '
config_args='-Dprefix=/home/sand/src/perl/repoperls/installed-perls/host/k93msid/v5.37.1/ac75 -Dmyhostname=k93msid -Dinstallusrbinperl=n -Uversiononly -Dusedevel -des -Ui_db -Dlibswanted=cl pthread socket inet nsl gdbm dbm malloc dl ld sun m crypt sec util c cposix posix ucb BSD gdbm_compat -Duseithreads -Duselongdouble -DEBUGGING=both'
hint=recommended
useposix=true
d_sigaction=define
useithreads=define
usemultiplicity=define
use64bitint=define
use64bitall=define
uselongdouble=define
usemymalloc=n
default_inc_excludes_dot=define
Compiler:
cc='cc'
ccflags ='-D_REENTRANT -D_GNU_SOURCE -fwrapv -DDEBUGGING -fno-strict-aliasing -pipe -fstack-protector-strong -I/usr/local/include -D_LARGEFILE_SOURCE -D_FILE_OFFSET_BITS=64 -D_FORTIFY_SOURCE=2'
optimize='-O2 -g'
cppflags='-D_REENTRANT -D_GNU_SOURCE -fwrapv -DDEBUGGING -fno-strict-aliasing -pipe -fstack-protector-strong -I/usr/local/include'
ccversion=''
gccversion='11.3.0'
gccosandvers=''
intsize=4
longsize=8
ptrsize=8
doublesize=8
byteorder=12345678
doublekind=3
d_longlong=define
longlongsize=8
d_longdbl=define
longdblsize=16
longdblkind=3
ivtype='long'
ivsize=8
nvtype='long double'
nvsize=16
Off_t='off_t'
lseeksize=8
alignbytes=16
prototype=define
Linker and Libraries:
ld='cc'
ldflags =' -fstack-protector-strong -L/usr/local/lib'
libpth=/usr/local/lib /usr/lib/x86_64-linux-gnu /usr/lib /usr/lib64
libs=-lpthread -lnsl -ldl -lm -lcrypt -lutil -lc
perllibs=-lpthread -lnsl -ldl -lm -lcrypt -lutil -lc
libc=libc-2.33.so
so=so
useshrplib=false
libperl=libperl.a
gnulibc_version='2.33'
Dynamic Linking:
dlsrc=dl_dlopen.xs
dlext=so
d_dlsymun=undef
ccdlflags='-Wl,-E'
cccdlflags='-fPIC'
lddlflags='-shared -O2 -g -L/usr/local/lib -fstack-protector-strong'
Characteristics of this binary (from libperl):
Compile-time options:
DEBUGGING
HAS_TIMES
MULTIPLICITY
PERLIO_LAYERS
PERL_COPY_ON_WRITE
PERL_DONT_CREATE_GVSV
PERL_MALLOC_WRAP
PERL_OP_PARENT
PERL_PRESERVE_IVUV
PERL_TRACK_MEMPOOL
PERL_USE_DEVEL
PERL_USE_SAFE_PUTENV
USE_64_BIT_ALL
USE_64_BIT_INT
USE_ITHREADS
USE_LARGE_FILES
USE_LOCALE
USE_LOCALE_COLLATE
USE_LOCALE_CTYPE
USE_LOCALE_NUMERIC
USE_LOCALE_TIME
USE_LONG_DOUBLE
USE_PERLIO
USE_PERL_ATOF
USE_REENTRANT_API
USE_THREAD_SAFE_LOCALE
Built under linux
Compiled at Jun 21 2022 03:55:05
%ENV:
PERL5LIB=""
PERL5OPT=""
PERL5_CPANPLUS_IS_RUNNING="42389"
PERL5_CPAN_IS_RUNNING="42389"
PERL_CANARY_STABILITY_NOPROMPT="1"
PERL_MM_USE_DEFAULT="1"
PERL_USE_UNSAFE_INC="1"
@INC:
/home/sand/src/perl/repoperls/installed-perls/host/k93msid/v5.37.1/ac75/lib/site_perl/5.37.1/x86_64-linux-thread-multi-ld
/home/sand/src/perl/repoperls/installed-perls/host/k93msid/v5.37.1/ac75/lib/site_perl/5.37.1
/home/sand/src/perl/repoperls/installed-perls/host/k93msid/v5.37.1/ac75/lib/5.37.1/x86_64-linux-thread-multi-ld
/home/sand/src/perl/repoperls/installed-perls/host/k93msid/v5.37.1/ac75/lib/5.37.1
.