DateTime-Format-Strptime v1.77 Perl 5 v5.24.0 MSWin32-x86-multi-thread-64int

Status
Pass
From
NONAME
Dist
DateTime-Format-Strptime v1.77
Platform
Perl 5 v5.24.0 MSWin32-x86-multi-thread-64int
Date
2020-07-11 04:12:31
ID
c17f454e-6fdb-1014-83d1-bcafd618ba9a
This distribution has been tested as part of the CPAN Testers
project, supporting the Perl programming language.  See
http://wiki.cpantesters.org/ for more information or email
questions to cpan-testers-discuss@perl.org


--
Dear Dave Rolsky,

This is a computer-generated report for DateTime-Format-Strptime-1.77
on perl 5.24.0, created by CPAN-Reporter-1.2018.

Thank you for uploading your work to CPAN.  Congratulations!
All tests were successful.

Sections of this report:

    * Tester comments
    * Program output
    * Prerequisites
    * Environment and other context

------------------------------
TESTER COMMENTS
------------------------------

Additional comments from tester:

none provided

------------------------------
PROGRAM OUTPUT
------------------------------

Output from 'C:\Strawberry\c\bin\dmake.exe test':

"C:\Strawberry\perl\bin\perl.exe" "-MExtUtils::Command::MM" "-MTest::Harness" "-e" "undef *Test::Harness::Switches; test_harness(0, 'blib\lib', 'blib\arch')" t/*.t
# 
# Versions for all modules listed in MYMETA.json (including optional ones):
# 
# === Configure Requires ===
# 
#     Module              Want    Have
#     ------------------- ---- -------
#     ExtUtils::MakeMaker  any 7.35_10
# 
# === Configure Suggests ===
# 
#     Module      Want Have
#     -------- ------- ----
#     JSON::PP 2.27300 4.02
# 
# === Build Requires ===
# 
#     Module              Want    Have
#     ------------------- ---- -------
#     ExtUtils::MakeMaker  any 7.35_10
# 
# === Test Requires ===
# 
#     Module              Want     Have
#     ------------------- ---- --------
#     ExtUtils::MakeMaker  any  7.35_10
#     File::Spec           any     3.75
#     FindBin              any     1.51
#     Test::Builder        any 1.302175
#     Test::Fatal          any    0.014
#     Test::More          0.96 1.302175
#     Test::Warnings       any    0.026
#     lib                  any     0.63
#     utf8                 any     1.19
# 
# === Test Recommends ===
# 
#     Module         Want     Have
#     ---------- -------- --------
#     CPAN::Meta 2.120900 2.150010
# 
# === Runtime Requires ===
# 
#     Module                     Want  Have
#     -------------------------- ---- -----
#     Carp                        any  1.50
#     DateTime                   1.00  1.43
#     DateTime::Locale           1.23  1.26
#     DateTime::Locale::Base      any  1.26
#     DateTime::Locale::FromData  any  1.26
#     DateTime::TimeZone         2.09  2.39
#     Exporter                    any  5.72
#     Params::ValidationCompiler  any  0.24
#     Specio                     0.33  0.40
#     Specio::Declare             any  0.40
#     Specio::Exporter            any  0.40
#     Specio::Library::Builtins   any  0.40
#     Specio::Library::String     any  0.40
#     Try::Tiny                   any  0.30
#     constant                    any  1.33
#     parent                      any 0.234
#     strict                      any  1.11
#     warnings                    any  1.36
# 
t/00-report-prereqs.t ... ok
t/basic.t ............... ok
Subroutine olson_version redefined at C:\home\west\perl5\lib\perl5/DateTime/TimeZone/america/new_york.pm line 2080, <DATA> line 1.
Subroutine has_dst_changes redefined at C:\home\west\perl5\lib\perl5/DateTime/TimeZone/america/new_york.pm line 2082, <DATA> line 1.
Subroutine _max_year redefined at C:\home\west\perl5\lib\perl5/DateTime/TimeZone/america/new_york.pm line 2084, <DATA> line 1.
Subroutine _new_instance redefined at C:\home\west\perl5\lib\perl5/DateTime/TimeZone/america/new_york.pm line 2086, <DATA> line 1.
Subroutine _last_offset redefined at C:\home\west\perl5\lib\perl5/DateTime/TimeZone/america/new_york.pm line 2090, <DATA> line 1.
Subroutine _last_observance redefined at C:\home\west\perl5\lib\perl5/DateTime/TimeZone/america/new_york.pm line 2128, <DATA> line 1.
Subroutine _rules redefined at C:\home\west\perl5\lib\perl5/DateTime/TimeZone/america/new_york.pm line 2155, <DATA> line 1.
Subroutine olson_version redefined at C:\home\west\perl5\lib\perl5/DateTime/TimeZone/amERicA/new_YORK.pm line 2080, <DATA> line 1.
Subroutine has_dst_changes redefined at C:\home\west\perl5\lib\perl5/DateTime/TimeZone/amERicA/new_YORK.pm line 2082, <DATA> line 1.
Subroutine _max_year redefined at C:\home\west\perl5\lib\perl5/DateTime/TimeZone/amERicA/new_YORK.pm line 2084, <DATA> line 1.
Subroutine _new_instance redefined at C:\home\west\perl5\lib\perl5/DateTime/TimeZone/amERicA/new_YORK.pm line 2086, <DATA> line 1.
Subroutine _last_offset redefined at C:\home\west\perl5\lib\perl5/DateTime/TimeZone/amERicA/new_YORK.pm line 2090, <DATA> line 1.
Subroutine _last_observance redefined at C:\home\west\perl5\lib\perl5/DateTime/TimeZone/amERicA/new_YORK.pm line 2128, <DATA> line 1.
Subroutine _rules redefined at C:\home\west\perl5\lib\perl5/DateTime/TimeZone/amERicA/new_YORK.pm line 2155, <DATA> line 1.
t/edge.t ................ ok
t/errors.t .............. ok
t/format-datetime.t ..... ok
t/format-with-locale.t .. ok
t/import.t .............. ok
t/locale-de.t ........... ok
t/locale-en.t ........... ok
t/locale-ga.t ........... ok
t/locale-pt.t ........... ok
t/locale-zh.t ........... ok
t/zones.t ............... ok
All tests successful.
Files=13, Tests=143, 13 wallclock secs ( 0.33 usr +  0.11 sys =  0.44 CPU)
Result: PASS

------------------------------
PREREQUISITES
------------------------------

Prerequisite modules loaded:

requires:

    Module                     Need Have    
    -------------------------- ---- --------
    Carp                       0    1.50    
    constant                   0    1.33    
    DateTime                   1.00 1.43    
    DateTime::Locale           1.23 1.26    
    DateTime::Locale::Base     0    1.26    
    DateTime::Locale::FromData 0    1.26    
    DateTime::TimeZone         2.09 2.39    
    Exporter                   0    5.72    
    Params::ValidationCompiler 0    0.24    
    parent                     0    0.234   
    Specio                     0.33 0.40    
    Specio::Declare            0    0.40    
    Specio::Exporter           0    0.40    
    Specio::Library::Builtins  0    0.40    
    Specio::Library::String    0    0.40    
    strict                     0    1.11    
    Try::Tiny                  0    0.30    
    warnings                   0    1.36    

build_requires:

    Module                     Need Have    
    -------------------------- ---- --------
    ExtUtils::MakeMaker        0    7.35_10 
    File::Spec                 0    3.75    
    FindBin                    0    1.51    
    lib                        0    0.63    
    Test::Builder              0    1.302175
    Test::Fatal                0    0.014   
    Test::More                 0.96 1.302175
    Test::Warnings             0    0.026   
    utf8                       0    1.19    

configure_requires:

    Module                     Need Have    
    -------------------------- ---- --------
    ExtUtils::MakeMaker        0    7.35_10 


------------------------------
ENVIRONMENT AND OTHER CONTEXT
------------------------------

Environment variables:

    COMSPEC = C:\windows\system32\cmd.exe
    NONINTERACTIVE_TESTING = 1
    NUMBER_OF_PROCESSORS = 4
    PATH = C:\home\west\perl5\bin;C:\windows\system32;C:\windows;C:\windows\System32\Wbem;C:\windows\System32\WindowsPowerShell\v1.0\;C:\Strawberry\c\bin;C:\Strawberry\perl\site\bin;C:\Strawberry\perl\bin
    PERL5LIB = C:\home\west\perl5\lib\perl5
    PERL5OPT = 
    PERL5_CPANPLUS_IS_RUNNING = 8644
    PERL5_CPAN_IS_RUNNING = 8644
    PERL_LOCAL_LIB_ROOT = C:\home\west\perl5
    PERL_MB_OPT = --install_base "C:\\home\\west\\perl5"
    PERL_MM_OPT = INSTALL_BASE=C:\\home\\west\\perl5
    PERL_MM_USE_DEFAULT = 1
    PERL_USE_UNSAFE_INC = 1
    PROCESSOR_IDENTIFIER = x86 Family 6 Model 37 Stepping 5, GenuineIntel
    TEMP = C:\Users\user\AppData\Local\Temp
    TERM = dumb

Perl special variables (and OS-specific diagnostics, for MSWin32):

    $^X = C:\Strawberry\perl\bin\perl.exe
    $UID/$EUID = 0 / 0
    $GID = 0
    $EGID = 0
    Win32::GetOSName = Win7
    Win32::GetOSVersion = Service Pack 1, 6, 1, 7601, 2, 1, 0, 256, 1
    Win32::FsType = NTFS
    Win32::IsAdminUser = 0

Perl module toolchain versions installed:

    Module              Have    
    ------------------- --------
    CPAN                2.26    
    CPAN::Meta          2.150010
    Cwd                 3.75    
    ExtUtils::CBuilder  0.280231
    ExtUtils::Command   7.35_10 
    ExtUtils::Install   2.14    
    ExtUtils::MakeMaker 7.35_10 
    ExtUtils::Manifest  1.72    
    ExtUtils::ParseXS   3.35    
    File::Spec          3.75    
    JSON                4.02    
    JSON::PP            4.02    
    Module::Build       0.42_28 
    Module::Signature   0.87    
    Parse::CPAN::Meta   2.150010
    Test::Harness       3.36    
    Test::More          1.302175
    YAML                1.27    
    YAML::Syck          1.31    
    version             0.9924  


--

Summary of my perl5 (revision 5 version 24 subversion 0) configuration:
   
  Platform:
    osname=MSWin32, osvers=6.3, archname=MSWin32-x86-multi-thread-64int
    uname='Win32 strawberry-perl 5.24.0.1 #1 Tue May 10 17:10:11 2016 i386'
    config_args='undef'
    hint=recommended, useposix=true, d_sigaction=undef
    useithreads=define, usemultiplicity=define
    use64bitint=define, use64bitall=undef, uselongdouble=undef
    usemymalloc=n, bincompat5005=undef
  Compiler:
    cc='gcc', ccflags =' -s -O2 -DWIN32  -DPERL_TEXTMODE_SCRIPTS -DPERL_IMPLICIT_CONTEXT -DPERL_IMPLICIT_SYS -fwrapv -fno-strict-aliasing -mms-bitfields',
    optimize='-s -O2',
    cppflags='-DWIN32'
    ccversion='', gccversion='4.9.2', gccosandvers=''
    intsize=4, longsize=4, ptrsize=4, doublesize=8, byteorder=12345678, doublekind=3
    d_longlong=define, longlongsize=8, d_longdbl=define, longdblsize=12, longdblkind=3
    ivtype='long long', ivsize=8, nvtype='double', nvsize=8, Off_t='long long', lseeksize=8
    alignbytes=8, prototype=define
  Linker and Libraries:
    ld='g++', ldflags ='-s -L"C:\Strawberry\perl\lib\CORE" -L"C:\Strawberry\c\lib"'
    libpth=C:\Strawberry\c\lib C:\Strawberry\c\i686-w64-mingw32\lib C:\Strawberry\c\lib\gcc\i686-w64-mingw32\4.9.2
    libs=-lmoldname -lkernel32 -luser32 -lgdi32 -lwinspool -lcomdlg32 -ladvapi32 -lshell32 -lole32 -loleaut32 -lnetapi32 -luuid -lws2_32 -lmpr -lwinmm -lversion -lodbc32 -lodbccp32 -lcomctl32
    perllibs=-lmoldname -lkernel32 -luser32 -lgdi32 -lwinspool -lcomdlg32 -ladvapi32 -lshell32 -lole32 -loleaut32 -lnetapi32 -luuid -lws2_32 -lmpr -lwinmm -lversion -lodbc32 -lodbccp32 -lcomctl32
    libc=, so=dll, useshrplib=true, libperl=libperl524.a
    gnulibc_version=''
  Dynamic Linking:
    dlsrc=dl_win32.xs, dlext=xs.dll, d_dlsymun=undef, ccdlflags=' '
    cccdlflags=' ', lddlflags='-mdll -s -L"C:\Strawberry\perl\lib\CORE" -L"C:\Strawberry\c\lib"'


Characteristics of this binary (from libperl): 
  Compile-time options: HAS_TIMES HAVE_INTERP_INTERN MULTIPLICITY
                        PERLIO_LAYERS PERL_COPY_ON_WRITE
                        PERL_DONT_CREATE_GVSV
                        PERL_HASH_FUNC_ONE_AT_A_TIME_HARD
                        PERL_IMPLICIT_CONTEXT PERL_IMPLICIT_SYS
                        PERL_MALLOC_WRAP PERL_PRESERVE_IVUV USE_64_BIT_INT
                        USE_ITHREADS USE_LARGE_FILES USE_LOCALE
                        USE_LOCALE_COLLATE USE_LOCALE_CTYPE
                        USE_LOCALE_NUMERIC USE_LOCALE_TIME USE_PERLIO
                        USE_PERL_ATOF
  Built under MSWin32
  Compiled at May 10 2016 17:20:50
  %ENV:
    PERL5LIB="C:\home\west\perl5\lib\perl5"
    PERL5_CPANPLUS_IS_RUNNING="8644"
    PERL5_CPAN_IS_RUNNING="8644"
    PERL_LOCAL_LIB_ROOT="C:\home\west\perl5"
    PERL_MB_OPT="--install_base "C:\\home\\west\\perl5""
    PERL_MM_OPT="INSTALL_BASE=C:\\home\\west\\perl5"
    PERL_MM_USE_DEFAULT="1"
    PERL_USE_UNSAFE_INC="1"
  @INC:
    C:\home\west\perl5\lib\perl5/MSWin32-x86-multi-thread-64int
    C:\home\west\perl5\lib\perl5
    C:/Strawberry/perl/site/lib
    C:/Strawberry/perl/vendor/lib
    C:/Strawberry/perl/lib
    .