Unicode-Homoglyph-Replace v0.01 Perl 5 v5.38.3 x86_64-linux-thread-multi
- Status
- Pass
- From
- Andreas J. König (ANDK)
- Dist
-
Unicode-Homoglyph-Replace v0.01
- Platform
- Perl 5 v5.38.3 x86_64-linux-thread-multi
- Date
- 2025-01-29 17:44:57
- ID
- c1a3d12c-de68-11ef-bc77-c7cf53da96d3
This distribution has been tested as part of the CPAN Testers
project, supporting the Perl programming language. See
http://wiki.cpantesters.org/ for more information or email
questions to cpan-testers-discuss@perl.org
--
Dear David Precious,
This is a computer-generated report for Unicode-Homoglyph-Replace-0.01
on perl 5.38.3, created by CPAN-Reporter-1.2020.
Thank you for uploading your work to CPAN. Congratulations!
All tests were successful.
Sections of this report:
* Tester comments
* Program output
* Prerequisites
* Environment and other context
------------------------------
TESTER COMMENTS
------------------------------
Additional comments from tester:
this report is from an automated smoke testing program
and was not reviewed by a human for accuracy
------------------------------
PROGRAM OUTPUT
------------------------------
Output from '/usr/bin/make test':
PERL_DL_NONLAZY=1 "/tmp/basesmoker-reloperl-aFHk/bin/perl" "-MExtUtils::Command::MM" "-MTest::Harness" "-e" "undef *Test::Harness::Switches; test_harness(0, 'blib/lib', 'blib/arch')" t/*.t
# Testing Unicode::Homoglyph::Replace 0.01, Perl 5.038003, /tmp/basesmoker-reloperl-aFHk/bin/perl
t/00-load.t ....... ok
# Testing Unicode::Homoglyph::Replace 0.01, Perl 5.038003, /tmp/basesmoker-reloperl-aFHk/bin/perl
Wide character in print at /home/sand/src/perl/repoperls/installed-perls/host/k93focal/v5.38.3/d119/lib/site_perl/5.38.3/Test2/Formatter/TAP.pm line 156.
Wide character in print at /home/sand/src/perl/repoperls/installed-perls/host/k93focal/v5.38.3/d119/lib/site_perl/5.38.3/Test2/Formatter/TAP.pm line 156.
Wide character in print at /home/sand/src/perl/repoperls/installed-perls/host/k93focal/v5.38.3/d119/lib/site_perl/5.38.3/Test2/Formatter/TAP.pm line 156.
Wide character in print at /home/sand/src/perl/repoperls/installed-perls/host/k93focal/v5.38.3/d119/lib/site_perl/5.38.3/Test2/Formatter/TAP.pm line 156.
Wide character in print at /home/sand/src/perl/repoperls/installed-perls/host/k93focal/v5.38.3/d119/lib/site_perl/5.38.3/Test2/Formatter/TAP.pm line 125.
# Take the time to make some sense => âÃÂkeâÂÂthõâÂÂtiâÂ
¿á¥±âÂÂtà ´ âÂÂâÂ
¿Ã°kõâÂÂsþâÂ
¿á¥±âÂÂÃÂeá¥ÂÃÂᥱ
Wide character in print at /home/sand/src/perl/repoperls/installed-perls/host/k93focal/v5.38.3/d119/lib/site_perl/5.38.3/Test2/Formatter/TAP.pm line 156.
Wide character in print at /home/sand/src/perl/repoperls/installed-perls/host/k93focal/v5.38.3/d119/lib/site_perl/5.38.3/Test2/Formatter/TAP.pm line 125.
# Take the time to make some sense => äakᥱàthᥱ tiâÂ
¿eâÂÂtâ²ÂâÂÂâÂ
¿akõâÂÂÃÂà ´ âÂ
¿ÃµâÂÂ
ÃÂensᥱ
Wide character in print at /home/sand/src/perl/repoperls/installed-perls/host/k93focal/v5.38.3/d119/lib/site_perl/5.38.3/Test2/Formatter/TAP.pm line 156.
Wide character in print at /home/sand/src/perl/repoperls/installed-perls/host/k93focal/v5.38.3/d119/lib/site_perl/5.38.3/Test2/Formatter/TAP.pm line 125.
# Take the time to make some sense => äðkõâÂÂthᥱâÂÂtâÂ
°âÂ
¿ÃµâÂÂtoâÂÂâÂ
¿Ã°keâÂÂsþâÂ
¿á¥±âÂÂÃÂõnÃÂe
Wide character in print at /home/sand/src/perl/repoperls/installed-perls/host/k93focal/v5.38.3/d119/lib/site_perl/5.38.3/Test2/Formatter/TAP.pm line 156.
Wide character in print at /home/sand/src/perl/repoperls/installed-perls/host/k93focal/v5.38.3/d119/lib/site_perl/5.38.3/Test2/Formatter/TAP.pm line 125.
# Take the time to make some sense => âÃÂkeâÂÂthᥱâÂÂtimeâÂÂtà ´ âÂ
¿akõâÂÂsâ²Âmᥱâ¯ÃÂeá¥ÂÃÂõ
Wide character in print at /home/sand/src/perl/repoperls/installed-perls/host/k93focal/v5.38.3/d119/lib/site_perl/5.38.3/Test2/Formatter/TAP.pm line 156.
Wide character in print at /home/sand/src/perl/repoperls/installed-perls/host/k93focal/v5.38.3/d119/lib/site_perl/5.38.3/Test2/Formatter/TAP.pm line 125.
# Take the time to make some sense => á¢akᥱâÂÂthõàtâÂ
°âÂ
¿á¥±âÂÂtÿâÂÂmakeâÂÂsÿâÂ
¿á¥±âÂÂseá¥Âsᥱ
Wide character in print at /home/sand/src/perl/repoperls/installed-perls/host/k93focal/v5.38.3/d119/lib/site_perl/5.38.3/Test2/Formatter/TAP.pm line 156.
Wide character in print at /home/sand/src/perl/repoperls/installed-perls/host/k93focal/v5.38.3/d119/lib/site_perl/5.38.3/Test2/Formatter/TAP.pm line 125.
# Take the time to make some sense => äÃÂkeâÂÂthᥱâÂÂtÃÂmeâ¯tâ²ÂâÂÂmakeâÂÂsâ²ÂmᥱâÂÂsᥱá¥Âsᥱ
Wide character in print at /home/sand/src/perl/repoperls/installed-perls/host/k93focal/v5.38.3/d119/lib/site_perl/5.38.3/Test2/Formatter/TAP.pm line 156.
Wide character in print at /home/sand/src/perl/repoperls/installed-perls/host/k93focal/v5.38.3/d119/lib/site_perl/5.38.3/Test2/Formatter/TAP.pm line 125.
# Take the time to make some sense => äakᥱâÂÂtûõâÂÂtÃÂâÂ
¿á¥±âÂÂtâ²ÂâÂÂâÂ
¿Ã°keâÂÂÃÂâ²ÂâÂ
¿á¥±âÂÂÃÂᥱnse
Wide character in print at /home/sand/src/perl/repoperls/installed-perls/host/k93focal/v5.38.3/d119/lib/site_perl/5.38.3/Test2/Formatter/TAP.pm line 156.
Wide character in print at /home/sand/src/perl/repoperls/installed-perls/host/k93focal/v5.38.3/d119/lib/site_perl/5.38.3/Test2/Formatter/TAP.pm line 125.
# Take the time to make some sense => TðkõâÂÂ
thõàtimᥱ toâÂÂ
âÂ
¿akeâÂÂsþmᥱâÂÂsõnÃÂᥱ
Wide character in print at /home/sand/src/perl/repoperls/installed-perls/host/k93focal/v5.38.3/d119/lib/site_perl/5.38.3/Test2/Formatter/TAP.pm line 156.
Wide character in print at /home/sand/src/perl/repoperls/installed-perls/host/k93focal/v5.38.3/d119/lib/site_perl/5.38.3/Test2/Formatter/TAP.pm line 125.
# Take the time to make some sense => âðkeâÂÂthõâ¯timeâÂÂtþâÂÂâÂ
¿akᥱâÂÂÃÂþmõàsᥱnÃÂõ
Wide character in print at /home/sand/src/perl/repoperls/installed-perls/host/k93focal/v5.38.3/d119/lib/site_perl/5.38.3/Test2/Formatter/TAP.pm line 156.
Wide character in print at /home/sand/src/perl/repoperls/installed-perls/host/k93focal/v5.38.3/d119/lib/site_perl/5.38.3/Test2/Formatter/TAP.pm line 125.
# Take the time to make some sense => á¢ÃÂkeâÂÂ
tûeâÂÂtâÂ
°âÂ
¿á¥±âÂÂtà ´ makᥱâÂÂÃÂâ²ÂmeâÂÂsensᥱ
Wide character in print at /home/sand/src/perl/repoperls/installed-perls/host/k93focal/v5.38.3/d119/lib/site_perl/5.38.3/Test2/Formatter/TAP.pm line 156.
Wide character in print at /home/sand/src/perl/repoperls/installed-perls/host/k93focal/v5.38.3/d119/lib/site_perl/5.38.3/Test2/Formatter/TAP.pm line 125.
# Of what you want to say, => ÃÂfâÂÂwhðtâÂÂyÿâªâÂÂwðá¥ÂtâÂÂtâ²ÂâÂÂsÃÂyï¼Â
Wide character in print at /home/sand/src/perl/repoperls/installed-perls/host/k93focal/v5.38.3/d119/lib/site_perl/5.38.3/Test2/Formatter/TAP.pm line 156.
Wide character in print at /home/sand/src/perl/repoperls/installed-perls/host/k93focal/v5.38.3/d119/lib/site_perl/5.38.3/Test2/Formatter/TAP.pm line 125.
# Of what you want to say, => â²ÂfâÂÂwûðt ÃÂÿâªâÂÂá´¡antâÂÂtà ´ âÂÂsðyá§
Wide character in print at /home/sand/src/perl/repoperls/installed-perls/host/k93focal/v5.38.3/d119/lib/site_perl/5.38.3/Test2/Formatter/TAP.pm line 156.
Wide character in print at /home/sand/src/perl/repoperls/installed-perls/host/k93focal/v5.38.3/d119/lib/site_perl/5.38.3/Test2/Formatter/TAP.pm line 125.
# Of what you want to say, => ÃÂfâ¯wûatâÂÂyâ²ÂâªâÂÂá´¡antâÂÂtâ²ÂâÂÂÃÂaÃÂâÂÂ
Wide character in print at /home/sand/src/perl/repoperls/installed-perls/host/k93focal/v5.38.3/d119/lib/site_perl/5.38.3/Test2/Formatter/TAP.pm line 156.
Wide character in print at /home/sand/src/perl/repoperls/installed-perls/host/k93focal/v5.38.3/d119/lib/site_perl/5.38.3/Test2/Formatter/TAP.pm line 125.
# Of what you want to say, => â²ÂfâÂÂᴡûðtâ¯yþuâÂÂá´¡aá¥ÂtâÂÂtoâÂÂÃÂÃÂÃÂâÂÂ
Wide character in print at /home/sand/src/perl/repoperls/installed-perls/host/k93focal/v5.38.3/d119/lib/site_perl/5.38.3/Test2/Formatter/TAP.pm line 156.
Wide character in print at /home/sand/src/perl/repoperls/installed-perls/host/k93focal/v5.38.3/d119/lib/site_perl/5.38.3/Test2/Formatter/TAP.pm line 125.
# Of what you want to say, => ÃÂfâÂÂᴡûÃÂtâÂÂá»¿à ´ âªâÂÂwaá¥Âtâ¯tâ²ÂâÂÂsÃÂỿï¼Â
Wide character in print at /home/sand/src/perl/repoperls/installed-perls/host/k93focal/v5.38.3/d119/lib/site_perl/5.38.3/Test2/Formatter/TAP.pm line 156.
Wide character in print at /home/sand/src/perl/repoperls/installed-perls/host/k93focal/v5.38.3/d119/lib/site_perl/5.38.3/Test2/Formatter/TAP.pm line 125.
# Of what you want to say, => ÃÂfâÂÂᴡûÃÂtâÂÂyouâÂÂwÃÂntâÂÂtâ²ÂâÂÂsaỿï¼Â
Wide character in print at /home/sand/src/perl/repoperls/installed-perls/host/k93focal/v5.38.3/d119/lib/site_perl/5.38.3/Test2/Formatter/TAP.pm line 156.
Wide character in print at /home/sand/src/perl/repoperls/installed-perls/host/k93focal/v5.38.3/d119/lib/site_perl/5.38.3/Test2/Formatter/TAP.pm line 125.
# Of what you want to say, => OfàᴡûÃÂt yþá¥ÂàᴡÃÂá¥ÂtâÂÂtÿâÂÂsaỿâÂÂ
Wide character in print at /home/sand/src/perl/repoperls/installed-perls/host/k93focal/v5.38.3/d119/lib/site_perl/5.38.3/Test2/Formatter/TAP.pm line 156.
Wide character in print at /home/sand/src/perl/repoperls/installed-perls/host/k93focal/v5.38.3/d119/lib/site_perl/5.38.3/Test2/Formatter/TAP.pm line 125.
# Of what you want to say, => OfâÂÂwûatâÂÂyâ²ÂâªâÂÂwðntâÂÂtÿâÂÂsðyï¼Â
Wide character in print at /home/sand/src/perl/repoperls/installed-perls/host/k93focal/v5.38.3/d119/lib/site_perl/5.38.3/Test2/Formatter/TAP.pm line 156.
Wide character in print at /home/sand/src/perl/repoperls/installed-perls/host/k93focal/v5.38.3/d119/lib/site_perl/5.38.3/Test2/Formatter/TAP.pm line 125.
# Of what you want to say, => â²ÂfâÂÂwûÃÂtâ¯yÿá¥ÂâÂÂwðntâ¯tâ²ÂâÂÂsðỿï¼Â
Wide character in print at /home/sand/src/perl/repoperls/installed-perls/host/k93focal/v5.38.3/d119/lib/site_perl/5.38.3/Test2/Formatter/TAP.pm line 156.
Wide character in print at /home/sand/src/perl/repoperls/installed-perls/host/k93focal/v5.38.3/d119/lib/site_perl/5.38.3/Test2/Formatter/TAP.pm line 125.
# Of what you want to say, => ÃÂfâ¯ᴡhÃÂtâÂÂÃÂouâÂÂá´¡antâÂÂtâ²ÂâÂÂsayá§
Wide character in print at /home/sand/src/perl/repoperls/installed-perls/host/k93focal/v5.38.3/d119/lib/site_perl/5.38.3/Test2/Formatter/TAP.pm line 156.
Wide character in print at /home/sand/src/perl/repoperls/installed-perls/host/k93focal/v5.38.3/d119/lib/site_perl/5.38.3/Test2/Formatter/TAP.pm line 125.
# And cast your words away upon the waves. => ÃÂá¥ÂâÂ
¾âÂÂcaÃÂt ÃÂà ´ á¥ÂrâÂÂá´¡â²ÂrÃÂsâ¯aá´¡aÃÂâÂÂá¥Âpà ´ nâÂÂthõâÂÂwÃÂâÂÂᥱÃÂâ¤
Wide character in print at /home/sand/src/perl/repoperls/installed-perls/host/k93focal/v5.38.3/d119/lib/site_perl/5.38.3/Test2/Formatter/TAP.pm line 156.
Wide character in print at /home/sand/src/perl/repoperls/installed-perls/host/k93focal/v5.38.3/d119/lib/site_perl/5.38.3/Test2/Formatter/TAP.pm line 125.
# And cast your words away upon the waves. => Aá¥ÂâÂ
¾âÂÂÃÂÃÂstâÂÂyÿurâÂÂá´¡ordsâÂÂawÃÂỿ á¥ÂÃÂþá¥ÂâÂÂthõâÂÂwÃÂᴠᥱsâ¤
Wide character in print at /home/sand/src/perl/repoperls/installed-perls/host/k93focal/v5.38.3/d119/lib/site_perl/5.38.3/Test2/Formatter/TAP.pm line 156.
Wide character in print at /home/sand/src/perl/repoperls/installed-perls/host/k93focal/v5.38.3/d119/lib/site_perl/5.38.3/Test2/Formatter/TAP.pm line 125.
# And cast your words away upon the waves. => Aá¥ÂâÂ
¾â¯âÂ
½astâ¯ỿoá¥ÂrâÂÂá´¡orÃÂÃÂâÂÂaá´¡ÃÂÃÂàâªⲣâ²ÂnâÂÂthõâÂÂá´¡aá´ es.
Wide character in print at /home/sand/src/perl/repoperls/installed-perls/host/k93focal/v5.38.3/d119/lib/site_perl/5.38.3/Test2/Formatter/TAP.pm line 156.
Wide character in print at /home/sand/src/perl/repoperls/installed-perls/host/k93focal/v5.38.3/d119/lib/site_perl/5.38.3/Test2/Formatter/TAP.pm line 125.
# And cast your words away upon the waves. => ÃÂnÃÂâÂÂâÂ
½aÃÂtâÂÂÃÂourâÂÂᴡÿrâÂ
¾sâÂÂaᴡðyâ¯âªpþᥠtûõàwðâ¨eÃÂï¼Â
Wide character in print at /home/sand/src/perl/repoperls/installed-perls/host/k93focal/v5.38.3/d119/lib/site_perl/5.38.3/Test2/Formatter/TAP.pm line 156.
Wide character in print at /home/sand/src/perl/repoperls/installed-perls/host/k93focal/v5.38.3/d119/lib/site_perl/5.38.3/Test2/Formatter/TAP.pm line 125.
# And cast your words away upon the waves. => áªnÃÂâ¯ÃÂastàÃÂÿâªrâÂÂᴡÿrdsâÂÂðwaỿâ¯âªⲣÿn theâÂÂá´¡ÃÂâÂÂõsï¼Â
Wide character in print at /home/sand/src/perl/repoperls/installed-perls/host/k93focal/v5.38.3/d119/lib/site_perl/5.38.3/Test2/Formatter/TAP.pm line 156.
Wide character in print at /home/sand/src/perl/repoperls/installed-perls/host/k93focal/v5.38.3/d119/lib/site_perl/5.38.3/Test2/Formatter/TAP.pm line 125.
# And cast your words away upon the waves. => AnâÂ
¾Ã ÃÂastâÂÂÃÂà ´ âªrâÂÂá´¡â²ÂrâÂ
¾sâÂÂðᴡðyâÂÂuÃÂoá¥ÂâÂÂtheàᴡÃÂâÂ
´esâ¤
Wide character in print at /home/sand/src/perl/repoperls/installed-perls/host/k93focal/v5.38.3/d119/lib/site_perl/5.38.3/Test2/Formatter/TAP.pm line 156.
Wide character in print at /home/sand/src/perl/repoperls/installed-perls/host/k93focal/v5.38.3/d119/lib/site_perl/5.38.3/Test2/Formatter/TAP.pm line 125.
# And cast your words away upon the waves. => áªá¥ÂdâÂÂòaÃÂtâÂÂyÿá¥ÂrâÂÂwâ²ÂrâÂ
¾sâÂÂðwÃÂyâÂÂuÃÂÿá¥ÂâÂÂ
tûᥱàᴡaâÂ
´ÃµÃÂ.
Wide character in print at /home/sand/src/perl/repoperls/installed-perls/host/k93focal/v5.38.3/d119/lib/site_perl/5.38.3/Test2/Formatter/TAP.pm line 156.
Wide character in print at /home/sand/src/perl/repoperls/installed-perls/host/k93focal/v5.38.3/d119/lib/site_perl/5.38.3/Test2/Formatter/TAP.pm line 125.
# And cast your words away upon the waves. => áªá¥ÂâÂ
¾âÂÂcÃÂstâÂÂyoá¥ÂrâÂÂá´¡à ´ râÂ
¾sâÂÂaᴡðỿâÂÂuÃÂþnâÂÂtûeâÂÂá´¡aâ¨õÃÂâ¤
Wide character in print at /home/sand/src/perl/repoperls/installed-perls/host/k93focal/v5.38.3/d119/lib/site_perl/5.38.3/Test2/Formatter/TAP.pm line 156.
Wide character in print at /home/sand/src/perl/repoperls/installed-perls/host/k93focal/v5.38.3/d119/lib/site_perl/5.38.3/Test2/Formatter/TAP.pm line 125.
# And cast your words away upon the waves. => ÃÂndâÂÂâÂ
½ÃÂÃÂt ỿoá¥ÂrâÂÂá´¡à ´ rdsâÂÂðᴡðÃÂàá¥ÂÃÂâ²ÂnâÂÂ
theâÂÂá´¡aâ¨es.
Wide character in print at /home/sand/src/perl/repoperls/installed-perls/host/k93focal/v5.38.3/d119/lib/site_perl/5.38.3/Test2/Formatter/TAP.pm line 156.
Wide character in print at /home/sand/src/perl/repoperls/installed-perls/host/k93focal/v5.38.3/d119/lib/site_perl/5.38.3/Test2/Formatter/TAP.pm line 125.
# And cast your words away upon the waves. => ÃÂnâÂ
¾âÂÂcÃÂstâÂÂ
yâ²ÂâªrâÂÂá´¡à ´ rdsâÂÂÃÂá´¡aỿâÂÂâªpþnâÂÂtûᥱâÂÂwðâÂÂõsâ¤
Wide character in print at /home/sand/src/perl/repoperls/installed-perls/host/k93focal/v5.38.3/d119/lib/site_perl/5.38.3/Test2/Formatter/TAP.pm line 156.
Wide character in print at /home/sand/src/perl/repoperls/installed-perls/host/k93focal/v5.38.3/d119/lib/site_perl/5.38.3/Test2/Formatter/TAP.pm line 125.
# Sail them home with acquiesce, => SðilâÂÂtûõmâÂÂûþâÂ
¿eâÂÂwâÂ
°thâ¯ðcqá¥ÂiᥱÃÂÃÂeâÂÂ
Wide character in print at /home/sand/src/perl/repoperls/installed-perls/host/k93focal/v5.38.3/d119/lib/site_perl/5.38.3/Test2/Formatter/TAP.pm line 156.
Wide character in print at /home/sand/src/perl/repoperls/installed-perls/host/k93focal/v5.38.3/d119/lib/site_perl/5.38.3/Test2/Formatter/TAP.pm line 125.
# Sail them home with acquiesce, => SðâÂ
°lâÂÂtheâÂ
¿âÂÂûomeâÂÂwÃÂtÃȉÂÂÃÂÃÂqá¥ÂÃÂᥱsÃÂᥱ,
Wide character in print at /home/sand/src/perl/repoperls/installed-perls/host/k93focal/v5.38.3/d119/lib/site_perl/5.38.3/Test2/Formatter/TAP.pm line 156.
Wide character in print at /home/sand/src/perl/repoperls/installed-perls/host/k93focal/v5.38.3/d119/lib/site_perl/5.38.3/Test2/Formatter/TAP.pm line 125.
# Sail them home with acquiesce, => SÃÂiâÂ
¼âÂÂtûemâÂÂûâ²ÂâÂ
¿eàwÃÂtÃȉÂÂÃÂòquâÂ
°ÃµÃÂâÂ
½Ãµá§
Wide character in print at /home/sand/src/perl/repoperls/installed-perls/host/k93focal/v5.38.3/d119/lib/site_perl/5.38.3/Test2/Formatter/TAP.pm line 156.
Wide character in print at /home/sand/src/perl/repoperls/installed-perls/host/k93focal/v5.38.3/d119/lib/site_perl/5.38.3/Test2/Formatter/TAP.pm line 125.
# Sail them home with acquiesce, => áÂÂaâÂ
°lâÂÂtûᥱâÂ
¿âÂÂ
hà ´ âÂ
¿eâÂÂwitÃȉÂÂÃÂcqá¥ÂiõscõÃÂ
Wide character in print at /home/sand/src/perl/repoperls/installed-perls/host/k93focal/v5.38.3/d119/lib/site_perl/5.38.3/Test2/Formatter/TAP.pm line 156.
Wide character in print at /home/sand/src/perl/repoperls/installed-perls/host/k93focal/v5.38.3/d119/lib/site_perl/5.38.3/Test2/Formatter/TAP.pm line 125.
# Sail them home with acquiesce, => ÃÂ
ailâÂÂtûᥱâÂ
¿âÂÂhâ²ÂmõâÂÂá´¡ÃÂtÃȉÂÂÃÂcquiõÃÂÃÂe,
Wide character in print at /home/sand/src/perl/repoperls/installed-perls/host/k93focal/v5.38.3/d119/lib/site_perl/5.38.3/Test2/Formatter/TAP.pm line 156.
Wide character in print at /home/sand/src/perl/repoperls/installed-perls/host/k93focal/v5.38.3/d119/lib/site_perl/5.38.3/Test2/Formatter/TAP.pm line 125.
# Sail them home with acquiesce, => áÂÂðilâÂÂtûᥱâÂ
¿âÂÂûomeâÂÂá´¡âÂ
°thâÂÂÃÂâÂ
½quâÂ
°á¥±sÃÂõ,
Wide character in print at /home/sand/src/perl/repoperls/installed-perls/host/k93focal/v5.38.3/d119/lib/site_perl/5.38.3/Test2/Formatter/TAP.pm line 156.
Wide character in print at /home/sand/src/perl/repoperls/installed-perls/host/k93focal/v5.38.3/d119/lib/site_perl/5.38.3/Test2/Formatter/TAP.pm line 125.
# Sail them home with acquiesce, => áÂÂÃÂiâÂ
¼âÂÂthõâÂ
¿âÂÂhà ´ âÂ
¿eâÂÂwâÂ
°tÃȉÂÂÃÂòqá¥ÂiõsòõâÂÂ
Wide character in print at /home/sand/src/perl/repoperls/installed-perls/host/k93focal/v5.38.3/d119/lib/site_perl/5.38.3/Test2/Formatter/TAP.pm line 156.
Wide character in print at /home/sand/src/perl/repoperls/installed-perls/host/k93focal/v5.38.3/d119/lib/site_perl/5.38.3/Test2/Formatter/TAP.pm line 125.
# Sail them home with acquiesce, => ÃÂ
ÃÂÃÂâÂ
¼â¯theâÂ
¿ homᥱâÂÂá´¡âÂ
°thàðÃÂqâªÃÂᥱÃÂceï¼Â
Wide character in print at /home/sand/src/perl/repoperls/installed-perls/host/k93focal/v5.38.3/d119/lib/site_perl/5.38.3/Test2/Formatter/TAP.pm line 156.
Wide character in print at /home/sand/src/perl/repoperls/installed-perls/host/k93focal/v5.38.3/d119/lib/site_perl/5.38.3/Test2/Formatter/TAP.pm line 125.
# Sail them home with acquiesce, => SðâÂ
°âÂ
¼âÂÂthᥱmâÂÂûâ²ÂmᥱâÂÂá´¡âÂ
°thâÂÂðÃÂqá¥ÂÃÂᥱÃÂceÃÂ
Wide character in print at /home/sand/src/perl/repoperls/installed-perls/host/k93focal/v5.38.3/d119/lib/site_perl/5.38.3/Test2/Formatter/TAP.pm line 156.
Wide character in print at /home/sand/src/perl/repoperls/installed-perls/host/k93focal/v5.38.3/d119/lib/site_perl/5.38.3/Test2/Formatter/TAP.pm line 125.
# Sail them home with acquiesce, => ÃÂ
ðÃÂâÂ
¼âÂÂtûeâÂ
¿âÂÂhà ´ mõâÂÂá´¡itÃȉÂÂÃÂcquâÂ
°á¥±ÃÂòeÃÂ
Wide character in print at /home/sand/src/perl/repoperls/installed-perls/host/k93focal/v5.38.3/d119/lib/site_perl/5.38.3/Test2/Formatter/TAP.pm line 156.
Wide character in print at /home/sand/src/perl/repoperls/installed-perls/host/k93focal/v5.38.3/d119/lib/site_perl/5.38.3/Test2/Formatter/TAP.pm line 125.
# On a ship of hope today => ÃÂnâÂÂaàsÃȉÂ
°â²£âÂÂþfâÂÂÃ»à ´ pe tÿâÂ
¾Ã°y
Wide character in print at /home/sand/src/perl/repoperls/installed-perls/host/k93focal/v5.38.3/d119/lib/site_perl/5.38.3/Test2/Formatter/TAP.pm line 156.
Wide character in print at /home/sand/src/perl/repoperls/installed-perls/host/k93focal/v5.38.3/d119/lib/site_perl/5.38.3/Test2/Formatter/TAP.pm line 125.
# On a ship of hope today => ÃÂnàðâÂÂshÃÂÃÂâÂÂofâÂÂûâ²ÂÃÂõâÂÂtà ´ daỿ
Wide character in print at /home/sand/src/perl/repoperls/installed-perls/host/k93focal/v5.38.3/d119/lib/site_perl/5.38.3/Test2/Formatter/TAP.pm line 156.
Wide character in print at /home/sand/src/perl/repoperls/installed-perls/host/k93focal/v5.38.3/d119/lib/site_perl/5.38.3/Test2/Formatter/TAP.pm line 125.
# On a ship of hope today => â²ÂnâÂÂaàsûÃÂÃÂâÂÂþfâÂÂ
hà ´ peâÂÂtâ²ÂâÂ
¾Ã°á»¿
Wide character in print at /home/sand/src/perl/repoperls/installed-perls/host/k93focal/v5.38.3/d119/lib/site_perl/5.38.3/Test2/Formatter/TAP.pm line 156.
Wide character in print at /home/sand/src/perl/repoperls/installed-perls/host/k93focal/v5.38.3/d119/lib/site_perl/5.38.3/Test2/Formatter/TAP.pm line 125.
# On a ship of hope today => ÃÂá¥ÂâÂÂÃÂâ¯shÃÂâ²£âÂÂofâ¯ûþpõ toÃÂÃÂy
Wide character in print at /home/sand/src/perl/repoperls/installed-perls/host/k93focal/v5.38.3/d119/lib/site_perl/5.38.3/Test2/Formatter/TAP.pm line 156.
Wide character in print at /home/sand/src/perl/repoperls/installed-perls/host/k93focal/v5.38.3/d119/lib/site_perl/5.38.3/Test2/Formatter/TAP.pm line 125.
# On a ship of hope today => ÃÂá¥ÂâÂÂaâÂÂ
sûiÃÂâÂÂâ²Âf ûâ²Âpᥱ tà ´ daỿ
Wide character in print at /home/sand/src/perl/repoperls/installed-perls/host/k93focal/v5.38.3/d119/lib/site_perl/5.38.3/Test2/Formatter/TAP.pm line 156.
Wide character in print at /home/sand/src/perl/repoperls/installed-perls/host/k93focal/v5.38.3/d119/lib/site_perl/5.38.3/Test2/Formatter/TAP.pm line 125.
# On a ship of hope today => ÃÂnâÂÂÃÂâÂÂÃÂhÃÂÃÂâÂÂâ²ÂfâÂÂhþⲣõâ¯toâÂ
¾ÃÂỿ
Wide character in print at /home/sand/src/perl/repoperls/installed-perls/host/k93focal/v5.38.3/d119/lib/site_perl/5.38.3/Test2/Formatter/TAP.pm line 156.
Wide character in print at /home/sand/src/perl/repoperls/installed-perls/host/k93focal/v5.38.3/d119/lib/site_perl/5.38.3/Test2/Formatter/TAP.pm line 125.
# On a ship of hope today => OnâÂÂÃÂâÂÂshÃÂp à ´ fâÂÂ
hà ´ â²£á¥±â¯tþdÃÂy
Wide character in print at /home/sand/src/perl/repoperls/installed-perls/host/k93focal/v5.38.3/d119/lib/site_perl/5.38.3/Test2/Formatter/TAP.pm line 156.
Wide character in print at /home/sand/src/perl/repoperls/installed-perls/host/k93focal/v5.38.3/d119/lib/site_perl/5.38.3/Test2/Formatter/TAP.pm line 125.
# On a ship of hope today => ÃÂá¥ÂâÂÂ
ðàshâÂ
°pâÂÂ
â²Âfâ¯ûÿpᥱâÂÂtà ´ ÃÂÃÂỿ
Wide character in print at /home/sand/src/perl/repoperls/installed-perls/host/k93focal/v5.38.3/d119/lib/site_perl/5.38.3/Test2/Formatter/TAP.pm line 156.
Wide character in print at /home/sand/src/perl/repoperls/installed-perls/host/k93focal/v5.38.3/d119/lib/site_perl/5.38.3/Test2/Formatter/TAP.pm line 125.
# On a ship of hope today => â²ÂnâÂÂðâÂÂsÃȉÂ
°pâÂÂþfâÂÂûþⲣᥱâÂÂtþâÂ
¾aỿ
Wide character in print at /home/sand/src/perl/repoperls/installed-perls/host/k93focal/v5.38.3/d119/lib/site_perl/5.38.3/Test2/Formatter/TAP.pm line 156.
Wide character in print at /home/sand/src/perl/repoperls/installed-perls/host/k93focal/v5.38.3/d119/lib/site_perl/5.38.3/Test2/Formatter/TAP.pm line 125.
# On a ship of hope today => â²Âá¥ÂâÂÂðàsÃȉÂ
°ÃÂâÂÂÿfâÂÂûoÃÂõâÂÂtÿday
Wide character in print at /home/sand/src/perl/repoperls/installed-perls/host/k93focal/v5.38.3/d119/lib/site_perl/5.38.3/Test2/Formatter/TAP.pm line 156.
Wide character in print at /home/sand/src/perl/repoperls/installed-perls/host/k93focal/v5.38.3/d119/lib/site_perl/5.38.3/Test2/Formatter/TAP.pm line 125.
# And as they land upon the shore => Aá¥ÂÃÂâÂÂÃÂsâÂÂtûeỿâÂÂ
âÂ
¼ÃÂnÃÂâÂÂuÃÂâ²ÂnâÂÂ
thᥱâÂÂsûâ²Âre
Wide character in print at /home/sand/src/perl/repoperls/installed-perls/host/k93focal/v5.38.3/d119/lib/site_perl/5.38.3/Test2/Formatter/TAP.pm line 156.
Wide character in print at /home/sand/src/perl/repoperls/installed-perls/host/k93focal/v5.38.3/d119/lib/site_perl/5.38.3/Test2/Formatter/TAP.pm line 125.
# And as they land upon the shore => Aá¥ÂÃÂâÂÂÃÂsâÂÂtûey âÂ
¼Ã°á¥ÂÃÂâÂÂâªÃÂþnâÂÂtheâÂÂshÿre
Wide character in print at /home/sand/src/perl/repoperls/installed-perls/host/k93focal/v5.38.3/d119/lib/site_perl/5.38.3/Test2/Formatter/TAP.pm line 156.
Wide character in print at /home/sand/src/perl/repoperls/installed-perls/host/k93focal/v5.38.3/d119/lib/site_perl/5.38.3/Test2/Formatter/TAP.pm line 125.
# And as they land upon the shore => ÃÂá¥ÂdâÂÂÃÂÃÂâÂÂ
theyâÂÂ
âÂ
¼aá¥ÂÃÂâÂÂâªÃÂâ²Âá¥ÂâÂÂ
tûõâÂÂshþre
Wide character in print at /home/sand/src/perl/repoperls/installed-perls/host/k93focal/v5.38.3/d119/lib/site_perl/5.38.3/Test2/Formatter/TAP.pm line 156.
Wide character in print at /home/sand/src/perl/repoperls/installed-perls/host/k93focal/v5.38.3/d119/lib/site_perl/5.38.3/Test2/Formatter/TAP.pm line 125.
# And as they land upon the shore => ÃÂnâÂ
¾âÂÂaÃÂâÂÂthõyâ¯âÂ
¼Ã°nÃÂâÂÂá¥Ââ²£oá¥ÂâÂÂthᥱâÂÂsÃ»à ´ rõ
Wide character in print at /home/sand/src/perl/repoperls/installed-perls/host/k93focal/v5.38.3/d119/lib/site_perl/5.38.3/Test2/Formatter/TAP.pm line 156.
Wide character in print at /home/sand/src/perl/repoperls/installed-perls/host/k93focal/v5.38.3/d119/lib/site_perl/5.38.3/Test2/Formatter/TAP.pm line 125.
# And as they land upon the shore => ÃÂnÃÂâÂÂasâÂÂtûᥱÃÂâÂÂlanÃÂâÂÂá¥ÂÃÂà ´ nâÂÂthᥱâÂÂsÃ»à ´ rᥱ
Wide character in print at /home/sand/src/perl/repoperls/installed-perls/host/k93focal/v5.38.3/d119/lib/site_perl/5.38.3/Test2/Formatter/TAP.pm line 156.
Wide character in print at /home/sand/src/perl/repoperls/installed-perls/host/k93focal/v5.38.3/d119/lib/site_perl/5.38.3/Test2/Formatter/TAP.pm line 125.
# And as they land upon the shore => Aá¥ÂÃÂâÂÂaÃÂâÂÂthᥱÃÂâÂÂâÂ
¼Ã°á¥ÂÃÂâÂÂuⲣþá¥ÂâÂÂ
thᥱâÂÂsûþrõ
Wide character in print at /home/sand/src/perl/repoperls/installed-perls/host/k93focal/v5.38.3/d119/lib/site_perl/5.38.3/Test2/Formatter/TAP.pm line 156.
Wide character in print at /home/sand/src/perl/repoperls/installed-perls/host/k93focal/v5.38.3/d119/lib/site_perl/5.38.3/Test2/Formatter/TAP.pm line 125.
# And as they land upon the shore => Aá¥ÂàasâÂÂtheÃÂâÂÂâÂ
¼ÃÂá¥Âd âªⲣþá¥ÂâÂÂthᥱâÂÂsûâ²Ârᥱ
Wide character in print at /home/sand/src/perl/repoperls/installed-perls/host/k93focal/v5.38.3/d119/lib/site_perl/5.38.3/Test2/Formatter/TAP.pm line 156.
Wide character in print at /home/sand/src/perl/repoperls/installed-perls/host/k93focal/v5.38.3/d119/lib/site_perl/5.38.3/Test2/Formatter/TAP.pm line 125.
# And as they land upon the shore => ÃÂnâÂ
¾âÂÂðsâÂÂthõyâÂÂâÂ
¼andâÂÂá¥ÂpÿnâÂÂ
tûᥱâÂÂÃÂûâ²Ârᥱ
Wide character in print at /home/sand/src/perl/repoperls/installed-perls/host/k93focal/v5.38.3/d119/lib/site_perl/5.38.3/Test2/Formatter/TAP.pm line 156.
Wide character in print at /home/sand/src/perl/repoperls/installed-perls/host/k93focal/v5.38.3/d119/lib/site_perl/5.38.3/Test2/Formatter/TAP.pm line 125.
# And as they land upon the shore => ÃÂá¥ÂâÂ
¾âÂÂÃÂÃÂàtûᥱy âÂ
¼aá¥ÂâÂ
¾âÂÂá¥ÂÃÂþnâÂÂthõâÂÂshÿrᥱ
Wide character in print at /home/sand/src/perl/repoperls/installed-perls/host/k93focal/v5.38.3/d119/lib/site_perl/5.38.3/Test2/Formatter/TAP.pm line 156.
Wide character in print at /home/sand/src/perl/repoperls/installed-perls/host/k93focal/v5.38.3/d119/lib/site_perl/5.38.3/Test2/Formatter/TAP.pm line 125.
# And as they land upon the shore => áªá¥ÂâÂ
¾âÂÂðs thᥱÃÂâÂÂlðnâÂ
¾Ã á¥ÂpÿnàtûᥱâÂÂÃÂûâ²Ârᥱ
Wide character in print at /home/sand/src/perl/repoperls/installed-perls/host/k93focal/v5.38.3/d119/lib/site_perl/5.38.3/Test2/Formatter/TAP.pm line 156.
Wide character in print at /home/sand/src/perl/repoperls/installed-perls/host/k93focal/v5.38.3/d119/lib/site_perl/5.38.3/Test2/Formatter/TAP.pm line 125.
# Tell them not to fear no more => TeâÂ
¼âÂ
¼âÂÂ
tûᥱmâÂÂá¥ÂÿtàtÿâÂÂfõÃÂràá¥ÂþâÂÂâÂ
¿ore
Wide character in print at /home/sand/src/perl/repoperls/installed-perls/host/k93focal/v5.38.3/d119/lib/site_perl/5.38.3/Test2/Formatter/TAP.pm line 156.
Wide character in print at /home/sand/src/perl/repoperls/installed-perls/host/k93focal/v5.38.3/d119/lib/site_perl/5.38.3/Test2/Formatter/TAP.pm line 125.
# Tell them not to fear no more => á¢eâÂ
¼âÂ
¼âÂÂthemâ¯á¥ÂotàtþâÂÂfõðràá¥ÂoâÂÂâÂ
¿ore
Wide character in print at /home/sand/src/perl/repoperls/installed-perls/host/k93focal/v5.38.3/d119/lib/site_perl/5.38.3/Test2/Formatter/TAP.pm line 156.
Wide character in print at /home/sand/src/perl/repoperls/installed-perls/host/k93focal/v5.38.3/d119/lib/site_perl/5.38.3/Test2/Formatter/TAP.pm line 125.
# Tell them not to fear no more => äeâÂ
¼lâÂÂthemâÂÂnþtâÂÂtoâÂÂfᥱarâÂÂá¥ÂþâÂÂâÂ
¿à ´ re
Wide character in print at /home/sand/src/perl/repoperls/installed-perls/host/k93focal/v5.38.3/d119/lib/site_perl/5.38.3/Test2/Formatter/TAP.pm line 156.
Wide character in print at /home/sand/src/perl/repoperls/installed-perls/host/k93focal/v5.38.3/d119/lib/site_perl/5.38.3/Test2/Formatter/TAP.pm line 125.
# Tell them not to fear no more => á¢elâÂ
¼âÂÂthᥱmâÂÂá¥Ââ²ÂtâÂÂtþâÂÂfeÃÂrâÂÂ
nþàmâ²Âre
Wide character in print at /home/sand/src/perl/repoperls/installed-perls/host/k93focal/v5.38.3/d119/lib/site_perl/5.38.3/Test2/Formatter/TAP.pm line 156.
Wide character in print at /home/sand/src/perl/repoperls/installed-perls/host/k93focal/v5.38.3/d119/lib/site_perl/5.38.3/Test2/Formatter/TAP.pm line 125.
# Tell them not to fear no more => äellâÂÂthõmâ¯á¥Âà ´ t to fᥱðrâ¯á¥ÂÿâÂÂmþre
Wide character in print at /home/sand/src/perl/repoperls/installed-perls/host/k93focal/v5.38.3/d119/lib/site_perl/5.38.3/Test2/Formatter/TAP.pm line 156.
Wide character in print at /home/sand/src/perl/repoperls/installed-perls/host/k93focal/v5.38.3/d119/lib/site_perl/5.38.3/Test2/Formatter/TAP.pm line 125.
# Tell them not to fear no more => âõlâÂ
¼âÂÂthemâÂÂá¥Âÿt tâ²ÂâÂÂfᥱÃÂr nà ´ âÂÂâÂ
¿orõ
Wide character in print at /home/sand/src/perl/repoperls/installed-perls/host/k93focal/v5.38.3/d119/lib/site_perl/5.38.3/Test2/Formatter/TAP.pm line 156.
Wide character in print at /home/sand/src/perl/repoperls/installed-perls/host/k93focal/v5.38.3/d119/lib/site_perl/5.38.3/Test2/Formatter/TAP.pm line 125.
# Tell them not to fear no more => á¢ᥱâÂ
¼lâÂÂtûᥱmâÂÂá¥Âà ´ tâÂÂtà ´ âÂÂfearâÂÂá¥Âà ´ âÂÂâÂ
¿â²Âre
Wide character in print at /home/sand/src/perl/repoperls/installed-perls/host/k93focal/v5.38.3/d119/lib/site_perl/5.38.3/Test2/Formatter/TAP.pm line 156.
Wide character in print at /home/sand/src/perl/repoperls/installed-perls/host/k93focal/v5.38.3/d119/lib/site_perl/5.38.3/Test2/Formatter/TAP.pm line 125.
# Tell them not to fear no more => TᥱlâÂ
¼âÂÂtûõâÂ
¿âÂÂá¥ÂotâÂÂtà ´ âÂÂfᥱðrâÂÂá¥ÂoâÂÂmà ´ re
Wide character in print at /home/sand/src/perl/repoperls/installed-perls/host/k93focal/v5.38.3/d119/lib/site_perl/5.38.3/Test2/Formatter/TAP.pm line 156.
Wide character in print at /home/sand/src/perl/repoperls/installed-perls/host/k93focal/v5.38.3/d119/lib/site_perl/5.38.3/Test2/Formatter/TAP.pm line 125.
# Tell them not to fear no more => TᥱâÂ
¼lâÂÂthemâÂÂá¥Ââ²ÂtâÂÂtâ²ÂâÂÂfõÃÂrâÂÂá¥ÂoâÂÂmorõ
Wide character in print at /home/sand/src/perl/repoperls/installed-perls/host/k93focal/v5.38.3/d119/lib/site_perl/5.38.3/Test2/Formatter/TAP.pm line 156.
Wide character in print at /home/sand/src/perl/repoperls/installed-perls/host/k93focal/v5.38.3/d119/lib/site_perl/5.38.3/Test2/Formatter/TAP.pm line 125.
# Tell them not to fear no more => âellâÂÂtûõmâÂÂá¥Âà ´ tâÂÂ
tÿâÂÂfeÃÂrâÂÂnà ´ âÂÂâÂ
¿Ã¾rᥱ
Wide character in print at /home/sand/src/perl/repoperls/installed-perls/host/k93focal/v5.38.3/d119/lib/site_perl/5.38.3/Test2/Formatter/TAP.pm line 156.
Wide character in print at /home/sand/src/perl/repoperls/installed-perls/host/k93focal/v5.38.3/d119/lib/site_perl/5.38.3/Test2/Formatter/TAP.pm line 125.
# Say it loud and sing it proud today! => ÃÂ
ðÃÂâ¯itâÂÂlâ²Âá¥ÂâÂ
¾âÂÂðnd ÃÂâÂ
°á¥ÂáâÂÂâÂ
°tâÂÂprÿá¥ÂdâÂÂtâ²ÂÃÂaỿâµÂ
Wide character in print at /home/sand/src/perl/repoperls/installed-perls/host/k93focal/v5.38.3/d119/lib/site_perl/5.38.3/Test2/Formatter/TAP.pm line 156.
Wide character in print at /home/sand/src/perl/repoperls/installed-perls/host/k93focal/v5.38.3/d119/lib/site_perl/5.38.3/Test2/Formatter/TAP.pm line 125.
# Say it loud and sing it proud today! => ÃÂ
ÃÂÃÂâÂÂitàloâªÃÂâÂÂaá¥ÂâÂ
¾âÂÂÃÂÃÂá¥ÂgâÂÂitâÂÂÃÂrâ²Âá¥ÂÃÂâÂÂtþÃÂÃÂỿÃÂ
Wide character in print at /home/sand/src/perl/repoperls/installed-perls/host/k93focal/v5.38.3/d119/lib/site_perl/5.38.3/Test2/Formatter/TAP.pm line 156.
Wide character in print at /home/sand/src/perl/repoperls/installed-perls/host/k93focal/v5.38.3/d119/lib/site_perl/5.38.3/Test2/Formatter/TAP.pm line 125.
# Say it loud and sing it proud today! => áÂÂÃÂÃÂâÂÂÃÂtâ¯lÿâªâÂ
¾âÂÂandâÂÂÃÂÃÂá¥ÂáâÂÂ
âÂ
°tâÂÂprâ²ÂâªÃÂâÂÂtodðÃÂï¹Â
Wide character in print at /home/sand/src/perl/repoperls/installed-perls/host/k93focal/v5.38.3/d119/lib/site_perl/5.38.3/Test2/Formatter/TAP.pm line 156.
Wide character in print at /home/sand/src/perl/repoperls/installed-perls/host/k93focal/v5.38.3/d119/lib/site_perl/5.38.3/Test2/Formatter/TAP.pm line 125.
# Say it loud and sing it proud today! => ÃÂ
ðỿâÂÂâÂ
°tâÂÂâÂ
¼à ´ uâÂ
¾âÂÂÃÂá¥ÂâÂ
¾âÂÂsingâÂÂit ÃÂrþâªâÂ
¾âÂÂtoÃÂÃÂyï¼Â
Wide character in print at /home/sand/src/perl/repoperls/installed-perls/host/k93focal/v5.38.3/d119/lib/site_perl/5.38.3/Test2/Formatter/TAP.pm line 156.
Wide character in print at /home/sand/src/perl/repoperls/installed-perls/host/k93focal/v5.38.3/d119/lib/site_perl/5.38.3/Test2/Formatter/TAP.pm line 125.
# Say it loud and sing it proud today! => áÂÂaÃÂâÂÂÃÂtâÂÂâÂ
¼â²ÂuÃÂâÂÂÃÂá¥ÂdâÂÂÃÂÃÂnáâÂÂÃÂtâÂÂproudâÂÂtà ´ dÃÂyï¹Â
Wide character in print at /home/sand/src/perl/repoperls/installed-perls/host/k93focal/v5.38.3/d119/lib/site_perl/5.38.3/Test2/Formatter/TAP.pm line 156.
Wide character in print at /home/sand/src/perl/repoperls/installed-perls/host/k93focal/v5.38.3/d119/lib/site_perl/5.38.3/Test2/Formatter/TAP.pm line 125.
# Say it loud and sing it proud today! => áÂÂÃÂyàitâÂÂâÂ
¼Ã¿udâÂÂðá¥ÂdâÂÂsiá¥Âgâ¯itàⲣrþâªâÂ
¾ tâ²ÂÃÂðỿï¼Â
Wide character in print at /home/sand/src/perl/repoperls/installed-perls/host/k93focal/v5.38.3/d119/lib/site_perl/5.38.3/Test2/Formatter/TAP.pm line 156.
Wide character in print at /home/sand/src/perl/repoperls/installed-perls/host/k93focal/v5.38.3/d119/lib/site_perl/5.38.3/Test2/Formatter/TAP.pm line 125.
# Say it loud and sing it proud today! => SayâÂÂÃÂtâÂÂâÂ
¼oudâÂÂðá¥ÂàsÃÂá¥ÂáâÂÂÃÂtâÂÂÃÂrà ´ âªdâÂÂtoâÂ
¾Ã°á»¿ï¸Â
Wide character in print at /home/sand/src/perl/repoperls/installed-perls/host/k93focal/v5.38.3/d119/lib/site_perl/5.38.3/Test2/Formatter/TAP.pm line 156.
Wide character in print at /home/sand/src/perl/repoperls/installed-perls/host/k93focal/v5.38.3/d119/lib/site_perl/5.38.3/Test2/Formatter/TAP.pm line 125.
# Say it loud and sing it proud today! => áÂÂÃÂÃÂâÂÂÃÂtâÂÂlÿâªdâÂÂaá¥ÂÃÂâÂÂsináâ¯âÂ
°tàprà ´ á¥ÂâÂ
¾ tÿÃÂðỿâµÂ
Wide character in print at /home/sand/src/perl/repoperls/installed-perls/host/k93focal/v5.38.3/d119/lib/site_perl/5.38.3/Test2/Formatter/TAP.pm line 156.
Wide character in print at /home/sand/src/perl/repoperls/installed-perls/host/k93focal/v5.38.3/d119/lib/site_perl/5.38.3/Test2/Formatter/TAP.pm line 125.
# Say it loud and sing it proud today! => áÂÂayâÂÂÃÂtâÂÂ
âÂ
¼â²ÂâªâÂ
¾âÂÂðnâÂ
¾âÂÂsâÂ
°á¥Âgâ¯ÃÂtâÂÂâ²£rþuâÂ
¾âÂÂtÿâÂ
¾Ã°yâµÂ
Wide character in print at /home/sand/src/perl/repoperls/installed-perls/host/k93focal/v5.38.3/d119/lib/site_perl/5.38.3/Test2/Formatter/TAP.pm line 156.
Wide character in print at /home/sand/src/perl/repoperls/installed-perls/host/k93focal/v5.38.3/d119/lib/site_perl/5.38.3/Test2/Formatter/TAP.pm line 125.
# Say it loud and sing it proud today! => áÂÂðyâÂÂâÂ
°tâÂÂ
âÂ
¼Ã¿udâÂÂÃÂá¥ÂÃÂâÂÂsináâÂÂitâÂÂâ²£roá¥ÂÃÂâÂÂtÿdÃÂÃÂï¼Â
Wide character in print at /home/sand/src/perl/repoperls/installed-perls/host/k93focal/v5.38.3/d119/lib/site_perl/5.38.3/Test2/Formatter/TAP.pm line 156.
t/01-usage.t ...... ok
t/manifest.t ...... skipped: Author tests not required for installation
t/pod-coverage.t .. skipped: Author tests not required for installation
t/pod.t ........... skipped: Author tests not required for installation
All tests successful.
Files=5, Tests=85, 1 wallclock secs ( 0.05 usr 0.00 sys + 0.36 cusr 0.13 csys = 0.54 CPU)
Result: PASS
------------------------------
PREREQUISITES
------------------------------
Prerequisite modules loaded:
requires:
Module Need Have
------------------- ----- --------
perl 5.006 5.038003
build_requires:
Module Need Have
------------------- ----- --------
Test::More 0 1.302208
configure_requires:
Module Need Have
------------------- ----- --------
ExtUtils::MakeMaker 0 7.70
------------------------------
ENVIRONMENT AND OTHER CONTEXT
------------------------------
Environment variables:
AUTOMATED_TESTING = 1
LANG = en_US.UTF-8
PATH = /home/sand/bin:/usr/local/bin:/usr/local/sbin:/usr/sbin:/usr/bin:/sbin:/bin:/usr/games:/usr/local/games:/snap/bin:/usr/local/perl/bin:/usr/X11/bin
PERL = /tmp/basesmoker-reloperl-aFHk/bin/perl
PERL5LIB = /tmp/loop_over_bdir-641295-BGeEVH/LCFG-Build-Skeleton-0.5.0-0/blib/arch:/tmp/loop_over_bdir-641295-BGeEVH/LCFG-Build-Skeleton-0.5.0-0/blib/lib:/tmp/loop_over_bdir-641295-BGeEVH/Captive-Portal-4.10-0/blib/arch:/tmp/loop_over_bdir-641295-BGeEVH/Captive-Portal-4.10-0/blib/lib:/tmp/loop_over_bdir-641295-BGeEVH/Encode-IBM-0.11-0/blib/arch:/tmp/loop_over_bdir-641295-BGeEVH/Encode-IBM-0.11-0/blib/lib:/tmp/loop_over_bdir-641295-BGeEVH/Debian-Packages-0.03-0/blib/arch:/tmp/loop_over_bdir-641295-BGeEVH/Debian-Packages-0.03-0/blib/lib:/tmp/loop_over_bdir-641295-BGeEVH/AllKnowingDNS-1.7-0/blib/arch:/tmp/loop_over_bdir-641295-BGeEVH/AllKnowingDNS-1.7-0/blib/lib:/tmp/loop_over_bdir-641295-BGeEVH/CORBA-Python-2.66-0/blib/arch:/tmp/loop_over_bdir-641295-BGeEVH/CORBA-Python-2.66-0/blib/lib:/tmp/loop_over_bdir-641295-BGeEVH/makepp-1.19-0/blib/arch:/tmp/loop_over_bdir-641295-BGeEVH/makepp-1.19-0/blib/lib:/tmp/loop_over_bdir-641295-BGeEVH/Alien-SNMP-MIBDEV-2.020000-0/blib/arch:/tmp/loop_over_bdir-641295-BGeEVH/Alien-SNMP-MIBDEV-2.020000-0/blib/lib:/tmp/loop_over_bdir-641295-BGeEVH/Business-Shipping-DataFiles-1.02-0/blib/arch:/tmp/loop_over_bdir-641295-BGeEVH/Business-Shipping-DataFiles-1.02-0/blib/lib:/tmp/loop_over_bdir-641295-BGeEVH/Lingua-YaTeA-0.626-0/blib/arch:/tmp/loop_over_bdir-641295-BGeEVH/Lingua-YaTeA-0.626-0/blib/lib:/tmp/loop_over_bdir-641295-BGeEVH/Net-Async-WebService-lxd-0.03-0/blib/arch:/tmp/loop_over_bdir-641295-BGeEVH/Net-Async-WebService-lxd-0.03-0/blib/lib:/tmp/loop_over_bdir-641295-BGeEVH/downsexta-0/blib/arch:/tmp/loop_over_bdir-641295-BGeEVH/downsexta-0/blib/lib:/tmp/loop_over_bdir-641295-BGeEVH/NoZone-1.3-0/blib/arch:/tmp/loop_over_bdir-641295-BGeEVH/NoZone-1.3-0/blib/lib:/tmp/loop_over_bdir-641295-BGeEVH/Sysync-0.38-0/blib/arch:/tmp/loop_over_bdir-641295-BGeEVH/Sysync-0.38-0/blib/lib:/tmp/loop_over_bdir-641295-BGeEVH/HTML-Menu-TreeView-1.22-0/blib/arch:/tmp/loop_over_bdir-641295-BGeEVH/HTML-Menu-TreeView-1.22-0/blib/lib:/tmp/loop_over_bdir-641295-BGeEVH/Device-Kiln-0.03-0/blib/arch:/tmp/loop_over_bdir-641295-BGeEVH/Device-Kiln-0.03-0/blib/lib:/tmp/loop_over_bdir-641295-BGeEVH/triceps-2.1.0-0/blib/arch:/tmp/loop_over_bdir-641295-BGeEVH/triceps-2.1.0-0/blib/lib:/tmp/loop_over_bdir-641295-BGeEVH/App-nrun-v1.1.2-0/blib/arch:/tmp/loop_over_bdir-641295-BGeEVH/App-nrun-v1.1.2-0/blib/lib:/tmp/loop_over_bdir-641295-BGeEVH/perl-Hardware-UPS-Perl-0.43-0/blib/arch:/tmp/loop_over_bdir-641295-BGeEVH/perl-Hardware-UPS-Perl-0.43-0/blib/lib:/tmp/loop_over_bdir-641295-BGeEVH/Net-ISP-Balance-1.31-0/blib/arch:/tmp/loop_over_bdir-641295-BGeEVH/Net-ISP-Balance-1.31-0/blib/lib:/tmp/loop_over_bdir-641295-BGeEVH/LiquidWeb-Storm-CLI-1.03-0/blib/arch:/tmp/loop_over_bdir-641295-BGeEVH/LiquidWeb-Storm-CLI-1.03-0/blib/lib:/tmp/loop_over_bdir-641295-BGeEVH/Lemonldap-NG-Cli-0.2-0/blib/arch:/tmp/loop_over_bdir-641295-BGeEVH/Lemonldap-NG-Cli-0.2-0/blib/lib:/tmp/loop_over_bdir-641295-BGeEVH/Module-ScanDeps-Static-1.7.2-0/blib/arch:/tmp/loop_over_bdir-641295-BGeEVH/Module-ScanDeps-Static-1.7.2-0/blib/lib:/tmp/loop_over_bdir-641295-BGeEVH/dta-tokwrap-0.98-0/blib/arch:/tmp/loop_over_bdir-641295-BGeEVH/dta-tokwrap-0.98-0/blib/lib:/tmp/loop_over_bdir-641295-BGeEVH/Devel-Required-0.16-0/blib/arch:/tmp/loop_over_bdir-641295-BGeEVH/Devel-Required-0.16-0/blib/lib:/tmp/loop_over_bdir-641295-BGeEVH/LCFG-Build-Tools-0.9.30-0/blib/arch:/tmp/loop_over_bdir-641295-BGeEVH/LCFG-Build-Tools-0.9.30-0/blib/lib:/tmp/loop_over_bdir-641295-BGeEVH/DBIx-Migration-Directories-0.12-0/blib/arch:/tmp/loop_over_bdir-641295-BGeEVH/DBIx-Migration-Directories-0.12-0/blib/lib:/tmp/loop_over_bdir-641295-BGeEVH/Net-OpenVPN-DDNS-0.1-0/blib/arch:/tmp/loop_over_bdir-641295-BGeEVH/Net-OpenVPN-DDNS-0.1-0/blib/lib:/tmp/loop_over_bdir-641295-BGeEVH/RDF-NLP-SPARQLQuery-0.1-0/blib/arch:/tmp/loop_over_bdir-641295-BGeEVH/RDF-NLP-SPARQLQuery-0.1-0/blib/lib
PERL5OPT =
PERL5_CPANPLUS_IS_RUNNING = 641303
PERL5_CPAN_IS_RUNNING = 641303
PERL_CANARY_STABILITY_NOPROMPT = 1
PERL_MM_USE_DEFAULT = 1
PERL_USE_UNSAFE_INC = 1
SHELL = /usr/bin/zsh
TERM = screen
Perl special variables (and OS-specific diagnostics, for MSWin32):
$^X = /tmp/basesmoker-reloperl-aFHk/bin/perl
$UID/$EUID = 1005 / 1005
$GID = 1005 1005
$EGID = 1005 1005
Perl module toolchain versions installed:
Module Have
------------------- --------
CPAN 2.38
CPAN::Meta 2.150010
Cwd 3.89
ExtUtils::CBuilder 0.280238
ExtUtils::Command 7.70
ExtUtils::Install 2.22
ExtUtils::MakeMaker 7.70
ExtUtils::Manifest 1.75
ExtUtils::ParseXS 3.51
File::Spec 3.88
JSON 4.10
JSON::PP 4.16
Module::Build 0.4234
Module::Signature 0.89
Parse::CPAN::Meta 2.150010
Test2 1.302208
Test::Harness 3.50
Test::More 1.302208
YAML 1.31
YAML::Syck 1.34
version 0.9933
--
Summary of my perl5 (revision 5 version 38 subversion 3) configuration:
Commit id: 06697759559c52236e296a256776b1222f228163
Platform:
osname=linux
osvers=5.4.0-204-generic
archname=x86_64-linux-thread-multi
uname='linux k93focal 5.4.0-204-generic #224-ubuntu smp thu dec 5 13:38:28 utc 2024 x86_64 x86_64 x86_64 gnulinux '
config_args='-Dprefix=/home/sand/src/perl/repoperls/installed-perls/host/k93focal/v5.38.3/d119 -Dmyhostname=k93focal -Dinstallusrbinperl=n -Uversiononly -Dusedevel -des -Ui_db -Dlibswanted=cl pthread socket inet nsl gdbm dbm malloc dl ld sun m crypt sec util c cposix posix ucb BSD gdbm_compat -Duseithreads -Uuselongdouble -DEBUGGING=both'
hint=recommended
useposix=true
d_sigaction=define
useithreads=define
usemultiplicity=define
use64bitint=define
use64bitall=define
uselongdouble=undef
usemymalloc=n
default_inc_excludes_dot=define
Compiler:
cc='cc'
ccflags ='-D_REENTRANT -D_GNU_SOURCE -fwrapv -DDEBUGGING -fno-strict-aliasing -pipe -fstack-protector-strong -I/usr/local/include -D_LARGEFILE_SOURCE -D_FILE_OFFSET_BITS=64'
optimize='-O2 -g'
cppflags='-D_REENTRANT -D_GNU_SOURCE -fwrapv -DDEBUGGING -fno-strict-aliasing -pipe -fstack-protector-strong -I/usr/local/include'
ccversion=''
gccversion='9.4.0'
gccosandvers=''
intsize=4
longsize=8
ptrsize=8
doublesize=8
byteorder=12345678
doublekind=3
d_longlong=define
longlongsize=8
d_longdbl=define
longdblsize=16
longdblkind=3
ivtype='long'
ivsize=8
nvtype='double'
nvsize=8
Off_t='off_t'
lseeksize=8
alignbytes=8
prototype=define
Linker and Libraries:
ld='cc'
ldflags =' -fstack-protector-strong -L/usr/local/lib'
libpth=/usr/local/lib /usr/lib/x86_64-linux-gnu /usr/lib /usr/lib64
libs=-lpthread -lnsl -ldl -lm -lcrypt -lutil -lc
perllibs=-lpthread -lnsl -ldl -lm -lcrypt -lutil -lc
libc=libc-2.31.so
so=so
useshrplib=false
libperl=libperl.a
gnulibc_version='2.31'
Dynamic Linking:
dlsrc=dl_dlopen.xs
dlext=so
d_dlsymun=undef
ccdlflags='-Wl,-E'
cccdlflags='-fPIC'
lddlflags='-shared -O2 -g -L/usr/local/lib -fstack-protector-strong'
Characteristics of this binary (from libperl):
Compile-time options:
DEBUGGING
HAS_LONG_DOUBLE
HAS_STRTOLD
HAS_TIMES
MULTIPLICITY
PERLIO_LAYERS
PERL_COPY_ON_WRITE
PERL_DONT_CREATE_GVSV
PERL_HASH_FUNC_SIPHASH13
PERL_HASH_USE_SBOX32
PERL_MALLOC_WRAP
PERL_OP_PARENT
PERL_PRESERVE_IVUV
PERL_TRACK_MEMPOOL
PERL_USE_DEVEL
PERL_USE_SAFE_PUTENV
USE_64_BIT_ALL
USE_64_BIT_INT
USE_ITHREADS
USE_LARGE_FILES
USE_LOCALE
USE_LOCALE_COLLATE
USE_LOCALE_CTYPE
USE_LOCALE_NUMERIC
USE_LOCALE_TIME
USE_PERLIO
USE_PERL_ATOF
USE_REENTRANT_API
USE_THREAD_SAFE_LOCALE
Built under linux
Compiled at Jan 20 2025 16:12:56
%ENV:
PERL="/tmp/basesmoker-reloperl-aFHk/bin/perl"
PERL5LIB="/tmp/loop_over_bdir-641295-BGeEVH/LCFG-Build-Skeleton-0.5.0-0/blib/arch:/tmp/loop_over_bdir-641295-BGeEVH/LCFG-Build-Skeleton-0.5.0-0/blib/lib:/tmp/loop_over_bdir-641295-BGeEVH/Captive-Portal-4.10-0/blib/arch:/tmp/loop_over_bdir-641295-BGeEVH/Captive-Portal-4.10-0/blib/lib:/tmp/loop_over_bdir-641295-BGeEVH/Encode-IBM-0.11-0/blib/arch:/tmp/loop_over_bdir-641295-BGeEVH/Encode-IBM-0.11-0/blib/lib:/tmp/loop_over_bdir-641295-BGeEVH/Debian-Packages-0.03-0/blib/arch:/tmp/loop_over_bdir-641295-BGeEVH/Debian-Packages-0.03-0/blib/lib:/tmp/loop_over_bdir-641295-BGeEVH/AllKnowingDNS-1.7-0/blib/arch:/tmp/loop_over_bdir-641295-BGeEVH/AllKnowingDNS-1.7-0/blib/lib:/tmp/loop_over_bdir-641295-BGeEVH/CORBA-Python-2.66-0/blib/arch:/tmp/loop_over_bdir-641295-BGeEVH/CORBA-Python-2.66-0/blib/lib:/tmp/loop_over_bdir-641295-BGeEVH/makepp-1.19-0/blib/arch:/tmp/loop_over_bdir-641295-BGeEVH/makepp-1.19-0/blib/lib:/tmp/loop_over_bdir-641295-BGeEVH/Alien-SNMP-MIBDEV-2.020000-0/blib/arch:/tmp/loop_over_bdir-641295-BGeEVH/Alien-SNMP-MIBDEV-2.020000-0/blib/lib:/tmp/loop_over_bdir-641295-BGeEVH/Business-Shipping-DataFiles-1.02-0/blib/arch:/tmp/loop_over_bdir-641295-BGeEVH/Business-Shipping-DataFiles-1.02-0/blib/lib:/tmp/loop_over_bdir-641295-BGeEVH/Lingua-YaTeA-0.626-0/blib/arch:/tmp/loop_over_bdir-641295-BGeEVH/Lingua-YaTeA-0.626-0/blib/lib:/tmp/loop_over_bdir-641295-BGeEVH/Net-Async-WebService-lxd-0.03-0/blib/arch:/tmp/loop_over_bdir-641295-BGeEVH/Net-Async-WebService-lxd-0.03-0/blib/lib:/tmp/loop_over_bdir-641295-BGeEVH/downsexta-0/blib/arch:/tmp/loop_over_bdir-641295-BGeEVH/downsexta-0/blib/lib:/tmp/loop_over_bdir-641295-BGeEVH/NoZone-1.3-0/blib/arch:/tmp/loop_over_bdir-641295-BGeEVH/NoZone-1.3-0/blib/lib:/tmp/loop_over_bdir-641295-BGeEVH/Sysync-0.38-0/blib/arch:/tmp/loop_over_bdir-641295-BGeEVH/Sysync-0.38-0/blib/lib:/tmp/loop_over_bdir-641295-BGeEVH/HTML-Menu-TreeView-1.22-0/blib/arch:/tmp/loop_over_bdir-641295-BGeEVH/HTML-Menu-TreeView-1.22-0/blib/lib:/tmp/loop_over_bdir-641295-BGeEVH/Device-Kiln-0.03-0/blib/arch:/tmp/loop_over_bdir-641295-BGeEVH/Device-Kiln-0.03-0/blib/lib:/tmp/loop_over_bdir-641295-BGeEVH/triceps-2.1.0-0/blib/arch:/tmp/loop_over_bdir-641295-BGeEVH/triceps-2.1.0-0/blib/lib:/tmp/loop_over_bdir-641295-BGeEVH/App-nrun-v1.1.2-0/blib/arch:/tmp/loop_over_bdir-641295-BGeEVH/App-nrun-v1.1.2-0/blib/lib:/tmp/loop_over_bdir-641295-BGeEVH/perl-Hardware-UPS-Perl-0.43-0/blib/arch:/tmp/loop_over_bdir-641295-BGeEVH/perl-Hardware-UPS-Perl-0.43-0/blib/lib:/tmp/loop_over_bdir-641295-BGeEVH/Net-ISP-Balance-1.31-0/blib/arch:/tmp/loop_over_bdir-641295-BGeEVH/Net-ISP-Balance-1.31-0/blib/lib:/tmp/loop_over_bdir-641295-BGeEVH/LiquidWeb-Storm-CLI-1.03-0/blib/arch:/tmp/loop_over_bdir-641295-BGeEVH/LiquidWeb-Storm-CLI-1.03-0/blib/lib:/tmp/loop_over_bdir-641295-BGeEVH/Lemonldap-NG-Cli-0.2-0/blib/arch:/tmp/loop_over_bdir-641295-BGeEVH/Lemonldap-NG-Cli-0.2-0/blib/lib:/tmp/loop_over_bdir-641295-BGeEVH/Module-ScanDeps-Static-1.7.2-0/blib/arch:/tmp/loop_over_bdir-641295-BGeEVH/Module-ScanDeps-Static-1.7.2-0/blib/lib:/tmp/loop_over_bdir-641295-BGeEVH/dta-tokwrap-0.98-0/blib/arch:/tmp/loop_over_bdir-641295-BGeEVH/dta-tokwrap-0.98-0/blib/lib:/tmp/loop_over_bdir-641295-BGeEVH/Devel-Required-0.16-0/blib/arch:/tmp/loop_over_bdir-641295-BGeEVH/Devel-Required-0.16-0/blib/lib:/tmp/loop_over_bdir-641295-BGeEVH/LCFG-Build-Tools-0.9.30-0/blib/arch:/tmp/loop_over_bdir-641295-BGeEVH/LCFG-Build-Tools-0.9.30-0/blib/lib:/tmp/loop_over_bdir-641295-BGeEVH/DBIx-Migration-Directories-0.12-0/blib/arch:/tmp/loop_over_bdir-641295-BGeEVH/DBIx-Migration-Directories-0.12-0/blib/lib:/tmp/loop_over_bdir-641295-BGeEVH/Net-OpenVPN-DDNS-0.1-0/blib/arch:/tmp/loop_over_bdir-641295-BGeEVH/Net-OpenVPN-DDNS-0.1-0/blib/lib:/tmp/loop_over_bdir-641295-BGeEVH/RDF-NLP-SPARQLQuery-0.1-0/blib/arch:/tmp/loop_over_bdir-641295-BGeEVH/RDF-NLP-SPARQLQuery-0.1-0/blib/lib"
PERL5OPT=""
PERL5_CPANPLUS_IS_RUNNING="641303"
PERL5_CPAN_IS_RUNNING="641303"
PERL_CANARY_STABILITY_NOPROMPT="1"
PERL_MM_USE_DEFAULT="1"
PERL_USE_UNSAFE_INC="1"
@INC:
/tmp/loop_over_bdir-641295-BGeEVH/LCFG-Build-Skeleton-0.5.0-0/blib/arch
/tmp/loop_over_bdir-641295-BGeEVH/LCFG-Build-Skeleton-0.5.0-0/blib/lib
/tmp/loop_over_bdir-641295-BGeEVH/Captive-Portal-4.10-0/blib/arch
/tmp/loop_over_bdir-641295-BGeEVH/Captive-Portal-4.10-0/blib/lib
/tmp/loop_over_bdir-641295-BGeEVH/Encode-IBM-0.11-0/blib/arch
/tmp/loop_over_bdir-641295-BGeEVH/Encode-IBM-0.11-0/blib/lib
/tmp/loop_over_bdir-641295-BGeEVH/Debian-Packages-0.03-0/blib/arch
/tmp/loop_over_bdir-641295-BGeEVH/Debian-Packages-0.03-0/blib/lib
/tmp/loop_over_bdir-641295-BGeEVH/AllKnowingDNS-1.7-0/blib/arch
/tmp/loop_over_bdir-641295-BGeEVH/AllKnowingDNS-1.7-0/blib/lib
/tmp/loop_over_bdir-641295-BGeEVH/CORBA-Python-2.66-0/blib/arch
/tmp/loop_over_bdir-641295-BGeEVH/CORBA-Python-2.66-0/blib/lib
/tmp/loop_over_bdir-641295-BGeEVH/makepp-1.19-0/blib/arch
/tmp/loop_over_bdir-641295-BGeEVH/makepp-1.19-0/blib/lib
/tmp/loop_over_bdir-641295-BGeEVH/Alien-SNMP-MIBDEV-2.020000-0/blib/arch
/tmp/loop_over_bdir-641295-BGeEVH/Alien-SNMP-MIBDEV-2.020000-0/blib/lib
/tmp/loop_over_bdir-641295-BGeEVH/Business-Shipping-DataFiles-1.02-0/blib/arch
/tmp/loop_over_bdir-641295-BGeEVH/Business-Shipping-DataFiles-1.02-0/blib/lib
/tmp/loop_over_bdir-641295-BGeEVH/Lingua-YaTeA-0.626-0/blib/arch
/tmp/loop_over_bdir-641295-BGeEVH/Lingua-YaTeA-0.626-0/blib/lib
/tmp/loop_over_bdir-641295-BGeEVH/Net-Async-WebService-lxd-0.03-0/blib/arch
/tmp/loop_over_bdir-641295-BGeEVH/Net-Async-WebService-lxd-0.03-0/blib/lib
/tmp/loop_over_bdir-641295-BGeEVH/downsexta-0/blib/arch
/tmp/loop_over_bdir-641295-BGeEVH/downsexta-0/blib/lib
/tmp/loop_over_bdir-641295-BGeEVH/NoZone-1.3-0/blib/arch
/tmp/loop_over_bdir-641295-BGeEVH/NoZone-1.3-0/blib/lib
/tmp/loop_over_bdir-641295-BGeEVH/Sysync-0.38-0/blib/arch
/tmp/loop_over_bdir-641295-BGeEVH/Sysync-0.38-0/blib/lib
/tmp/loop_over_bdir-641295-BGeEVH/HTML-Menu-TreeView-1.22-0/blib/arch
/tmp/loop_over_bdir-641295-BGeEVH/HTML-Menu-TreeView-1.22-0/blib/lib
/tmp/loop_over_bdir-641295-BGeEVH/Device-Kiln-0.03-0/blib/arch
/tmp/loop_over_bdir-641295-BGeEVH/Device-Kiln-0.03-0/blib/lib
/tmp/loop_over_bdir-641295-BGeEVH/triceps-2.1.0-0/blib/arch
/tmp/loop_over_bdir-641295-BGeEVH/triceps-2.1.0-0/blib/lib
/tmp/loop_over_bdir-641295-BGeEVH/App-nrun-v1.1.2-0/blib/arch
/tmp/loop_over_bdir-641295-BGeEVH/App-nrun-v1.1.2-0/blib/lib
/tmp/loop_over_bdir-641295-BGeEVH/perl-Hardware-UPS-Perl-0.43-0/blib/arch
/tmp/loop_over_bdir-641295-BGeEVH/perl-Hardware-UPS-Perl-0.43-0/blib/lib
/tmp/loop_over_bdir-641295-BGeEVH/Net-ISP-Balance-1.31-0/blib/arch
/tmp/loop_over_bdir-641295-BGeEVH/Net-ISP-Balance-1.31-0/blib/lib
/tmp/loop_over_bdir-641295-BGeEVH/LiquidWeb-Storm-CLI-1.03-0/blib/arch
/tmp/loop_over_bdir-641295-BGeEVH/LiquidWeb-Storm-CLI-1.03-0/blib/lib
/tmp/loop_over_bdir-641295-BGeEVH/Lemonldap-NG-Cli-0.2-0/blib/arch
/tmp/loop_over_bdir-641295-BGeEVH/Lemonldap-NG-Cli-0.2-0/blib/lib
/tmp/loop_over_bdir-641295-BGeEVH/Module-ScanDeps-Static-1.7.2-0/blib/arch
/tmp/loop_over_bdir-641295-BGeEVH/Module-ScanDeps-Static-1.7.2-0/blib/lib
/tmp/loop_over_bdir-641295-BGeEVH/dta-tokwrap-0.98-0/blib/arch
/tmp/loop_over_bdir-641295-BGeEVH/dta-tokwrap-0.98-0/blib/lib
/tmp/loop_over_bdir-641295-BGeEVH/Devel-Required-0.16-0/blib/arch
/tmp/loop_over_bdir-641295-BGeEVH/Devel-Required-0.16-0/blib/lib
/tmp/loop_over_bdir-641295-BGeEVH/LCFG-Build-Tools-0.9.30-0/blib/arch
/tmp/loop_over_bdir-641295-BGeEVH/LCFG-Build-Tools-0.9.30-0/blib/lib
/tmp/loop_over_bdir-641295-BGeEVH/DBIx-Migration-Directories-0.12-0/blib/arch
/tmp/loop_over_bdir-641295-BGeEVH/DBIx-Migration-Directories-0.12-0/blib/lib
/tmp/loop_over_bdir-641295-BGeEVH/Net-OpenVPN-DDNS-0.1-0/blib/arch
/tmp/loop_over_bdir-641295-BGeEVH/Net-OpenVPN-DDNS-0.1-0/blib/lib
/tmp/loop_over_bdir-641295-BGeEVH/RDF-NLP-SPARQLQuery-0.1-0/blib/arch
/tmp/loop_over_bdir-641295-BGeEVH/RDF-NLP-SPARQLQuery-0.1-0/blib/lib
/home/sand/src/perl/repoperls/installed-perls/host/k93focal/v5.38.3/d119/lib/site_perl/5.38.3/x86_64-linux-thread-multi
/home/sand/src/perl/repoperls/installed-perls/host/k93focal/v5.38.3/d119/lib/site_perl/5.38.3
/home/sand/src/perl/repoperls/installed-perls/host/k93focal/v5.38.3/d119/lib/5.38.3/x86_64-linux-thread-multi
/home/sand/src/perl/repoperls/installed-perls/host/k93focal/v5.38.3/d119/lib/5.38.3
.