HTTP-Session2 v1.10 Perl 5 v5.34.3 x86_64-linux-ld

Status
Pass
From
Andreas J. König (ANDK)
Dist
HTTP-Session2 v1.10
Platform
Perl 5 v5.34.3 x86_64-linux-ld
Date
2023-12-29 16:10:17
ID
c1abe2c8-a664-11ee-b90e-d0ec02b4dfcc
This distribution has been tested as part of the CPAN Testers
project, supporting the Perl programming language.  See
http://wiki.cpantesters.org/ for more information or email
questions to cpan-testers-discuss@perl.org


--
Dear Author,

This is a computer-generated report for HTTP-Session2-1.10
on perl 5.34.3, created by CPAN-Reporter-1.2019.

Thank you for uploading your work to CPAN.  Congratulations!
All tests were successful.

Sections of this report:

    * Tester comments
    * Program output
    * Prerequisites
    * Environment and other context

------------------------------
TESTER COMMENTS
------------------------------

Additional comments from tester:

this report is from an automated smoke testing program
and was not reviewed by a human for accuracy

------------------------------
PROGRAM OUTPUT
------------------------------

Output from './Build test':

t/00_compile.t .............. ok
Secret string too short at /tmp/loop_over_bdir-2070-HtePjb/HTTP-Session2-1.10-0/blib/lib/HTTP/Session2/Base.pm line 79.
	HTTP::Session2::Base::__ANON__(HTTP::Session2::ServerStore=HASH(0x55e588529308), "s3cret") called at t/01_server_side.t line 23
	main::__ANON__("client -> server: request without cookie", CODE(0x55e587b66ea0)) called at t/01_server_side.t line 25
	main::__ANON__() called at /home/sand/src/perl/repoperls/installed-perls/host/k93focal/v5.34.3/d3e4/lib/site_perl/5.34.3/Test/Builder.pm line 374
	eval {...} called at /home/sand/src/perl/repoperls/installed-perls/host/k93focal/v5.34.3/d3e4/lib/site_perl/5.34.3/Test/Builder.pm line 374
	Test::Builder::subtest(Test::Builder=HASH(0x55e587b849c0), "First request", CODE(0x55e588271f60)) called at /home/sand/src/perl/repoperls/installed-perls/host/k93focal/v5.34.3/d3e4/lib/site_perl/5.34.3/Test/More.pm line 831
	Test::More::subtest("First request", CODE(0x55e588271f60)) called at t/01_server_side.t line 11
	main::scenario("First request", CODE(0x55e588271f60)) called at t/01_server_side.t line 31
Secret string too short at /tmp/loop_over_bdir-2070-HtePjb/HTTP-Session2-1.10-0/blib/lib/HTTP/Session2/Base.pm line 79.
	HTTP::Session2::Base::__ANON__(HTTP::Session2::ServerStore=HASH(0x55e587b66e40), "s3cret") called at t/01_server_side.t line 40
	main::__ANON__("client -> server: request without cookie", CODE(0x55e588529c98)) called at t/01_server_side.t line 42
	main::__ANON__() called at /home/sand/src/perl/repoperls/installed-perls/host/k93focal/v5.34.3/d3e4/lib/site_perl/5.34.3/Test/Builder.pm line 374
	eval {...} called at /home/sand/src/perl/repoperls/installed-perls/host/k93focal/v5.34.3/d3e4/lib/site_perl/5.34.3/Test/Builder.pm line 374
	Test::Builder::subtest(Test::Builder=HASH(0x55e587b849c0), "Store something without login", CODE(0x55e587b36c08)) called at /home/sand/src/perl/repoperls/installed-perls/host/k93focal/v5.34.3/d3e4/lib/site_perl/5.34.3/Test/More.pm line 831
	Test::More::subtest("Store something without login", CODE(0x55e587b36c08)) called at t/01_server_side.t line 11
	main::scenario("Store something without login", CODE(0x55e587b36c08)) called at t/01_server_side.t line 58
Secret string too short at /tmp/loop_over_bdir-2070-HtePjb/HTTP-Session2-1.10-0/blib/lib/HTTP/Session2/Base.pm line 79.
	HTTP::Session2::Base::__ANON__(HTTP::Session2::ServerStore=HASH(0x55e58852f7e0), "s3cret") called at t/01_server_side.t line 70
	main::__ANON__("client -> server: request without cookie", CODE(0x55e587b669d8)) called at t/01_server_side.t line 72
	main::__ANON__() called at /home/sand/src/perl/repoperls/installed-perls/host/k93focal/v5.34.3/d3e4/lib/site_perl/5.34.3/Test/Builder.pm line 374
	eval {...} called at /home/sand/src/perl/repoperls/installed-perls/host/k93focal/v5.34.3/d3e4/lib/site_perl/5.34.3/Test/Builder.pm line 374
	Test::Builder::subtest(Test::Builder=HASH(0x55e587b849c0), "Login", CODE(0x55e588260a70)) called at /home/sand/src/perl/repoperls/installed-perls/host/k93focal/v5.34.3/d3e4/lib/site_perl/5.34.3/Test/More.pm line 831
	Test::More::subtest("Login", CODE(0x55e588260a70)) called at t/01_server_side.t line 11
	main::scenario("Login", CODE(0x55e588260a70)) called at t/01_server_side.t line 96
Secret string too short at /tmp/loop_over_bdir-2070-HtePjb/HTTP-Session2-1.10-0/blib/lib/HTTP/Session2/Base.pm line 79.
	HTTP::Session2::Base::__ANON__(HTTP::Session2::ServerStore=HASH(0x55e588533530), "s3cret") called at t/01_server_side.t line 108
	main::__ANON__("client -> server: request without cookie", CODE(0x55e588532b10)) called at t/01_server_side.t line 110
	main::__ANON__() called at /home/sand/src/perl/repoperls/installed-perls/host/k93focal/v5.34.3/d3e4/lib/site_perl/5.34.3/Test/Builder.pm line 374
	eval {...} called at /home/sand/src/perl/repoperls/installed-perls/host/k93focal/v5.34.3/d3e4/lib/site_perl/5.34.3/Test/Builder.pm line 374
	Test::Builder::subtest(Test::Builder=HASH(0x55e587b849c0), "In a login session", CODE(0x55e588261130)) called at /home/sand/src/perl/repoperls/installed-perls/host/k93focal/v5.34.3/d3e4/lib/site_perl/5.34.3/Test/More.pm line 831
	Test::More::subtest("In a login session", CODE(0x55e588261130)) called at t/01_server_side.t line 11
	main::scenario("In a login session", CODE(0x55e588261130)) called at t/01_server_side.t line 124
Secret string too short at /tmp/loop_over_bdir-2070-HtePjb/HTTP-Session2-1.10-0/blib/lib/HTTP/Session2/Base.pm line 79.
	HTTP::Session2::Base::__ANON__(HTTP::Session2::ServerStore=HASH(0x55e58852f168), "s3cret") called at t/01_server_side.t line 136
	main::__ANON__("client -> server: request without cookie", CODE(0x55e588533500)) called at t/01_server_side.t line 138
	main::__ANON__() called at /home/sand/src/perl/repoperls/installed-perls/host/k93focal/v5.34.3/d3e4/lib/site_perl/5.34.3/Test/Builder.pm line 374
	eval {...} called at /home/sand/src/perl/repoperls/installed-perls/host/k93focal/v5.34.3/d3e4/lib/site_perl/5.34.3/Test/Builder.pm line 374
	Test::Builder::subtest(Test::Builder=HASH(0x55e587b849c0), "Invalid session id", CODE(0x55e588512a90)) called at /home/sand/src/perl/repoperls/installed-perls/host/k93focal/v5.34.3/d3e4/lib/site_perl/5.34.3/Test/More.pm line 831
	Test::More::subtest("Invalid session id", CODE(0x55e588512a90)) called at t/01_server_side.t line 11
	main::scenario("Invalid session id", CODE(0x55e588512a90)) called at t/01_server_side.t line 153
Secret string too short at /tmp/loop_over_bdir-2070-HtePjb/HTTP-Session2-1.10-0/blib/lib/HTTP/Session2/Base.pm line 79.
	HTTP::Session2::Base::__ANON__(HTTP::Session2::ServerStore=HASH(0x55e588529110), "s3cret") called at t/01_server_side.t line 160
	main::__ANON__("client -> server: request without cookie", CODE(0x55e587b671b8)) called at t/01_server_side.t line 167
	main::__ANON__() called at /home/sand/src/perl/repoperls/installed-perls/host/k93focal/v5.34.3/d3e4/lib/site_perl/5.34.3/Test/Builder.pm line 374
	eval {...} called at /home/sand/src/perl/repoperls/installed-perls/host/k93focal/v5.34.3/d3e4/lib/site_perl/5.34.3/Test/Builder.pm line 374
	Test::Builder::subtest(Test::Builder=HASH(0x55e587b849c0), "Logout", CODE(0x55e588512f28)) called at /home/sand/src/perl/repoperls/installed-perls/host/k93focal/v5.34.3/d3e4/lib/site_perl/5.34.3/Test/More.pm line 831
	Test::More::subtest("Logout", CODE(0x55e588512f28)) called at t/01_server_side.t line 11
	main::scenario("Logout", CODE(0x55e588512f28)) called at t/01_server_side.t line 182
t/01_server_side.t .......... ok
Secret string too short at /tmp/loop_over_bdir-2070-HtePjb/HTTP-Session2-1.10-0/blib/lib/HTTP/Session2/Base.pm line 79.
	HTTP::Session2::Base::__ANON__(HTTP::Session2::ClientStore=HASH(0x562b476d9b38), "s3cret") called at t/02_client_side.t line 17
	main::__ANON__("client -> server: request without cookie", CODE(0x562b476d92e0)) called at t/02_client_side.t line 22
	main::__ANON__() called at /home/sand/src/perl/repoperls/installed-perls/host/k93focal/v5.34.3/d3e4/lib/site_perl/5.34.3/Test/Builder.pm line 374
	eval {...} called at /home/sand/src/perl/repoperls/installed-perls/host/k93focal/v5.34.3/d3e4/lib/site_perl/5.34.3/Test/Builder.pm line 374
	Test::Builder::subtest(Test::Builder=HASH(0x562b476f5020), "First request", CODE(0x562b47f22128)) called at /home/sand/src/perl/repoperls/installed-perls/host/k93focal/v5.34.3/d3e4/lib/site_perl/5.34.3/Test/More.pm line 831
	Test::More::subtest("First request", CODE(0x562b47f22128)) called at t/02_client_side.t line 9
	main::scenario("First request", CODE(0x562b47f22128)) called at t/02_client_side.t line 28
Secret string too short at /tmp/loop_over_bdir-2070-HtePjb/HTTP-Session2-1.10-0/blib/lib/HTTP/Session2/Base.pm line 79.
	HTTP::Session2::Base::__ANON__(HTTP::Session2::ClientStore=HASH(0x562b476d9268), "s3cret") called at t/02_client_side.t line 33
	main::__ANON__("client -> server: request without cookie", CODE(0x562b476d9df0)) called at t/02_client_side.t line 38
	main::__ANON__() called at /home/sand/src/perl/repoperls/installed-perls/host/k93focal/v5.34.3/d3e4/lib/site_perl/5.34.3/Test/Builder.pm line 374
	eval {...} called at /home/sand/src/perl/repoperls/installed-perls/host/k93focal/v5.34.3/d3e4/lib/site_perl/5.34.3/Test/Builder.pm line 374
	Test::Builder::subtest(Test::Builder=HASH(0x562b476f5020), "Store something without login", CODE(0x562b48100300)) called at /home/sand/src/perl/repoperls/installed-perls/host/k93focal/v5.34.3/d3e4/lib/site_perl/5.34.3/Test/More.pm line 831
	Test::More::subtest("Store something without login", CODE(0x562b48100300)) called at t/02_client_side.t line 9
	main::scenario("Store something without login", CODE(0x562b48100300)) called at t/02_client_side.t line 54
Do not use HTTP::Session2::ClientStore. Use HTTP::Session2::ServerStore or HTTP::Session2::ClientStore2 instead. at /tmp/loop_over_bdir-2070-HtePjb/HTTP-Session2-1.10-0/blib/lib/HTTP/Session2/ClientStore.pm line 25.
Secret string too short at /tmp/loop_over_bdir-2070-HtePjb/HTTP-Session2-1.10-0/blib/lib/HTTP/Session2/Base.pm line 79.
	HTTP::Session2::Base::__ANON__(HTTP::Session2::ClientStore=HASH(0x562b4811f690), "s3cret") called at t/02_client_side.t line 60
	main::__ANON__("client -> server: request without cookie", CODE(0x562b4811ed18)) called at t/02_client_side.t line 66
	main::__ANON__() called at /home/sand/src/perl/repoperls/installed-perls/host/k93focal/v5.34.3/d3e4/lib/site_perl/5.34.3/Test/Builder.pm line 374
	eval {...} called at /home/sand/src/perl/repoperls/installed-perls/host/k93focal/v5.34.3/d3e4/lib/site_perl/5.34.3/Test/Builder.pm line 374
	Test::Builder::subtest(Test::Builder=HASH(0x562b476f5020), "Login", CODE(0x562b48100528)) called at /home/sand/src/perl/repoperls/installed-perls/host/k93focal/v5.34.3/d3e4/lib/site_perl/5.34.3/Test/More.pm line 831
	Test::More::subtest("Login", CODE(0x562b48100528)) called at t/02_client_side.t line 9
	main::scenario("Login", CODE(0x562b48100528)) called at t/02_client_side.t line 86
Do not use HTTP::Session2::ClientStore. Use HTTP::Session2::ServerStore or HTTP::Session2::ClientStore2 instead. at /tmp/loop_over_bdir-2070-HtePjb/HTTP-Session2-1.10-0/blib/lib/HTTP/Session2/ClientStore.pm line 35.
Do not use HTTP::Session2::ClientStore. Use HTTP::Session2::ServerStore or HTTP::Session2::ClientStore2 instead. at /tmp/loop_over_bdir-2070-HtePjb/HTTP-Session2-1.10-0/blib/lib/HTTP/Session2/ClientStore.pm line 25.
Secret string too short at /tmp/loop_over_bdir-2070-HtePjb/HTTP-Session2-1.10-0/blib/lib/HTTP/Session2/Base.pm line 79.
	HTTP::Session2::Base::__ANON__(HTTP::Session2::ClientStore=HASH(0x562b48110fd8), "s3cret") called at t/02_client_side.t line 92
	main::__ANON__("client -> server: request without cookie", CODE(0x562b48127078)) called at t/02_client_side.t line 98
	main::__ANON__() called at /home/sand/src/perl/repoperls/installed-perls/host/k93focal/v5.34.3/d3e4/lib/site_perl/5.34.3/Test/Builder.pm line 374
	eval {...} called at /home/sand/src/perl/repoperls/installed-perls/host/k93focal/v5.34.3/d3e4/lib/site_perl/5.34.3/Test/Builder.pm line 374
	Test::Builder::subtest(Test::Builder=HASH(0x562b476f5020), "In a login session", CODE(0x562b481009f0)) called at /home/sand/src/perl/repoperls/installed-perls/host/k93focal/v5.34.3/d3e4/lib/site_perl/5.34.3/Test/More.pm line 831
	Test::More::subtest("In a login session", CODE(0x562b481009f0)) called at t/02_client_side.t line 9
	main::scenario("In a login session", CODE(0x562b481009f0)) called at t/02_client_side.t line 107
Do not use HTTP::Session2::ClientStore. Use HTTP::Session2::ServerStore or HTTP::Session2::ClientStore2 instead. at /tmp/loop_over_bdir-2070-HtePjb/HTTP-Session2-1.10-0/blib/lib/HTTP/Session2/ClientStore.pm line 35.
Do not use HTTP::Session2::ClientStore. Use HTTP::Session2::ServerStore or HTTP::Session2::ClientStore2 instead. at /tmp/loop_over_bdir-2070-HtePjb/HTTP-Session2-1.10-0/blib/lib/HTTP/Session2/ClientStore.pm line 25.
Secret string too short at /tmp/loop_over_bdir-2070-HtePjb/HTTP-Session2-1.10-0/blib/lib/HTTP/Session2/Base.pm line 79.
	HTTP::Session2::Base::__ANON__(HTTP::Session2::ClientStore=HASH(0x562b4811ec58), "s3cret") called at t/02_client_side.t line 112
	main::__ANON__("client -> server: request without cookie", CODE(0x562b476da210)) called at t/02_client_side.t line 118
	main::__ANON__() called at /home/sand/src/perl/repoperls/installed-perls/host/k93focal/v5.34.3/d3e4/lib/site_perl/5.34.3/Test/Builder.pm line 374
	eval {...} called at /home/sand/src/perl/repoperls/installed-perls/host/k93focal/v5.34.3/d3e4/lib/site_perl/5.34.3/Test/Builder.pm line 374
	Test::Builder::subtest(Test::Builder=HASH(0x562b476f5020), "Logout", CODE(0x562b48100a68)) called at /home/sand/src/perl/repoperls/installed-perls/host/k93focal/v5.34.3/d3e4/lib/site_perl/5.34.3/Test/More.pm line 831
	Test::More::subtest("Logout", CODE(0x562b48100a68)) called at t/02_client_side.t line 9
	main::scenario("Logout", CODE(0x562b48100a68)) called at t/02_client_side.t line 131
t/02_client_side.t .......... ok
Secret string too short at /tmp/loop_over_bdir-2070-HtePjb/HTTP-Session2-1.10-0/blib/lib/HTTP/Session2/Base.pm line 79.
	HTTP::Session2::Base::__ANON__(HTTP::Session2::ServerStore=HASH(0x5598528bb8b8), "s3cret") called at t/03_mech.t line 121
	main::server_session(HASH(0x559851925670)) called at t/03_mech.t line 17
	main::__ANON__(HASH(0x559851925670)) called at /home/sand/src/perl/repoperls/installed-perls/host/k93focal/v5.34.3/d3e4/lib/site_perl/5.34.3/Test/WWW/Mechanize/PSGI.pm line 46
	Test::WWW::Mechanize::PSGI::try {...} () called at /home/sand/src/perl/repoperls/installed-perls/host/k93focal/v5.34.3/d3e4/lib/site_perl/5.34.3/Try/Tiny.pm line 102
	eval {...} called at /home/sand/src/perl/repoperls/installed-perls/host/k93focal/v5.34.3/d3e4/lib/site_perl/5.34.3/Try/Tiny.pm line 93
	Try::Tiny::try(CODE(0x5598528aee50), Try::Tiny::Catch=REF(0x559852769bf0)) called at /home/sand/src/perl/repoperls/installed-perls/host/k93focal/v5.34.3/d3e4/lib/site_perl/5.34.3/Test/WWW/Mechanize/PSGI.pm line 53
	Test::WWW::Mechanize::PSGI::simple_request(Test::WWW::Mechanize::PSGI=HASH(0x55985121f8d8), HTTP::Request=HASH(0x55985276e0a0), undef, undef) called at /home/sand/src/perl/repoperls/installed-perls/host/k93focal/v5.34.3/d3e4/lib/site_perl/5.34.3/LWP/UserAgent.pm line 308
	LWP::UserAgent::request(Test::WWW::Mechanize::PSGI=HASH(0x55985121f8d8), HTTP::Request=HASH(0x55985276e0a0)) called at /home/sand/src/perl/repoperls/installed-perls/host/k93focal/v5.34.3/d3e4/lib/site_perl/5.34.3/WWW/Mechanize.pm line 1697
	WWW::Mechanize::_make_request(Test::WWW::Mechanize::PSGI=HASH(0x55985121f8d8), HTTP::Request=HASH(0x55985276e0a0)) called at /home/sand/src/perl/repoperls/installed-perls/host/k93focal/v5.34.3/d3e4/lib/site_perl/5.34.3/WWW/Mechanize.pm line 1532
	WWW::Mechanize::request(Test::WWW::Mechanize::PSGI=HASH(0x55985121f8d8), HTTP::Request=HASH(0x55985276e0a0)) called at /home/sand/src/perl/repoperls/installed-perls/host/k93focal/v5.34.3/d3e4/lib/site_perl/5.34.3/LWP/UserAgent.pm line 452
	LWP::UserAgent::get(Test::WWW::Mechanize::PSGI=HASH(0x55985121f8d8), "/") called at /home/sand/src/perl/repoperls/installed-perls/host/k93focal/v5.34.3/d3e4/lib/site_perl/5.34.3/WWW/Mechanize.pm line 124
	WWW::Mechanize::get(Test::WWW::Mechanize::PSGI=HASH(0x55985121f8d8), "/") called at /home/sand/src/perl/repoperls/installed-perls/host/k93focal/v5.34.3/d3e4/lib/site_perl/5.34.3/Test/WWW/Mechanize.pm line 192
	Test::WWW::Mechanize::get_ok(Test::WWW::Mechanize::PSGI=HASH(0x55985121f8d8), "/") called at t/03_mech.t line 74
Secret string too short at /tmp/loop_over_bdir-2070-HtePjb/HTTP-Session2-1.10-0/blib/lib/HTTP/Session2/Base.pm line 79.
	HTTP::Session2::Base::__ANON__(HTTP::Session2::ServerStore=HASH(0x5598528dc410), "s3cret") called at t/03_mech.t line 121
	main::server_session(HASH(0x5598528ca5a0)) called at t/03_mech.t line 17
	main::__ANON__(HASH(0x5598528ca5a0)) called at /home/sand/src/perl/repoperls/installed-perls/host/k93focal/v5.34.3/d3e4/lib/site_perl/5.34.3/Test/WWW/Mechanize/PSGI.pm line 46
	Test::WWW::Mechanize::PSGI::try {...} () called at /home/sand/src/perl/repoperls/installed-perls/host/k93focal/v5.34.3/d3e4/lib/site_perl/5.34.3/Try/Tiny.pm line 102
	eval {...} called at /home/sand/src/perl/repoperls/installed-perls/host/k93focal/v5.34.3/d3e4/lib/site_perl/5.34.3/Try/Tiny.pm line 93
	Try::Tiny::try(CODE(0x5598528dc0c8), Try::Tiny::Catch=REF(0x5598528aeec8)) called at /home/sand/src/perl/repoperls/installed-perls/host/k93focal/v5.34.3/d3e4/lib/site_perl/5.34.3/Test/WWW/Mechanize/PSGI.pm line 53
	Test::WWW::Mechanize::PSGI::simple_request(Test::WWW::Mechanize::PSGI=HASH(0x55985121f8d8), HTTP::Request=HASH(0x5598511faa88), undef, undef) called at /home/sand/src/perl/repoperls/installed-perls/host/k93focal/v5.34.3/d3e4/lib/site_perl/5.34.3/LWP/UserAgent.pm line 308
	LWP::UserAgent::request(Test::WWW::Mechanize::PSGI=HASH(0x55985121f8d8), HTTP::Request=HASH(0x5598511faa88)) called at /home/sand/src/perl/repoperls/installed-perls/host/k93focal/v5.34.3/d3e4/lib/site_perl/5.34.3/WWW/Mechanize.pm line 1697
	WWW::Mechanize::_make_request(Test::WWW::Mechanize::PSGI=HASH(0x55985121f8d8), HTTP::Request=HASH(0x5598511faa88)) called at /home/sand/src/perl/repoperls/installed-perls/host/k93focal/v5.34.3/d3e4/lib/site_perl/5.34.3/WWW/Mechanize.pm line 1532
	WWW::Mechanize::request(Test::WWW::Mechanize::PSGI=HASH(0x55985121f8d8), HTTP::Request=HASH(0x5598511faa88)) called at /home/sand/src/perl/repoperls/installed-perls/host/k93focal/v5.34.3/d3e4/lib/site_perl/5.34.3/LWP/UserAgent.pm line 498
	LWP::UserAgent::post(Test::WWW::Mechanize::PSGI=HASH(0x55985121f8d8), "http://localhost/wishlist?foo", HASH(0x55985243a218)) called at /home/sand/src/perl/repoperls/installed-perls/host/k93focal/v5.34.3/d3e4/lib/site_perl/5.34.3/WWW/Mechanize.pm line 136
	WWW::Mechanize::post(Test::WWW::Mechanize::PSGI=HASH(0x55985121f8d8), "/wishlist?foo", HASH(0x55985243a218)) called at /home/sand/src/perl/repoperls/installed-perls/host/k93focal/v5.34.3/d3e4/lib/site_perl/5.34.3/Test/WWW/Mechanize.pm line 321
	Test::WWW::Mechanize::post_ok(Test::WWW::Mechanize::PSGI=HASH(0x55985121f8d8), "/wishlist?foo") called at t/03_mech.t line 75
Secret string too short at /tmp/loop_over_bdir-2070-HtePjb/HTTP-Session2-1.10-0/blib/lib/HTTP/Session2/Base.pm line 79.
	HTTP::Session2::Base::__ANON__(HTTP::Session2::ServerStore=HASH(0x5598528e6478), "s3cret") called at t/03_mech.t line 121
	main::server_session(HASH(0x5598528bb7e0)) called at t/03_mech.t line 17
	main::__ANON__(HASH(0x5598528bb7e0)) called at /home/sand/src/perl/repoperls/installed-perls/host/k93focal/v5.34.3/d3e4/lib/site_perl/5.34.3/Test/WWW/Mechanize/PSGI.pm line 46
	Test::WWW::Mechanize::PSGI::try {...} () called at /home/sand/src/perl/repoperls/installed-perls/host/k93focal/v5.34.3/d3e4/lib/site_perl/5.34.3/Try/Tiny.pm line 102
	eval {...} called at /home/sand/src/perl/repoperls/installed-perls/host/k93focal/v5.34.3/d3e4/lib/site_perl/5.34.3/Try/Tiny.pm line 93
	Try::Tiny::try(CODE(0x5598528e6400), Try::Tiny::Catch=REF(0x5598528dc0f8)) called at /home/sand/src/perl/repoperls/installed-perls/host/k93focal/v5.34.3/d3e4/lib/site_perl/5.34.3/Test/WWW/Mechanize/PSGI.pm line 53
	Test::WWW::Mechanize::PSGI::simple_request(Test::WWW::Mechanize::PSGI=HASH(0x55985121f8d8), HTTP::Request=HASH(0x5598528e6850), undef, undef) called at /home/sand/src/perl/repoperls/installed-perls/host/k93focal/v5.34.3/d3e4/lib/site_perl/5.34.3/LWP/UserAgent.pm line 308
	LWP::UserAgent::request(Test::WWW::Mechanize::PSGI=HASH(0x55985121f8d8), HTTP::Request=HASH(0x5598528e6850)) called at /home/sand/src/perl/repoperls/installed-perls/host/k93focal/v5.34.3/d3e4/lib/site_perl/5.34.3/WWW/Mechanize.pm line 1697
	WWW::Mechanize::_make_request(Test::WWW::Mechanize::PSGI=HASH(0x55985121f8d8), HTTP::Request=HASH(0x5598528e6850)) called at /home/sand/src/perl/repoperls/installed-perls/host/k93focal/v5.34.3/d3e4/lib/site_perl/5.34.3/WWW/Mechanize.pm line 1532
	WWW::Mechanize::request(Test::WWW::Mechanize::PSGI=HASH(0x55985121f8d8), HTTP::Request=HASH(0x5598528e6850)) called at /home/sand/src/perl/repoperls/installed-perls/host/k93focal/v5.34.3/d3e4/lib/site_perl/5.34.3/LWP/UserAgent.pm line 452
	LWP::UserAgent::get(Test::WWW::Mechanize::PSGI=HASH(0x55985121f8d8), "http://localhost/wishlist") called at /home/sand/src/perl/repoperls/installed-perls/host/k93focal/v5.34.3/d3e4/lib/site_perl/5.34.3/WWW/Mechanize.pm line 124
	WWW::Mechanize::get(Test::WWW::Mechanize::PSGI=HASH(0x55985121f8d8), "/wishlist") called at /home/sand/src/perl/repoperls/installed-perls/host/k93focal/v5.34.3/d3e4/lib/site_perl/5.34.3/Test/WWW/Mechanize.pm line 192
	Test::WWW::Mechanize::get_ok(Test::WWW::Mechanize::PSGI=HASH(0x55985121f8d8), "/wishlist") called at t/03_mech.t line 76
Secret string too short at /tmp/loop_over_bdir-2070-HtePjb/HTTP-Session2-1.10-0/blib/lib/HTTP/Session2/Base.pm line 79.
	HTTP::Session2::Base::__ANON__(HTTP::Session2::ServerStore=HASH(0x5598528e68c8), "s3cret") called at t/03_mech.t line 121
	main::server_session(HASH(0x5598528e65e0)) called at t/03_mech.t line 17
	main::__ANON__(HASH(0x5598528e65e0)) called at /home/sand/src/perl/repoperls/installed-perls/host/k93focal/v5.34.3/d3e4/lib/site_perl/5.34.3/Test/WWW/Mechanize/PSGI.pm line 46
	Test::WWW::Mechanize::PSGI::try {...} () called at /home/sand/src/perl/repoperls/installed-perls/host/k93focal/v5.34.3/d3e4/lib/site_perl/5.34.3/Try/Tiny.pm line 102
	eval {...} called at /home/sand/src/perl/repoperls/installed-perls/host/k93focal/v5.34.3/d3e4/lib/site_perl/5.34.3/Try/Tiny.pm line 93
	Try::Tiny::try(CODE(0x5598528ecd58), Try::Tiny::Catch=REF(0x5598528e6388)) called at /home/sand/src/perl/repoperls/installed-perls/host/k93focal/v5.34.3/d3e4/lib/site_perl/5.34.3/Test/WWW/Mechanize/PSGI.pm line 53
	Test::WWW::Mechanize::PSGI::simple_request(Test::WWW::Mechanize::PSGI=HASH(0x55985121f8d8), HTTP::Request=HASH(0x5598528dc2a8), undef, undef) called at /home/sand/src/perl/repoperls/installed-perls/host/k93focal/v5.34.3/d3e4/lib/site_perl/5.34.3/LWP/UserAgent.pm line 308
	LWP::UserAgent::request(Test::WWW::Mechanize::PSGI=HASH(0x55985121f8d8), HTTP::Request=HASH(0x5598528dc2a8)) called at /home/sand/src/perl/repoperls/installed-perls/host/k93focal/v5.34.3/d3e4/lib/site_perl/5.34.3/WWW/Mechanize.pm line 1697
	WWW::Mechanize::_make_request(Test::WWW::Mechanize::PSGI=HASH(0x55985121f8d8), HTTP::Request=HASH(0x5598528dc2a8)) called at /home/sand/src/perl/repoperls/installed-perls/host/k93focal/v5.34.3/d3e4/lib/site_perl/5.34.3/WWW/Mechanize.pm line 1532
	WWW::Mechanize::request(Test::WWW::Mechanize::PSGI=HASH(0x55985121f8d8), HTTP::Request=HASH(0x5598528dc2a8)) called at /home/sand/src/perl/repoperls/installed-perls/host/k93focal/v5.34.3/d3e4/lib/site_perl/5.34.3/LWP/UserAgent.pm line 498
	LWP::UserAgent::post(Test::WWW::Mechanize::PSGI=HASH(0x55985121f8d8), "http://localhost/wishlist?bar") called at /home/sand/src/perl/repoperls/installed-perls/host/k93focal/v5.34.3/d3e4/lib/site_perl/5.34.3/WWW/Mechanize.pm line 136
	WWW::Mechanize::post(Test::WWW::Mechanize::PSGI=HASH(0x55985121f8d8), "/wishlist?bar") called at t/03_mech.t line 78
Secret string too short at /tmp/loop_over_bdir-2070-HtePjb/HTTP-Session2-1.10-0/blib/lib/HTTP/Session2/Base.pm line 79.
	HTTP::Session2::Base::__ANON__(HTTP::Session2::ServerStore=HASH(0x5598528ed3a0), "s3cret") called at t/03_mech.t line 121
	main::server_session(HASH(0x5598528dc050)) called at t/03_mech.t line 17
	main::__ANON__(HASH(0x5598528dc050)) called at /home/sand/src/perl/repoperls/installed-perls/host/k93focal/v5.34.3/d3e4/lib/site_perl/5.34.3/Test/WWW/Mechanize/PSGI.pm line 46
	Test::WWW::Mechanize::PSGI::try {...} () called at /home/sand/src/perl/repoperls/installed-perls/host/k93focal/v5.34.3/d3e4/lib/site_perl/5.34.3/Try/Tiny.pm line 102
	eval {...} called at /home/sand/src/perl/repoperls/installed-perls/host/k93focal/v5.34.3/d3e4/lib/site_perl/5.34.3/Try/Tiny.pm line 93
	Try::Tiny::try(CODE(0x5598528e6940), Try::Tiny::Catch=REF(0x5598528e6b50)) called at /home/sand/src/perl/repoperls/installed-perls/host/k93focal/v5.34.3/d3e4/lib/site_perl/5.34.3/Test/WWW/Mechanize/PSGI.pm line 53
	Test::WWW::Mechanize::PSGI::simple_request(Test::WWW::Mechanize::PSGI=HASH(0x55985121f8d8), HTTP::Request=HASH(0x5598528e6958), undef, undef) called at /home/sand/src/perl/repoperls/installed-perls/host/k93focal/v5.34.3/d3e4/lib/site_perl/5.34.3/LWP/UserAgent.pm line 308
	LWP::UserAgent::request(Test::WWW::Mechanize::PSGI=HASH(0x55985121f8d8), HTTP::Request=HASH(0x5598528e6958)) called at /home/sand/src/perl/repoperls/installed-perls/host/k93focal/v5.34.3/d3e4/lib/site_perl/5.34.3/WWW/Mechanize.pm line 1697
	WWW::Mechanize::_make_request(Test::WWW::Mechanize::PSGI=HASH(0x55985121f8d8), HTTP::Request=HASH(0x5598528e6958)) called at /home/sand/src/perl/repoperls/installed-perls/host/k93focal/v5.34.3/d3e4/lib/site_perl/5.34.3/WWW/Mechanize.pm line 1532
	WWW::Mechanize::request(Test::WWW::Mechanize::PSGI=HASH(0x55985121f8d8), HTTP::Request=HASH(0x5598528e6958)) called at /home/sand/src/perl/repoperls/installed-perls/host/k93focal/v5.34.3/d3e4/lib/site_perl/5.34.3/LWP/UserAgent.pm line 498
	LWP::UserAgent::post(Test::WWW::Mechanize::PSGI=HASH(0x55985121f8d8), "http://localhost/wishlist?bar", HASH(0x55985243a218)) called at /home/sand/src/perl/repoperls/installed-perls/host/k93focal/v5.34.3/d3e4/lib/site_perl/5.34.3/WWW/Mechanize.pm line 136
	WWW::Mechanize::post(Test::WWW::Mechanize::PSGI=HASH(0x55985121f8d8), "/wishlist?bar", HASH(0x55985243a218)) called at /home/sand/src/perl/repoperls/installed-perls/host/k93focal/v5.34.3/d3e4/lib/site_perl/5.34.3/Test/WWW/Mechanize.pm line 321
	Test::WWW::Mechanize::post_ok(Test::WWW::Mechanize::PSGI=HASH(0x55985121f8d8), "/wishlist?bar") called at t/03_mech.t line 81
Secret string too short at /tmp/loop_over_bdir-2070-HtePjb/HTTP-Session2-1.10-0/blib/lib/HTTP/Session2/Base.pm line 79.
	HTTP::Session2::Base::__ANON__(HTTP::Session2::ServerStore=HASH(0x5598528ffa98), "s3cret") called at t/03_mech.t line 121
	main::server_session(HASH(0x5598528ed3a0)) called at t/03_mech.t line 17
	main::__ANON__(HASH(0x5598528ed3a0)) called at /home/sand/src/perl/repoperls/installed-perls/host/k93focal/v5.34.3/d3e4/lib/site_perl/5.34.3/Test/WWW/Mechanize/PSGI.pm line 46
	Test::WWW::Mechanize::PSGI::try {...} () called at /home/sand/src/perl/repoperls/installed-perls/host/k93focal/v5.34.3/d3e4/lib/site_perl/5.34.3/Try/Tiny.pm line 102
	eval {...} called at /home/sand/src/perl/repoperls/installed-perls/host/k93focal/v5.34.3/d3e4/lib/site_perl/5.34.3/Try/Tiny.pm line 93
	Try::Tiny::try(CODE(0x5598528ed448), Try::Tiny::Catch=REF(0x5598528ed118)) called at /home/sand/src/perl/repoperls/installed-perls/host/k93focal/v5.34.3/d3e4/lib/site_perl/5.34.3/Test/WWW/Mechanize/PSGI.pm line 53
	Test::WWW::Mechanize::PSGI::simple_request(Test::WWW::Mechanize::PSGI=HASH(0x55985121f8d8), HTTP::Request=HASH(0x5598528ed430), undef, undef) called at /home/sand/src/perl/repoperls/installed-perls/host/k93focal/v5.34.3/d3e4/lib/site_perl/5.34.3/LWP/UserAgent.pm line 308
	LWP::UserAgent::request(Test::WWW::Mechanize::PSGI=HASH(0x55985121f8d8), HTTP::Request=HASH(0x5598528ed430)) called at /home/sand/src/perl/repoperls/installed-perls/host/k93focal/v5.34.3/d3e4/lib/site_perl/5.34.3/WWW/Mechanize.pm line 1697
	WWW::Mechanize::_make_request(Test::WWW::Mechanize::PSGI=HASH(0x55985121f8d8), HTTP::Request=HASH(0x5598528ed430)) called at /home/sand/src/perl/repoperls/installed-perls/host/k93focal/v5.34.3/d3e4/lib/site_perl/5.34.3/WWW/Mechanize.pm line 1532
	WWW::Mechanize::request(Test::WWW::Mechanize::PSGI=HASH(0x55985121f8d8), HTTP::Request=HASH(0x5598528ed430)) called at /home/sand/src/perl/repoperls/installed-perls/host/k93focal/v5.34.3/d3e4/lib/site_perl/5.34.3/LWP/UserAgent.pm line 452
	LWP::UserAgent::get(Test::WWW::Mechanize::PSGI=HASH(0x55985121f8d8), "http://localhost/wishlist") called at /home/sand/src/perl/repoperls/installed-perls/host/k93focal/v5.34.3/d3e4/lib/site_perl/5.34.3/WWW/Mechanize.pm line 124
	WWW::Mechanize::get(Test::WWW::Mechanize::PSGI=HASH(0x55985121f8d8), "/wishlist") called at /home/sand/src/perl/repoperls/installed-perls/host/k93focal/v5.34.3/d3e4/lib/site_perl/5.34.3/Test/WWW/Mechanize.pm line 192
	Test::WWW::Mechanize::get_ok(Test::WWW::Mechanize::PSGI=HASH(0x55985121f8d8), "/wishlist") called at t/03_mech.t line 82
Secret string too short at /tmp/loop_over_bdir-2070-HtePjb/HTTP-Session2-1.10-0/blib/lib/HTTP/Session2/Base.pm line 79.
	HTTP::Session2::Base::__ANON__(HTTP::Session2::ServerStore=HASH(0x5598528ffd98), "s3cret") called at t/03_mech.t line 121
	main::server_session(HASH(0x5598528ffa68)) called at t/03_mech.t line 17
	main::__ANON__(HASH(0x5598528ffa68)) called at /home/sand/src/perl/repoperls/installed-perls/host/k93focal/v5.34.3/d3e4/lib/site_perl/5.34.3/Test/WWW/Mechanize/PSGI.pm line 46
	Test::WWW::Mechanize::PSGI::try {...} () called at /home/sand/src/perl/repoperls/installed-perls/host/k93focal/v5.34.3/d3e4/lib/site_perl/5.34.3/Try/Tiny.pm line 102
	eval {...} called at /home/sand/src/perl/repoperls/installed-perls/host/k93focal/v5.34.3/d3e4/lib/site_perl/5.34.3/Try/Tiny.pm line 93
	Try::Tiny::try(CODE(0x5598528ffac8), Try::Tiny::Catch=REF(0x5598528ed658)) called at /home/sand/src/perl/repoperls/installed-perls/host/k93focal/v5.34.3/d3e4/lib/site_perl/5.34.3/Test/WWW/Mechanize/PSGI.pm line 53
	Test::WWW::Mechanize::PSGI::simple_request(Test::WWW::Mechanize::PSGI=HASH(0x55985121f8d8), HTTP::Request=HASH(0x5598528ed598), undef, undef) called at /home/sand/src/perl/repoperls/installed-perls/host/k93focal/v5.34.3/d3e4/lib/site_perl/5.34.3/LWP/UserAgent.pm line 308
	LWP::UserAgent::request(Test::WWW::Mechanize::PSGI=HASH(0x55985121f8d8), HTTP::Request=HASH(0x5598528ed598)) called at /home/sand/src/perl/repoperls/installed-perls/host/k93focal/v5.34.3/d3e4/lib/site_perl/5.34.3/WWW/Mechanize.pm line 1697
	WWW::Mechanize::_make_request(Test::WWW::Mechanize::PSGI=HASH(0x55985121f8d8), HTTP::Request=HASH(0x5598528ed598)) called at /home/sand/src/perl/repoperls/installed-perls/host/k93focal/v5.34.3/d3e4/lib/site_perl/5.34.3/WWW/Mechanize.pm line 1532
	WWW::Mechanize::request(Test::WWW::Mechanize::PSGI=HASH(0x55985121f8d8), HTTP::Request=HASH(0x5598528ed598)) called at /home/sand/src/perl/repoperls/installed-perls/host/k93focal/v5.34.3/d3e4/lib/site_perl/5.34.3/LWP/UserAgent.pm line 498
	LWP::UserAgent::post(Test::WWW::Mechanize::PSGI=HASH(0x55985121f8d8), "http://localhost/account/login?john", HASH(0x55985243a218)) called at /home/sand/src/perl/repoperls/installed-perls/host/k93focal/v5.34.3/d3e4/lib/site_perl/5.34.3/WWW/Mechanize.pm line 136
	WWW::Mechanize::post(Test::WWW::Mechanize::PSGI=HASH(0x55985121f8d8), "/account/login?john", HASH(0x55985243a218)) called at /home/sand/src/perl/repoperls/installed-perls/host/k93focal/v5.34.3/d3e4/lib/site_perl/5.34.3/Test/WWW/Mechanize.pm line 321
	Test::WWW::Mechanize::post_ok(Test::WWW::Mechanize::PSGI=HASH(0x55985121f8d8), "/account/login?john") called at t/03_mech.t line 84
Secret string too short at /tmp/loop_over_bdir-2070-HtePjb/HTTP-Session2-1.10-0/blib/lib/HTTP/Session2/Base.pm line 79.
	HTTP::Session2::Base::__ANON__(HTTP::Session2::ServerStore=HASH(0x5598528fff60), "s3cret") called at t/03_mech.t line 121
	main::server_session(HASH(0x5598528ffd98)) called at t/03_mech.t line 17
	main::__ANON__(HASH(0x5598528ffd98)) called at /home/sand/src/perl/repoperls/installed-perls/host/k93focal/v5.34.3/d3e4/lib/site_perl/5.34.3/Test/WWW/Mechanize/PSGI.pm line 46
	Test::WWW::Mechanize::PSGI::try {...} () called at /home/sand/src/perl/repoperls/installed-perls/host/k93focal/v5.34.3/d3e4/lib/site_perl/5.34.3/Try/Tiny.pm line 102
	eval {...} called at /home/sand/src/perl/repoperls/installed-perls/host/k93focal/v5.34.3/d3e4/lib/site_perl/5.34.3/Try/Tiny.pm line 93
	Try::Tiny::try(CODE(0x5598528ed508), Try::Tiny::Catch=REF(0x5598528ff870)) called at /home/sand/src/perl/repoperls/installed-perls/host/k93focal/v5.34.3/d3e4/lib/site_perl/5.34.3/Test/WWW/Mechanize/PSGI.pm line 53
	Test::WWW::Mechanize::PSGI::simple_request(Test::WWW::Mechanize::PSGI=HASH(0x55985121f8d8), HTTP::Request=HASH(0x5598528ffa98), undef, undef) called at /home/sand/src/perl/repoperls/installed-perls/host/k93focal/v5.34.3/d3e4/lib/site_perl/5.34.3/LWP/UserAgent.pm line 308
	LWP::UserAgent::request(Test::WWW::Mechanize::PSGI=HASH(0x55985121f8d8), HTTP::Request=HASH(0x5598528ffa98)) called at /home/sand/src/perl/repoperls/installed-perls/host/k93focal/v5.34.3/d3e4/lib/site_perl/5.34.3/WWW/Mechanize.pm line 1697
	WWW::Mechanize::_make_request(Test::WWW::Mechanize::PSGI=HASH(0x55985121f8d8), HTTP::Request=HASH(0x5598528ffa98)) called at /home/sand/src/perl/repoperls/installed-perls/host/k93focal/v5.34.3/d3e4/lib/site_perl/5.34.3/WWW/Mechanize.pm line 1532
	WWW::Mechanize::request(Test::WWW::Mechanize::PSGI=HASH(0x55985121f8d8), HTTP::Request=HASH(0x5598528ffa98)) called at /home/sand/src/perl/repoperls/installed-perls/host/k93focal/v5.34.3/d3e4/lib/site_perl/5.34.3/LWP/UserAgent.pm line 452
	LWP::UserAgent::get(Test::WWW::Mechanize::PSGI=HASH(0x55985121f8d8), "http://localhost/wishlist") called at /home/sand/src/perl/repoperls/installed-perls/host/k93focal/v5.34.3/d3e4/lib/site_perl/5.34.3/WWW/Mechanize.pm line 124
	WWW::Mechanize::get(Test::WWW::Mechanize::PSGI=HASH(0x55985121f8d8), "/wishlist") called at /home/sand/src/perl/repoperls/installed-perls/host/k93focal/v5.34.3/d3e4/lib/site_perl/5.34.3/Test/WWW/Mechanize.pm line 192
	Test::WWW::Mechanize::get_ok(Test::WWW::Mechanize::PSGI=HASH(0x55985121f8d8), "/wishlist", "Wishlist is still available") called at t/03_mech.t line 85
Secret string too short at /tmp/loop_over_bdir-2070-HtePjb/HTTP-Session2-1.10-0/blib/lib/HTTP/Session2/Base.pm line 79.
	HTTP::Session2::Base::__ANON__(HTTP::Session2::ServerStore=HASH(0x559852900188), "s3cret") called at t/03_mech.t line 121
	main::server_session(HASH(0x5598529003c8)) called at t/03_mech.t line 17
	main::__ANON__(HASH(0x5598529003c8)) called at /home/sand/src/perl/repoperls/installed-perls/host/k93focal/v5.34.3/d3e4/lib/site_perl/5.34.3/Test/WWW/Mechanize/PSGI.pm line 46
	Test::WWW::Mechanize::PSGI::try {...} () called at /home/sand/src/perl/repoperls/installed-perls/host/k93focal/v5.34.3/d3e4/lib/site_perl/5.34.3/Try/Tiny.pm line 102
	eval {...} called at /home/sand/src/perl/repoperls/installed-perls/host/k93focal/v5.34.3/d3e4/lib/site_perl/5.34.3/Try/Tiny.pm line 93
	Try::Tiny::try(CODE(0x5598528dc308), Try::Tiny::Catch=REF(0x559852900068)) called at /home/sand/src/perl/repoperls/installed-perls/host/k93focal/v5.34.3/d3e4/lib/site_perl/5.34.3/Test/WWW/Mechanize/PSGI.pm line 53
	Test::WWW::Mechanize::PSGI::simple_request(Test::WWW::Mechanize::PSGI=HASH(0x55985121f8d8), HTTP::Request=HASH(0x5598529001e8), undef, undef) called at /home/sand/src/perl/repoperls/installed-perls/host/k93focal/v5.34.3/d3e4/lib/site_perl/5.34.3/LWP/UserAgent.pm line 308
	LWP::UserAgent::request(Test::WWW::Mechanize::PSGI=HASH(0x55985121f8d8), HTTP::Request=HASH(0x5598529001e8)) called at /home/sand/src/perl/repoperls/installed-perls/host/k93focal/v5.34.3/d3e4/lib/site_perl/5.34.3/WWW/Mechanize.pm line 1697
	WWW::Mechanize::_make_request(Test::WWW::Mechanize::PSGI=HASH(0x55985121f8d8), HTTP::Request=HASH(0x5598529001e8)) called at /home/sand/src/perl/repoperls/installed-perls/host/k93focal/v5.34.3/d3e4/lib/site_perl/5.34.3/WWW/Mechanize.pm line 1532
	WWW::Mechanize::request(Test::WWW::Mechanize::PSGI=HASH(0x55985121f8d8), HTTP::Request=HASH(0x5598529001e8)) called at /home/sand/src/perl/repoperls/installed-perls/host/k93focal/v5.34.3/d3e4/lib/site_perl/5.34.3/LWP/UserAgent.pm line 498
	LWP::UserAgent::post(Test::WWW::Mechanize::PSGI=HASH(0x55985121f8d8), "http://localhost/wishlist?baz") called at /home/sand/src/perl/repoperls/installed-perls/host/k93focal/v5.34.3/d3e4/lib/site_perl/5.34.3/WWW/Mechanize.pm line 136
	WWW::Mechanize::post(Test::WWW::Mechanize::PSGI=HASH(0x55985121f8d8), "/wishlist?baz") called at t/03_mech.t line 87
Secret string too short at /tmp/loop_over_bdir-2070-HtePjb/HTTP-Session2-1.10-0/blib/lib/HTTP/Session2/Base.pm line 79.
	HTTP::Session2::Base::__ANON__(HTTP::Session2::ServerStore=HASH(0x559852900368), "s3cret") called at t/03_mech.t line 121
	main::server_session(HASH(0x5598528ffbb8)) called at t/03_mech.t line 17
	main::__ANON__(HASH(0x5598528ffbb8)) called at /home/sand/src/perl/repoperls/installed-perls/host/k93focal/v5.34.3/d3e4/lib/site_perl/5.34.3/Test/WWW/Mechanize/PSGI.pm line 46
	Test::WWW::Mechanize::PSGI::try {...} () called at /home/sand/src/perl/repoperls/installed-perls/host/k93focal/v5.34.3/d3e4/lib/site_perl/5.34.3/Try/Tiny.pm line 102
	eval {...} called at /home/sand/src/perl/repoperls/installed-perls/host/k93focal/v5.34.3/d3e4/lib/site_perl/5.34.3/Try/Tiny.pm line 93
	Try::Tiny::try(CODE(0x5598529006f8), Try::Tiny::Catch=REF(0x559852900218)) called at /home/sand/src/perl/repoperls/installed-perls/host/k93focal/v5.34.3/d3e4/lib/site_perl/5.34.3/Test/WWW/Mechanize/PSGI.pm line 53
	Test::WWW::Mechanize::PSGI::simple_request(Test::WWW::Mechanize::PSGI=HASH(0x55985121f8d8), HTTP::Request=HASH(0x559852900110), undef, undef) called at /home/sand/src/perl/repoperls/installed-perls/host/k93focal/v5.34.3/d3e4/lib/site_perl/5.34.3/LWP/UserAgent.pm line 308
	LWP::UserAgent::request(Test::WWW::Mechanize::PSGI=HASH(0x55985121f8d8), HTTP::Request=HASH(0x559852900110)) called at /home/sand/src/perl/repoperls/installed-perls/host/k93focal/v5.34.3/d3e4/lib/site_perl/5.34.3/WWW/Mechanize.pm line 1697
	WWW::Mechanize::_make_request(Test::WWW::Mechanize::PSGI=HASH(0x55985121f8d8), HTTP::Request=HASH(0x559852900110)) called at /home/sand/src/perl/repoperls/installed-perls/host/k93focal/v5.34.3/d3e4/lib/site_perl/5.34.3/WWW/Mechanize.pm line 1532
	WWW::Mechanize::request(Test::WWW::Mechanize::PSGI=HASH(0x55985121f8d8), HTTP::Request=HASH(0x559852900110)) called at /home/sand/src/perl/repoperls/installed-perls/host/k93focal/v5.34.3/d3e4/lib/site_perl/5.34.3/LWP/UserAgent.pm line 498
	LWP::UserAgent::post(Test::WWW::Mechanize::PSGI=HASH(0x55985121f8d8), "http://localhost/wishlist?baz", HASH(0x55985243a218)) called at /home/sand/src/perl/repoperls/installed-perls/host/k93focal/v5.34.3/d3e4/lib/site_perl/5.34.3/WWW/Mechanize.pm line 136
	WWW::Mechanize::post(Test::WWW::Mechanize::PSGI=HASH(0x55985121f8d8), "/wishlist?baz", HASH(0x55985243a218)) called at /home/sand/src/perl/repoperls/installed-perls/host/k93focal/v5.34.3/d3e4/lib/site_perl/5.34.3/Test/WWW/Mechanize.pm line 321
	Test::WWW::Mechanize::post_ok(Test::WWW::Mechanize::PSGI=HASH(0x55985121f8d8), "/wishlist?baz") called at t/03_mech.t line 90
Secret string too short at /tmp/loop_over_bdir-2070-HtePjb/HTTP-Session2-1.10-0/blib/lib/HTTP/Session2/Base.pm line 79.
	HTTP::Session2::Base::__ANON__(HTTP::Session2::ServerStore=HASH(0x559852905020), "s3cret") called at t/03_mech.t line 121
	main::server_session(HASH(0x559852900368)) called at t/03_mech.t line 17
	main::__ANON__(HASH(0x559852900368)) called at /home/sand/src/perl/repoperls/installed-perls/host/k93focal/v5.34.3/d3e4/lib/site_perl/5.34.3/Test/WWW/Mechanize/PSGI.pm line 46
	Test::WWW::Mechanize::PSGI::try {...} () called at /home/sand/src/perl/repoperls/installed-perls/host/k93focal/v5.34.3/d3e4/lib/site_perl/5.34.3/Try/Tiny.pm line 102
	eval {...} called at /home/sand/src/perl/repoperls/installed-perls/host/k93focal/v5.34.3/d3e4/lib/site_perl/5.34.3/Try/Tiny.pm line 93
	Try::Tiny::try(CODE(0x5598529006e0), Try::Tiny::Catch=REF(0x559852904fc0)) called at /home/sand/src/perl/repoperls/installed-perls/host/k93focal/v5.34.3/d3e4/lib/site_perl/5.34.3/Test/WWW/Mechanize/PSGI.pm line 53
	Test::WWW::Mechanize::PSGI::simple_request(Test::WWW::Mechanize::PSGI=HASH(0x55985121f8d8), HTTP::Request=HASH(0x559852904dc8), undef, undef) called at /home/sand/src/perl/repoperls/installed-perls/host/k93focal/v5.34.3/d3e4/lib/site_perl/5.34.3/LWP/UserAgent.pm line 308
	LWP::UserAgent::request(Test::WWW::Mechanize::PSGI=HASH(0x55985121f8d8), HTTP::Request=HASH(0x559852904dc8)) called at /home/sand/src/perl/repoperls/installed-perls/host/k93focal/v5.34.3/d3e4/lib/site_perl/5.34.3/WWW/Mechanize.pm line 1697
	WWW::Mechanize::_make_request(Test::WWW::Mechanize::PSGI=HASH(0x55985121f8d8), HTTP::Request=HASH(0x559852904dc8)) called at /home/sand/src/perl/repoperls/installed-perls/host/k93focal/v5.34.3/d3e4/lib/site_perl/5.34.3/WWW/Mechanize.pm line 1532
	WWW::Mechanize::request(Test::WWW::Mechanize::PSGI=HASH(0x55985121f8d8), HTTP::Request=HASH(0x559852904dc8)) called at /home/sand/src/perl/repoperls/installed-perls/host/k93focal/v5.34.3/d3e4/lib/site_perl/5.34.3/LWP/UserAgent.pm line 452
	LWP::UserAgent::get(Test::WWW::Mechanize::PSGI=HASH(0x55985121f8d8), "http://localhost/wishlist") called at /home/sand/src/perl/repoperls/installed-perls/host/k93focal/v5.34.3/d3e4/lib/site_perl/5.34.3/WWW/Mechanize.pm line 124
	WWW::Mechanize::get(Test::WWW::Mechanize::PSGI=HASH(0x55985121f8d8), "/wishlist") called at /home/sand/src/perl/repoperls/installed-perls/host/k93focal/v5.34.3/d3e4/lib/site_perl/5.34.3/Test/WWW/Mechanize.pm line 192
	Test::WWW::Mechanize::get_ok(Test::WWW::Mechanize::PSGI=HASH(0x55985121f8d8), "/wishlist", "Wishlist is still available") called at t/03_mech.t line 91
Secret string too short at /tmp/loop_over_bdir-2070-HtePjb/HTTP-Session2-1.10-0/blib/lib/HTTP/Session2/Base.pm line 79.
	HTTP::Session2::Base::__ANON__(HTTP::Session2::ServerStore=HASH(0x559852905740), "s3cret") called at t/03_mech.t line 121
	main::server_session(HASH(0x559852905020)) called at t/03_mech.t line 17
	main::__ANON__(HASH(0x559852905020)) called at /home/sand/src/perl/repoperls/installed-perls/host/k93focal/v5.34.3/d3e4/lib/site_perl/5.34.3/Test/WWW/Mechanize/PSGI.pm line 46
	Test::WWW::Mechanize::PSGI::try {...} () called at /home/sand/src/perl/repoperls/installed-perls/host/k93focal/v5.34.3/d3e4/lib/site_perl/5.34.3/Try/Tiny.pm line 102
	eval {...} called at /home/sand/src/perl/repoperls/installed-perls/host/k93focal/v5.34.3/d3e4/lib/site_perl/5.34.3/Try/Tiny.pm line 93
	Try::Tiny::try(CODE(0x559852900548), Try::Tiny::Catch=REF(0x559852904be8)) called at /home/sand/src/perl/repoperls/installed-perls/host/k93focal/v5.34.3/d3e4/lib/site_perl/5.34.3/Test/WWW/Mechanize/PSGI.pm line 53
	Test::WWW::Mechanize::PSGI::simple_request(Test::WWW::Mechanize::PSGI=HASH(0x55985121f8d8), HTTP::Request=HASH(0x559852900710), undef, undef) called at /home/sand/src/perl/repoperls/installed-perls/host/k93focal/v5.34.3/d3e4/lib/site_perl/5.34.3/LWP/UserAgent.pm line 308
	LWP::UserAgent::request(Test::WWW::Mechanize::PSGI=HASH(0x55985121f8d8), HTTP::Request=HASH(0x559852900710)) called at /home/sand/src/perl/repoperls/installed-perls/host/k93focal/v5.34.3/d3e4/lib/site_perl/5.34.3/WWW/Mechanize.pm line 1697
	WWW::Mechanize::_make_request(Test::WWW::Mechanize::PSGI=HASH(0x55985121f8d8), HTTP::Request=HASH(0x559852900710)) called at /home/sand/src/perl/repoperls/installed-perls/host/k93focal/v5.34.3/d3e4/lib/site_perl/5.34.3/WWW/Mechanize.pm line 1532
	WWW::Mechanize::request(Test::WWW::Mechanize::PSGI=HASH(0x55985121f8d8), HTTP::Request=HASH(0x559852900710)) called at /home/sand/src/perl/repoperls/installed-perls/host/k93focal/v5.34.3/d3e4/lib/site_perl/5.34.3/LWP/UserAgent.pm line 452
	LWP::UserAgent::get(Test::WWW::Mechanize::PSGI=HASH(0x55985121f8d8), "http://localhost/my/name") called at /home/sand/src/perl/repoperls/installed-perls/host/k93focal/v5.34.3/d3e4/lib/site_perl/5.34.3/WWW/Mechanize.pm line 124
	WWW::Mechanize::get(Test::WWW::Mechanize::PSGI=HASH(0x55985121f8d8), "/my/name") called at /home/sand/src/perl/repoperls/installed-perls/host/k93focal/v5.34.3/d3e4/lib/site_perl/5.34.3/Test/WWW/Mechanize.pm line 192
	Test::WWW::Mechanize::get_ok(Test::WWW::Mechanize::PSGI=HASH(0x55985121f8d8), "/my/name") called at t/03_mech.t line 93
Secret string too short at /tmp/loop_over_bdir-2070-HtePjb/HTTP-Session2-1.10-0/blib/lib/HTTP/Session2/Base.pm line 79.
	HTTP::Session2::Base::__ANON__(HTTP::Session2::ServerStore=HASH(0x5598529091a0), "s3cret") called at t/03_mech.t line 121
	main::server_session(HASH(0x559852904d50)) called at t/03_mech.t line 17
	main::__ANON__(HASH(0x559852904d50)) called at /home/sand/src/perl/repoperls/installed-perls/host/k93focal/v5.34.3/d3e4/lib/site_perl/5.34.3/Test/WWW/Mechanize/PSGI.pm line 46
	Test::WWW::Mechanize::PSGI::try {...} () called at /home/sand/src/perl/repoperls/installed-perls/host/k93focal/v5.34.3/d3e4/lib/site_perl/5.34.3/Try/Tiny.pm line 102
	eval {...} called at /home/sand/src/perl/repoperls/installed-perls/host/k93focal/v5.34.3/d3e4/lib/site_perl/5.34.3/Try/Tiny.pm line 93
	Try::Tiny::try(CODE(0x559852905698), Try::Tiny::Catch=REF(0x5598529057e8)) called at /home/sand/src/perl/repoperls/installed-perls/host/k93focal/v5.34.3/d3e4/lib/site_perl/5.34.3/Test/WWW/Mechanize/PSGI.pm line 53
	Test::WWW::Mechanize::PSGI::simple_request(Test::WWW::Mechanize::PSGI=HASH(0x55985121f8d8), HTTP::Request=HASH(0x559852905710), undef, undef) called at /home/sand/src/perl/repoperls/installed-perls/host/k93focal/v5.34.3/d3e4/lib/site_perl/5.34.3/LWP/UserAgent.pm line 308
	LWP::UserAgent::request(Test::WWW::Mechanize::PSGI=HASH(0x55985121f8d8), HTTP::Request=HASH(0x559852905710)) called at /home/sand/src/perl/repoperls/installed-perls/host/k93focal/v5.34.3/d3e4/lib/site_perl/5.34.3/WWW/Mechanize.pm line 1697
	WWW::Mechanize::_make_request(Test::WWW::Mechanize::PSGI=HASH(0x55985121f8d8), HTTP::Request=HASH(0x559852905710)) called at /home/sand/src/perl/repoperls/installed-perls/host/k93focal/v5.34.3/d3e4/lib/site_perl/5.34.3/WWW/Mechanize.pm line 1532
	WWW::Mechanize::request(Test::WWW::Mechanize::PSGI=HASH(0x55985121f8d8), HTTP::Request=HASH(0x559852905710)) called at /home/sand/src/perl/repoperls/installed-perls/host/k93focal/v5.34.3/d3e4/lib/site_perl/5.34.3/LWP/UserAgent.pm line 498
	LWP::UserAgent::post(Test::WWW::Mechanize::PSGI=HASH(0x55985121f8d8), "http://localhost/account/logout?john") called at /home/sand/src/perl/repoperls/installed-perls/host/k93focal/v5.34.3/d3e4/lib/site_perl/5.34.3/WWW/Mechanize.pm line 136
	WWW::Mechanize::post(Test::WWW::Mechanize::PSGI=HASH(0x55985121f8d8), "/account/logout?john") called at t/03_mech.t line 97
Secret string too short at /tmp/loop_over_bdir-2070-HtePjb/HTTP-Session2-1.10-0/blib/lib/HTTP/Session2/Base.pm line 79.
	HTTP::Session2::Base::__ANON__(HTTP::Session2::ClientStore=HASH(0x5598528ca300), "s3cret") called at t/03_mech.t line 127
	main::client_session(HASH(0x559852769d40)) called at t/03_mech.t line 17
	main::__ANON__(HASH(0x559852769d40)) called at /home/sand/src/perl/repoperls/installed-perls/host/k93focal/v5.34.3/d3e4/lib/site_perl/5.34.3/Test/WWW/Mechanize/PSGI.pm line 46
	Test::WWW::Mechanize::PSGI::try {...} () called at /home/sand/src/perl/repoperls/installed-perls/host/k93focal/v5.34.3/d3e4/lib/site_perl/5.34.3/Try/Tiny.pm line 102
	eval {...} called at /home/sand/src/perl/repoperls/installed-perls/host/k93focal/v5.34.3/d3e4/lib/site_perl/5.34.3/Try/Tiny.pm line 93
	Try::Tiny::try(CODE(0x5598528bba38), Try::Tiny::Catch=REF(0x559852769938)) called at /home/sand/src/perl/repoperls/installed-perls/host/k93focal/v5.34.3/d3e4/lib/site_perl/5.34.3/Test/WWW/Mechanize/PSGI.pm line 53
	Test::WWW::Mechanize::PSGI::simple_request(Test::WWW::Mechanize::PSGI=HASH(0x5598528e61f0), HTTP::Request=HASH(0x55985276dfc8), undef, undef) called at /home/sand/src/perl/repoperls/installed-perls/host/k93focal/v5.34.3/d3e4/lib/site_perl/5.34.3/LWP/UserAgent.pm line 308
	LWP::UserAgent::request(Test::WWW::Mechanize::PSGI=HASH(0x5598528e61f0), HTTP::Request=HASH(0x55985276dfc8)) called at /home/sand/src/perl/repoperls/installed-perls/host/k93focal/v5.34.3/d3e4/lib/site_perl/5.34.3/WWW/Mechanize.pm line 1697
	WWW::Mechanize::_make_request(Test::WWW::Mechanize::PSGI=HASH(0x5598528e61f0), HTTP::Request=HASH(0x55985276dfc8)) called at /home/sand/src/perl/repoperls/installed-perls/host/k93focal/v5.34.3/d3e4/lib/site_perl/5.34.3/WWW/Mechanize.pm line 1532
	WWW::Mechanize::request(Test::WWW::Mechanize::PSGI=HASH(0x5598528e61f0), HTTP::Request=HASH(0x55985276dfc8)) called at /home/sand/src/perl/repoperls/installed-perls/host/k93focal/v5.34.3/d3e4/lib/site_perl/5.34.3/LWP/UserAgent.pm line 452
	LWP::UserAgent::get(Test::WWW::Mechanize::PSGI=HASH(0x5598528e61f0), "/") called at /home/sand/src/perl/repoperls/installed-perls/host/k93focal/v5.34.3/d3e4/lib/site_perl/5.34.3/WWW/Mechanize.pm line 124
	WWW::Mechanize::get(Test::WWW::Mechanize::PSGI=HASH(0x5598528e61f0), "/") called at /home/sand/src/perl/repoperls/installed-perls/host/k93focal/v5.34.3/d3e4/lib/site_perl/5.34.3/Test/WWW/Mechanize.pm line 192
	Test::WWW::Mechanize::get_ok(Test::WWW::Mechanize::PSGI=HASH(0x5598528e61f0), "/") called at t/03_mech.t line 74
Secret string too short at /tmp/loop_over_bdir-2070-HtePjb/HTTP-Session2-1.10-0/blib/lib/HTTP/Session2/Base.pm line 79.
	HTTP::Session2::Base::__ANON__(HTTP::Session2::ClientStore=HASH(0x5598528c9ec8), "s3cret") called at t/03_mech.t line 127
	main::client_session(HASH(0x5598528ca5a0)) called at t/03_mech.t line 17
	main::__ANON__(HASH(0x5598528ca5a0)) called at /home/sand/src/perl/repoperls/installed-perls/host/k93focal/v5.34.3/d3e4/lib/site_perl/5.34.3/Test/WWW/Mechanize/PSGI.pm line 46
	Test::WWW::Mechanize::PSGI::try {...} () called at /home/sand/src/perl/repoperls/installed-perls/host/k93focal/v5.34.3/d3e4/lib/site_perl/5.34.3/Try/Tiny.pm line 102
	eval {...} called at /home/sand/src/perl/repoperls/installed-perls/host/k93focal/v5.34.3/d3e4/lib/site_perl/5.34.3/Try/Tiny.pm line 93
	Try::Tiny::try(CODE(0x5598528e6448), Try::Tiny::Catch=REF(0x5598528e64a8)) called at /home/sand/src/perl/repoperls/installed-perls/host/k93focal/v5.34.3/d3e4/lib/site_perl/5.34.3/Test/WWW/Mechanize/PSGI.pm line 53
	Test::WWW::Mechanize::PSGI::simple_request(Test::WWW::Mechanize::PSGI=HASH(0x5598528e61f0), HTTP::Request=HASH(0x5598529090f8), undef, undef) called at /home/sand/src/perl/repoperls/installed-perls/host/k93focal/v5.34.3/d3e4/lib/site_perl/5.34.3/LWP/UserAgent.pm line 308
	LWP::UserAgent::request(Test::WWW::Mechanize::PSGI=HASH(0x5598528e61f0), HTTP::Request=HASH(0x5598529090f8)) called at /home/sand/src/perl/repoperls/installed-perls/host/k93focal/v5.34.3/d3e4/lib/site_perl/5.34.3/WWW/Mechanize.pm line 1697
	WWW::Mechanize::_make_request(Test::WWW::Mechanize::PSGI=HASH(0x5598528e61f0), HTTP::Request=HASH(0x5598529090f8)) called at /home/sand/src/perl/repoperls/installed-perls/host/k93focal/v5.34.3/d3e4/lib/site_perl/5.34.3/WWW/Mechanize.pm line 1532
	WWW::Mechanize::request(Test::WWW::Mechanize::PSGI=HASH(0x5598528e61f0), HTTP::Request=HASH(0x5598529090f8)) called at /home/sand/src/perl/repoperls/installed-perls/host/k93focal/v5.34.3/d3e4/lib/site_perl/5.34.3/LWP/UserAgent.pm line 498
	LWP::UserAgent::post(Test::WWW::Mechanize::PSGI=HASH(0x5598528e61f0), "http://localhost/wishlist?foo", HASH(0x55985243a218)) called at /home/sand/src/perl/repoperls/installed-perls/host/k93focal/v5.34.3/d3e4/lib/site_perl/5.34.3/WWW/Mechanize.pm line 136
	WWW::Mechanize::post(Test::WWW::Mechanize::PSGI=HASH(0x5598528e61f0), "/wishlist?foo", HASH(0x55985243a218)) called at /home/sand/src/perl/repoperls/installed-perls/host/k93focal/v5.34.3/d3e4/lib/site_perl/5.34.3/Test/WWW/Mechanize.pm line 321
	Test::WWW::Mechanize::post_ok(Test::WWW::Mechanize::PSGI=HASH(0x5598528e61f0), "/wishlist?foo") called at t/03_mech.t line 75
Do not use HTTP::Session2::ClientStore. Use HTTP::Session2::ServerStore or HTTP::Session2::ClientStore2 instead. at /tmp/loop_over_bdir-2070-HtePjb/HTTP-Session2-1.10-0/blib/lib/HTTP/Session2/ClientStore.pm line 25.
Secret string too short at /tmp/loop_over_bdir-2070-HtePjb/HTTP-Session2-1.10-0/blib/lib/HTTP/Session2/Base.pm line 79.
	HTTP::Session2::Base::__ANON__(HTTP::Session2::ClientStore=HASH(0x5598528e66e8), "s3cret") called at t/03_mech.t line 127
	main::client_session(HASH(0x5598528ffb28)) called at t/03_mech.t line 17
	main::__ANON__(HASH(0x5598528ffb28)) called at /home/sand/src/perl/repoperls/installed-perls/host/k93focal/v5.34.3/d3e4/lib/site_perl/5.34.3/Test/WWW/Mechanize/PSGI.pm line 46
	Test::WWW::Mechanize::PSGI::try {...} () called at /home/sand/src/perl/repoperls/installed-perls/host/k93focal/v5.34.3/d3e4/lib/site_perl/5.34.3/Try/Tiny.pm line 102
	eval {...} called at /home/sand/src/perl/repoperls/installed-perls/host/k93focal/v5.34.3/d3e4/lib/site_perl/5.34.3/Try/Tiny.pm line 93
	Try::Tiny::try(CODE(0x5598528e6748), Try::Tiny::Catch=REF(0x5598528bb9c0)) called at /home/sand/src/perl/repoperls/installed-perls/host/k93focal/v5.34.3/d3e4/lib/site_perl/5.34.3/Test/WWW/Mechanize/PSGI.pm line 53
	Test::WWW::Mechanize::PSGI::simple_request(Test::WWW::Mechanize::PSGI=HASH(0x5598528e61f0), HTTP::Request=HASH(0x5598528ffc90), undef, undef) called at /home/sand/src/perl/repoperls/installed-perls/host/k93focal/v5.34.3/d3e4/lib/site_perl/5.34.3/LWP/UserAgent.pm line 308
	LWP::UserAgent::request(Test::WWW::Mechanize::PSGI=HASH(0x5598528e61f0), HTTP::Request=HASH(0x5598528ffc90)) called at /home/sand/src/perl/repoperls/installed-perls/host/k93focal/v5.34.3/d3e4/lib/site_perl/5.34.3/WWW/Mechanize.pm line 1697
	WWW::Mechanize::_make_request(Test::WWW::Mechanize::PSGI=HASH(0x5598528e61f0), HTTP::Request=HASH(0x5598528ffc90)) called at /home/sand/src/perl/repoperls/installed-perls/host/k93focal/v5.34.3/d3e4/lib/site_perl/5.34.3/WWW/Mechanize.pm line 1532
	WWW::Mechanize::request(Test::WWW::Mechanize::PSGI=HASH(0x5598528e61f0), HTTP::Request=HASH(0x5598528ffc90)) called at /home/sand/src/perl/repoperls/installed-perls/host/k93focal/v5.34.3/d3e4/lib/site_perl/5.34.3/LWP/UserAgent.pm line 452
	LWP::UserAgent::get(Test::WWW::Mechanize::PSGI=HASH(0x5598528e61f0), "http://localhost/wishlist") called at /home/sand/src/perl/repoperls/installed-perls/host/k93focal/v5.34.3/d3e4/lib/site_perl/5.34.3/WWW/Mechanize.pm line 124
	WWW::Mechanize::get(Test::WWW::Mechanize::PSGI=HASH(0x5598528e61f0), "/wishlist") called at /home/sand/src/perl/repoperls/installed-perls/host/k93focal/v5.34.3/d3e4/lib/site_perl/5.34.3/Test/WWW/Mechanize.pm line 192
	Test::WWW::Mechanize::get_ok(Test::WWW::Mechanize::PSGI=HASH(0x5598528e61f0), "/wishlist") called at t/03_mech.t line 76
Do not use HTTP::Session2::ClientStore. Use HTTP::Session2::ServerStore or HTTP::Session2::ClientStore2 instead. at /tmp/loop_over_bdir-2070-HtePjb/HTTP-Session2-1.10-0/blib/lib/HTTP/Session2/ClientStore.pm line 35.
Secret string too short at /tmp/loop_over_bdir-2070-HtePjb/HTTP-Session2-1.10-0/blib/lib/HTTP/Session2/Base.pm line 79.
	HTTP::Session2::Base::__ANON__(HTTP::Session2::ClientStore=HASH(0x5598529003f8), "s3cret") called at t/03_mech.t line 127
	main::client_session(HASH(0x5598528e6910)) called at t/03_mech.t line 17
	main::__ANON__(HASH(0x5598528e6910)) called at /home/sand/src/perl/repoperls/installed-perls/host/k93focal/v5.34.3/d3e4/lib/site_perl/5.34.3/Test/WWW/Mechanize/PSGI.pm line 46
	Test::WWW::Mechanize::PSGI::try {...} () called at /home/sand/src/perl/repoperls/installed-perls/host/k93focal/v5.34.3/d3e4/lib/site_perl/5.34.3/Try/Tiny.pm line 102
	eval {...} called at /home/sand/src/perl/repoperls/installed-perls/host/k93focal/v5.34.3/d3e4/lib/site_perl/5.34.3/Try/Tiny.pm line 93
	Try::Tiny::try(CODE(0x5598528ed130), Try::Tiny::Catch=REF(0x5598528dc068)) called at /home/sand/src/perl/repoperls/installed-perls/host/k93focal/v5.34.3/d3e4/lib/site_perl/5.34.3/Test/WWW/Mechanize/PSGI.pm line 53
	Test::WWW::Mechanize::PSGI::simple_request(Test::WWW::Mechanize::PSGI=HASH(0x5598528e61f0), HTTP::Request=HASH(0x5598528e6208), undef, undef) called at /home/sand/src/perl/repoperls/installed-perls/host/k93focal/v5.34.3/d3e4/lib/site_perl/5.34.3/LWP/UserAgent.pm line 308
	LWP::UserAgent::request(Test::WWW::Mechanize::PSGI=HASH(0x5598528e61f0), HTTP::Request=HASH(0x5598528e6208)) called at /home/sand/src/perl/repoperls/installed-perls/host/k93focal/v5.34.3/d3e4/lib/site_perl/5.34.3/WWW/Mechanize.pm line 1697
	WWW::Mechanize::_make_request(Test::WWW::Mechanize::PSGI=HASH(0x5598528e61f0), HTTP::Request=HASH(0x5598528e6208)) called at /home/sand/src/perl/repoperls/installed-perls/host/k93focal/v5.34.3/d3e4/lib/site_perl/5.34.3/WWW/Mechanize.pm line 1532
	WWW::Mechanize::request(Test::WWW::Mechanize::PSGI=HASH(0x5598528e61f0), HTTP::Request=HASH(0x5598528e6208)) called at /home/sand/src/perl/repoperls/installed-perls/host/k93focal/v5.34.3/d3e4/lib/site_perl/5.34.3/LWP/UserAgent.pm line 498
	LWP::UserAgent::post(Test::WWW::Mechanize::PSGI=HASH(0x5598528e61f0), "http://localhost/wishlist?bar") called at /home/sand/src/perl/repoperls/installed-perls/host/k93focal/v5.34.3/d3e4/lib/site_perl/5.34.3/WWW/Mechanize.pm line 136
	WWW::Mechanize::post(Test::WWW::Mechanize::PSGI=HASH(0x5598528e61f0), "/wishlist?bar") called at t/03_mech.t line 78
Do not use HTTP::Session2::ClientStore. Use HTTP::Session2::ServerStore or HTTP::Session2::ClientStore2 instead. at /tmp/loop_over_bdir-2070-HtePjb/HTTP-Session2-1.10-0/blib/lib/HTTP/Session2/ClientStore.pm line 35.
Secret string too short at /tmp/loop_over_bdir-2070-HtePjb/HTTP-Session2-1.10-0/blib/lib/HTTP/Session2/Base.pm line 79.
	HTTP::Session2::Base::__ANON__(HTTP::Session2::ClientStore=HASH(0x559852904ca8), "s3cret") called at t/03_mech.t line 127
	main::client_session(HASH(0x5598528e67c0)) called at t/03_mech.t line 17
	main::__ANON__(HASH(0x5598528e67c0)) called at /home/sand/src/perl/repoperls/installed-perls/host/k93focal/v5.34.3/d3e4/lib/site_perl/5.34.3/Test/WWW/Mechanize/PSGI.pm line 46
	Test::WWW::Mechanize::PSGI::try {...} () called at /home/sand/src/perl/repoperls/installed-perls/host/k93focal/v5.34.3/d3e4/lib/site_perl/5.34.3/Try/Tiny.pm line 102
	eval {...} called at /home/sand/src/perl/repoperls/installed-perls/host/k93focal/v5.34.3/d3e4/lib/site_perl/5.34.3/Try/Tiny.pm line 93
	Try::Tiny::try(CODE(0x5598528fff30), Try::Tiny::Catch=REF(0x5598528dc2a8)) called at /home/sand/src/perl/repoperls/installed-perls/host/k93focal/v5.34.3/d3e4/lib/site_perl/5.34.3/Test/WWW/Mechanize/PSGI.pm line 53
	Test::WWW::Mechanize::PSGI::simple_request(Test::WWW::Mechanize::PSGI=HASH(0x5598528e61f0), HTTP::Request=HASH(0x5598528ece30), undef, undef) called at /home/sand/src/perl/repoperls/installed-perls/host/k93focal/v5.34.3/d3e4/lib/site_perl/5.34.3/LWP/UserAgent.pm line 308
	LWP::UserAgent::request(Test::WWW::Mechanize::PSGI=HASH(0x5598528e61f0), HTTP::Request=HASH(0x5598528ece30)) called at /home/sand/src/perl/repoperls/installed-perls/host/k93focal/v5.34.3/d3e4/lib/site_perl/5.34.3/WWW/Mechanize.pm line 1697
	WWW::Mechanize::_make_request(Test::WWW::Mechanize::PSGI=HASH(0x5598528e61f0), HTTP::Request=HASH(0x5598528ece30)) called at /home/sand/src/perl/repoperls/installed-perls/host/k93focal/v5.34.3/d3e4/lib/site_perl/5.34.3/WWW/Mechanize.pm line 1532
	WWW::Mechanize::request(Test::WWW::Mechanize::PSGI=HASH(0x5598528e61f0), HTTP::Request=HASH(0x5598528ece30)) called at /home/sand/src/perl/repoperls/installed-perls/host/k93focal/v5.34.3/d3e4/lib/site_perl/5.34.3/LWP/UserAgent.pm line 498
	LWP::UserAgent::post(Test::WWW::Mechanize::PSGI=HASH(0x5598528e61f0), "http://localhost/wishlist?bar", HASH(0x55985243a218)) called at /home/sand/src/perl/repoperls/installed-perls/host/k93focal/v5.34.3/d3e4/lib/site_perl/5.34.3/WWW/Mechanize.pm line 136
	WWW::Mechanize::post(Test::WWW::Mechanize::PSGI=HASH(0x5598528e61f0), "/wishlist?bar", HASH(0x55985243a218)) called at /home/sand/src/perl/repoperls/installed-perls/host/k93focal/v5.34.3/d3e4/lib/site_perl/5.34.3/Test/WWW/Mechanize.pm line 321
	Test::WWW::Mechanize::post_ok(Test::WWW::Mechanize::PSGI=HASH(0x5598528e61f0), "/wishlist?bar") called at t/03_mech.t line 81
Do not use HTTP::Session2::ClientStore. Use HTTP::Session2::ServerStore or HTTP::Session2::ClientStore2 instead. at /tmp/loop_over_bdir-2070-HtePjb/HTTP-Session2-1.10-0/blib/lib/HTTP/Session2/ClientStore.pm line 35.
Do not use HTTP::Session2::ClientStore. Use HTTP::Session2::ServerStore or HTTP::Session2::ClientStore2 instead. at /tmp/loop_over_bdir-2070-HtePjb/HTTP-Session2-1.10-0/blib/lib/HTTP/Session2/ClientStore.pm line 25.
Secret string too short at /tmp/loop_over_bdir-2070-HtePjb/HTTP-Session2-1.10-0/blib/lib/HTTP/Session2/Base.pm line 79.
	HTTP::Session2::Base::__ANON__(HTTP::Session2::ClientStore=HASH(0x559852904a20), "s3cret") called at t/03_mech.t line 127
	main::client_session(HASH(0x559852904ca8)) called at t/03_mech.t line 17
	main::__ANON__(HASH(0x559852904ca8)) called at /home/sand/src/perl/repoperls/installed-perls/host/k93focal/v5.34.3/d3e4/lib/site_perl/5.34.3/Test/WWW/Mechanize/PSGI.pm line 46
	Test::WWW::Mechanize::PSGI::try {...} () called at /home/sand/src/perl/repoperls/installed-perls/host/k93focal/v5.34.3/d3e4/lib/site_perl/5.34.3/Try/Tiny.pm line 102
	eval {...} called at /home/sand/src/perl/repoperls/installed-perls/host/k93focal/v5.34.3/d3e4/lib/site_perl/5.34.3/Try/Tiny.pm line 93
	Try::Tiny::try(CODE(0x5598528ffff0), Try::Tiny::Catch=REF(0x5598528ffeb8)) called at /home/sand/src/perl/repoperls/installed-perls/host/k93focal/v5.34.3/d3e4/lib/site_perl/5.34.3/Test/WWW/Mechanize/PSGI.pm line 53
	Test::WWW::Mechanize::PSGI::simple_request(Test::WWW::Mechanize::PSGI=HASH(0x5598528e61f0), HTTP::Request=HASH(0x559852900608), undef, undef) called at /home/sand/src/perl/repoperls/installed-perls/host/k93focal/v5.34.3/d3e4/lib/site_perl/5.34.3/LWP/UserAgent.pm line 308
	LWP::UserAgent::request(Test::WWW::Mechanize::PSGI=HASH(0x5598528e61f0), HTTP::Request=HASH(0x559852900608)) called at /home/sand/src/perl/repoperls/installed-perls/host/k93focal/v5.34.3/d3e4/lib/site_perl/5.34.3/WWW/Mechanize.pm line 1697
	WWW::Mechanize::_make_request(Test::WWW::Mechanize::PSGI=HASH(0x5598528e61f0), HTTP::Request=HASH(0x559852900608)) called at /home/sand/src/perl/repoperls/installed-perls/host/k93focal/v5.34.3/d3e4/lib/site_perl/5.34.3/WWW/Mechanize.pm line 1532
	WWW::Mechanize::request(Test::WWW::Mechanize::PSGI=HASH(0x5598528e61f0), HTTP::Request=HASH(0x559852900608)) called at /home/sand/src/perl/repoperls/installed-perls/host/k93focal/v5.34.3/d3e4/lib/site_perl/5.34.3/LWP/UserAgent.pm line 452
	LWP::UserAgent::get(Test::WWW::Mechanize::PSGI=HASH(0x5598528e61f0), "http://localhost/wishlist") called at /home/sand/src/perl/repoperls/installed-perls/host/k93focal/v5.34.3/d3e4/lib/site_perl/5.34.3/WWW/Mechanize.pm line 124
	WWW::Mechanize::get(Test::WWW::Mechanize::PSGI=HASH(0x5598528e61f0), "/wishlist") called at /home/sand/src/perl/repoperls/installed-perls/host/k93focal/v5.34.3/d3e4/lib/site_perl/5.34.3/Test/WWW/Mechanize.pm line 192
	Test::WWW::Mechanize::get_ok(Test::WWW::Mechanize::PSGI=HASH(0x5598528e61f0), "/wishlist") called at t/03_mech.t line 82
Do not use HTTP::Session2::ClientStore. Use HTTP::Session2::ServerStore or HTTP::Session2::ClientStore2 instead. at /tmp/loop_over_bdir-2070-HtePjb/HTTP-Session2-1.10-0/blib/lib/HTTP/Session2/ClientStore.pm line 35.
Secret string too short at /tmp/loop_over_bdir-2070-HtePjb/HTTP-Session2-1.10-0/blib/lib/HTTP/Session2/Base.pm line 79.
	HTTP::Session2::Base::__ANON__(HTTP::Session2::ClientStore=HASH(0x559852905110), "s3cret") called at t/03_mech.t line 127
	main::client_session(HASH(0x5598529051e8)) called at t/03_mech.t line 17
	main::__ANON__(HASH(0x5598529051e8)) called at /home/sand/src/perl/repoperls/installed-perls/host/k93focal/v5.34.3/d3e4/lib/site_perl/5.34.3/Test/WWW/Mechanize/PSGI.pm line 46
	Test::WWW::Mechanize::PSGI::try {...} () called at /home/sand/src/perl/repoperls/installed-perls/host/k93focal/v5.34.3/d3e4/lib/site_perl/5.34.3/Try/Tiny.pm line 102
	eval {...} called at /home/sand/src/perl/repoperls/installed-perls/host/k93focal/v5.34.3/d3e4/lib/site_perl/5.34.3/Try/Tiny.pm line 93
	Try::Tiny::try(CODE(0x559852904f00), Try::Tiny::Catch=REF(0x5598529049d8)) called at /home/sand/src/perl/repoperls/installed-perls/host/k93focal/v5.34.3/d3e4/lib/site_perl/5.34.3/Test/WWW/Mechanize/PSGI.pm line 53
	Test::WWW::Mechanize::PSGI::simple_request(Test::WWW::Mechanize::PSGI=HASH(0x5598528e61f0), HTTP::Request=HASH(0x5598528e6b98), undef, undef) called at /home/sand/src/perl/repoperls/installed-perls/host/k93focal/v5.34.3/d3e4/lib/site_perl/5.34.3/LWP/UserAgent.pm line 308
	LWP::UserAgent::request(Test::WWW::Mechanize::PSGI=HASH(0x5598528e61f0), HTTP::Request=HASH(0x5598528e6b98)) called at /home/sand/src/perl/repoperls/installed-perls/host/k93focal/v5.34.3/d3e4/lib/site_perl/5.34.3/WWW/Mechanize.pm line 1697
	WWW::Mechanize::_make_request(Test::WWW::Mechanize::PSGI=HASH(0x5598528e61f0), HTTP::Request=HASH(0x5598528e6b98)) called at /home/sand/src/perl/repoperls/installed-perls/host/k93focal/v5.34.3/d3e4/lib/site_perl/5.34.3/WWW/Mechanize.pm line 1532
	WWW::Mechanize::request(Test::WWW::Mechanize::PSGI=HASH(0x5598528e61f0), HTTP::Request=HASH(0x5598528e6b98)) called at /home/sand/src/perl/repoperls/installed-perls/host/k93focal/v5.34.3/d3e4/lib/site_perl/5.34.3/LWP/UserAgent.pm line 498
	LWP::UserAgent::post(Test::WWW::Mechanize::PSGI=HASH(0x5598528e61f0), "http://localhost/account/login?john", HASH(0x55985243a218)) called at /home/sand/src/perl/repoperls/installed-perls/host/k93focal/v5.34.3/d3e4/lib/site_perl/5.34.3/WWW/Mechanize.pm line 136
	WWW::Mechanize::post(Test::WWW::Mechanize::PSGI=HASH(0x5598528e61f0), "/account/login?john", HASH(0x55985243a218)) called at /home/sand/src/perl/repoperls/installed-perls/host/k93focal/v5.34.3/d3e4/lib/site_perl/5.34.3/Test/WWW/Mechanize.pm line 321
	Test::WWW::Mechanize::post_ok(Test::WWW::Mechanize::PSGI=HASH(0x5598528e61f0), "/account/login?john") called at t/03_mech.t line 84
Do not use HTTP::Session2::ClientStore. Use HTTP::Session2::ServerStore or HTTP::Session2::ClientStore2 instead. at /tmp/loop_over_bdir-2070-HtePjb/HTTP-Session2-1.10-0/blib/lib/HTTP/Session2/ClientStore.pm line 35.
Do not use HTTP::Session2::ClientStore. Use HTTP::Session2::ServerStore or HTTP::Session2::ClientStore2 instead. at /tmp/loop_over_bdir-2070-HtePjb/HTTP-Session2-1.10-0/blib/lib/HTTP/Session2/ClientStore.pm line 35.
Do not use HTTP::Session2::ClientStore. Use HTTP::Session2::ServerStore or HTTP::Session2::ClientStore2 instead. at /tmp/loop_over_bdir-2070-HtePjb/HTTP-Session2-1.10-0/blib/lib/HTTP/Session2/ClientStore.pm line 25.
Secret string too short at /tmp/loop_over_bdir-2070-HtePjb/HTTP-Session2-1.10-0/blib/lib/HTTP/Session2/Base.pm line 79.
	HTTP::Session2::Base::__ANON__(HTTP::Session2::ClientStore=HASH(0x559852769a28), "s3cret") called at t/03_mech.t line 127
	main::client_session(HASH(0x559852905110)) called at t/03_mech.t line 17
	main::__ANON__(HASH(0x559852905110)) called at /home/sand/src/perl/repoperls/installed-perls/host/k93focal/v5.34.3/d3e4/lib/site_perl/5.34.3/Test/WWW/Mechanize/PSGI.pm line 46
	Test::WWW::Mechanize::PSGI::try {...} () called at /home/sand/src/perl/repoperls/installed-perls/host/k93focal/v5.34.3/d3e4/lib/site_perl/5.34.3/Try/Tiny.pm line 102
	eval {...} called at /home/sand/src/perl/repoperls/installed-perls/host/k93focal/v5.34.3/d3e4/lib/site_perl/5.34.3/Try/Tiny.pm line 93
	Try::Tiny::try(CODE(0x5598529006f8), Try::Tiny::Catch=REF(0x559852904dc8)) called at /home/sand/src/perl/repoperls/installed-perls/host/k93focal/v5.34.3/d3e4/lib/site_perl/5.34.3/Test/WWW/Mechanize/PSGI.pm line 53
	Test::WWW::Mechanize::PSGI::simple_request(Test::WWW::Mechanize::PSGI=HASH(0x5598528e61f0), HTTP::Request=HASH(0x559852904a20), undef, undef) called at /home/sand/src/perl/repoperls/installed-perls/host/k93focal/v5.34.3/d3e4/lib/site_perl/5.34.3/LWP/UserAgent.pm line 308
	LWP::UserAgent::request(Test::WWW::Mechanize::PSGI=HASH(0x5598528e61f0), HTTP::Request=HASH(0x559852904a20)) called at /home/sand/src/perl/repoperls/installed-perls/host/k93focal/v5.34.3/d3e4/lib/site_perl/5.34.3/WWW/Mechanize.pm line 1697
	WWW::Mechanize::_make_request(Test::WWW::Mechanize::PSGI=HASH(0x5598528e61f0), HTTP::Request=HASH(0x559852904a20)) called at /home/sand/src/perl/repoperls/installed-perls/host/k93focal/v5.34.3/d3e4/lib/site_perl/5.34.3/WWW/Mechanize.pm line 1532
	WWW::Mechanize::request(Test::WWW::Mechanize::PSGI=HASH(0x5598528e61f0), HTTP::Request=HASH(0x559852904a20)) called at /home/sand/src/perl/repoperls/installed-perls/host/k93focal/v5.34.3/d3e4/lib/site_perl/5.34.3/LWP/UserAgent.pm line 452
	LWP::UserAgent::get(Test::WWW::Mechanize::PSGI=HASH(0x5598528e61f0), "http://localhost/wishlist") called at /home/sand/src/perl/repoperls/installed-perls/host/k93focal/v5.34.3/d3e4/lib/site_perl/5.34.3/WWW/Mechanize.pm line 124
	WWW::Mechanize::get(Test::WWW::Mechanize::PSGI=HASH(0x5598528e61f0), "/wishlist") called at /home/sand/src/perl/repoperls/installed-perls/host/k93focal/v5.34.3/d3e4/lib/site_perl/5.34.3/Test/WWW/Mechanize.pm line 192
	Test::WWW::Mechanize::get_ok(Test::WWW::Mechanize::PSGI=HASH(0x5598528e61f0), "/wishlist", "Wishlist is still available") called at t/03_mech.t line 85
Do not use HTTP::Session2::ClientStore. Use HTTP::Session2::ServerStore or HTTP::Session2::ClientStore2 instead. at /tmp/loop_over_bdir-2070-HtePjb/HTTP-Session2-1.10-0/blib/lib/HTTP/Session2/ClientStore.pm line 35.
Secret string too short at /tmp/loop_over_bdir-2070-HtePjb/HTTP-Session2-1.10-0/blib/lib/HTTP/Session2/Base.pm line 79.
	HTTP::Session2::Base::__ANON__(HTTP::Session2::ClientStore=HASH(0x559852769e30), "s3cret") called at t/03_mech.t line 127
	main::client_session(HASH(0x5598528e6c28)) called at t/03_mech.t line 17
	main::__ANON__(HASH(0x5598528e6c28)) called at /home/sand/src/perl/repoperls/installed-perls/host/k93focal/v5.34.3/d3e4/lib/site_perl/5.34.3/Test/WWW/Mechanize/PSGI.pm line 46
	Test::WWW::Mechanize::PSGI::try {...} () called at /home/sand/src/perl/repoperls/installed-perls/host/k93focal/v5.34.3/d3e4/lib/site_perl/5.34.3/Try/Tiny.pm line 102
	eval {...} called at /home/sand/src/perl/repoperls/installed-perls/host/k93focal/v5.34.3/d3e4/lib/site_perl/5.34.3/Try/Tiny.pm line 93
	Try::Tiny::try(CODE(0x55985276a190), Try::Tiny::Catch=REF(0x559852769f08)) called at /home/sand/src/perl/repoperls/installed-perls/host/k93focal/v5.34.3/d3e4/lib/site_perl/5.34.3/Test/WWW/Mechanize/PSGI.pm line 53
	Test::WWW::Mechanize::PSGI::simple_request(Test::WWW::Mechanize::PSGI=HASH(0x5598528e61f0), HTTP::Request=HASH(0x5598529003f8), undef, undef) called at /home/sand/src/perl/repoperls/installed-perls/host/k93focal/v5.34.3/d3e4/lib/site_perl/5.34.3/LWP/UserAgent.pm line 308
	LWP::UserAgent::request(Test::WWW::Mechanize::PSGI=HASH(0x5598528e61f0), HTTP::Request=HASH(0x5598529003f8)) called at /home/sand/src/perl/repoperls/installed-perls/host/k93focal/v5.34.3/d3e4/lib/site_perl/5.34.3/WWW/Mechanize.pm line 1697
	WWW::Mechanize::_make_request(Test::WWW::Mechanize::PSGI=HASH(0x5598528e61f0), HTTP::Request=HASH(0x5598529003f8)) called at /home/sand/src/perl/repoperls/installed-perls/host/k93focal/v5.34.3/d3e4/lib/site_perl/5.34.3/WWW/Mechanize.pm line 1532
	WWW::Mechanize::request(Test::WWW::Mechanize::PSGI=HASH(0x5598528e61f0), HTTP::Request=HASH(0x5598529003f8)) called at /home/sand/src/perl/repoperls/installed-perls/host/k93focal/v5.34.3/d3e4/lib/site_perl/5.34.3/LWP/UserAgent.pm line 498
	LWP::UserAgent::post(Test::WWW::Mechanize::PSGI=HASH(0x5598528e61f0), "http://localhost/wishlist?baz") called at /home/sand/src/perl/repoperls/installed-perls/host/k93focal/v5.34.3/d3e4/lib/site_perl/5.34.3/WWW/Mechanize.pm line 136
	WWW::Mechanize::post(Test::WWW::Mechanize::PSGI=HASH(0x5598528e61f0), "/wishlist?baz") called at t/03_mech.t line 87
Do not use HTTP::Session2::ClientStore. Use HTTP::Session2::ServerStore or HTTP::Session2::ClientStore2 instead. at /tmp/loop_over_bdir-2070-HtePjb/HTTP-Session2-1.10-0/blib/lib/HTTP/Session2/ClientStore.pm line 35.
Secret string too short at /tmp/loop_over_bdir-2070-HtePjb/HTTP-Session2-1.10-0/blib/lib/HTTP/Session2/Base.pm line 79.
	HTTP::Session2::Base::__ANON__(HTTP::Session2::ClientStore=HASH(0x5598528ffe40), "s3cret") called at t/03_mech.t line 127
	main::client_session(HASH(0x559852769c38)) called at t/03_mech.t line 17
	main::__ANON__(HASH(0x559852769c38)) called at /home/sand/src/perl/repoperls/installed-perls/host/k93focal/v5.34.3/d3e4/lib/site_perl/5.34.3/Test/WWW/Mechanize/PSGI.pm line 46
	Test::WWW::Mechanize::PSGI::try {...} () called at /home/sand/src/perl/repoperls/installed-perls/host/k93focal/v5.34.3/d3e4/lib/site_perl/5.34.3/Try/Tiny.pm line 102
	eval {...} called at /home/sand/src/perl/repoperls/installed-perls/host/k93focal/v5.34.3/d3e4/lib/site_perl/5.34.3/Try/Tiny.pm line 93
	Try::Tiny::try(CODE(0x5598528e6700), Try::Tiny::Catch=REF(0x5598528ffe70)) called at /home/sand/src/perl/repoperls/installed-perls/host/k93focal/v5.34.3/d3e4/lib/site_perl/5.34.3/Test/WWW/Mechanize/PSGI.pm line 53
	Test::WWW::Mechanize::PSGI::simple_request(Test::WWW::Mechanize::PSGI=HASH(0x5598528e61f0), HTTP::Request=HASH(0x5598528ed388), undef, undef) called at /home/sand/src/perl/repoperls/installed-perls/host/k93focal/v5.34.3/d3e4/lib/site_perl/5.34.3/LWP/UserAgent.pm line 308
	LWP::UserAgent::request(Test::WWW::Mechanize::PSGI=HASH(0x5598528e61f0), HTTP::Request=HASH(0x5598528ed388)) called at /home/sand/src/perl/repoperls/installed-perls/host/k93focal/v5.34.3/d3e4/lib/site_perl/5.34.3/WWW/Mechanize.pm line 1697
	WWW::Mechanize::_make_request(Test::WWW::Mechanize::PSGI=HASH(0x5598528e61f0), HTTP::Request=HASH(0x5598528ed388)) called at /home/sand/src/perl/repoperls/installed-perls/host/k93focal/v5.34.3/d3e4/lib/site_perl/5.34.3/WWW/Mechanize.pm line 1532
	WWW::Mechanize::request(Test::WWW::Mechanize::PSGI=HASH(0x5598528e61f0), HTTP::Request=HASH(0x5598528ed388)) called at /home/sand/src/perl/repoperls/installed-perls/host/k93focal/v5.34.3/d3e4/lib/site_perl/5.34.3/LWP/UserAgent.pm line 498
	LWP::UserAgent::post(Test::WWW::Mechanize::PSGI=HASH(0x5598528e61f0), "http://localhost/wishlist?baz", HASH(0x55985243a218)) called at /home/sand/src/perl/repoperls/installed-perls/host/k93focal/v5.34.3/d3e4/lib/site_perl/5.34.3/WWW/Mechanize.pm line 136
	WWW::Mechanize::post(Test::WWW::Mechanize::PSGI=HASH(0x5598528e61f0), "/wishlist?baz", HASH(0x55985243a218)) called at /home/sand/src/perl/repoperls/installed-perls/host/k93focal/v5.34.3/d3e4/lib/site_perl/5.34.3/Test/WWW/Mechanize.pm line 321
	Test::WWW::Mechanize::post_ok(Test::WWW::Mechanize::PSGI=HASH(0x5598528e61f0), "/wishlist?baz") called at t/03_mech.t line 90
Do not use HTTP::Session2::ClientStore. Use HTTP::Session2::ServerStore or HTTP::Session2::ClientStore2 instead. at /tmp/loop_over_bdir-2070-HtePjb/HTTP-Session2-1.10-0/blib/lib/HTTP/Session2/ClientStore.pm line 35.
Do not use HTTP::Session2::ClientStore. Use HTTP::Session2::ServerStore or HTTP::Session2::ClientStore2 instead. at /tmp/loop_over_bdir-2070-HtePjb/HTTP-Session2-1.10-0/blib/lib/HTTP/Session2/ClientStore.pm line 25.
Secret string too short at /tmp/loop_over_bdir-2070-HtePjb/HTTP-Session2-1.10-0/blib/lib/HTTP/Session2/Base.pm line 79.
	HTTP::Session2::Base::__ANON__(HTTP::Session2::ClientStore=HASH(0x5598528e6508), "s3cret") called at t/03_mech.t line 127
	main::client_session(HASH(0x5598528ffe40)) called at t/03_mech.t line 17
	main::__ANON__(HASH(0x5598528ffe40)) called at /home/sand/src/perl/repoperls/installed-perls/host/k93focal/v5.34.3/d3e4/lib/site_perl/5.34.3/Test/WWW/Mechanize/PSGI.pm line 46
	Test::WWW::Mechanize::PSGI::try {...} () called at /home/sand/src/perl/repoperls/installed-perls/host/k93focal/v5.34.3/d3e4/lib/site_perl/5.34.3/Try/Tiny.pm line 102
	eval {...} called at /home/sand/src/perl/repoperls/installed-perls/host/k93focal/v5.34.3/d3e4/lib/site_perl/5.34.3/Try/Tiny.pm line 93
	Try::Tiny::try(CODE(0x5598528ff8e8), Try::Tiny::Catch=REF(0x559852900458)) called at /home/sand/src/perl/repoperls/installed-perls/host/k93focal/v5.34.3/d3e4/lib/site_perl/5.34.3/Test/WWW/Mechanize/PSGI.pm line 53
	Test::WWW::Mechanize::PSGI::simple_request(Test::WWW::Mechanize::PSGI=HASH(0x5598528e61f0), HTTP::Request=HASH(0x5598528ed5f8), undef, undef) called at /home/sand/src/perl/repoperls/installed-perls/host/k93focal/v5.34.3/d3e4/lib/site_perl/5.34.3/LWP/UserAgent.pm line 308
	LWP::UserAgent::request(Test::WWW::Mechanize::PSGI=HASH(0x5598528e61f0), HTTP::Request=HASH(0x5598528ed5f8)) called at /home/sand/src/perl/repoperls/installed-perls/host/k93focal/v5.34.3/d3e4/lib/site_perl/5.34.3/WWW/Mechanize.pm line 1697
	WWW::Mechanize::_make_request(Test::WWW::Mechanize::PSGI=HASH(0x5598528e61f0), HTTP::Request=HASH(0x5598528ed5f8)) called at /home/sand/src/perl/repoperls/installed-perls/host/k93focal/v5.34.3/d3e4/lib/site_perl/5.34.3/WWW/Mechanize.pm line 1532
	WWW::Mechanize::request(Test::WWW::Mechanize::PSGI=HASH(0x5598528e61f0), HTTP::Request=HASH(0x5598528ed5f8)) called at /home/sand/src/perl/repoperls/installed-perls/host/k93focal/v5.34.3/d3e4/lib/site_perl/5.34.3/LWP/UserAgent.pm line 452
	LWP::UserAgent::get(Test::WWW::Mechanize::PSGI=HASH(0x5598528e61f0), "http://localhost/wishlist") called at /home/sand/src/perl/repoperls/installed-perls/host/k93focal/v5.34.3/d3e4/lib/site_perl/5.34.3/WWW/Mechanize.pm line 124
	WWW::Mechanize::get(Test::WWW::Mechanize::PSGI=HASH(0x5598528e61f0), "/wishlist") called at /home/sand/src/perl/repoperls/installed-perls/host/k93focal/v5.34.3/d3e4/lib/site_perl/5.34.3/Test/WWW/Mechanize.pm line 192
	Test::WWW::Mechanize::get_ok(Test::WWW::Mechanize::PSGI=HASH(0x5598528e61f0), "/wishlist", "Wishlist is still available") called at t/03_mech.t line 91
Do not use HTTP::Session2::ClientStore. Use HTTP::Session2::ServerStore or HTTP::Session2::ClientStore2 instead. at /tmp/loop_over_bdir-2070-HtePjb/HTTP-Session2-1.10-0/blib/lib/HTTP/Session2/ClientStore.pm line 35.
Secret string too short at /tmp/loop_over_bdir-2070-HtePjb/HTTP-Session2-1.10-0/blib/lib/HTTP/Session2/Base.pm line 79.
	HTTP::Session2::Base::__ANON__(HTTP::Session2::ClientStore=HASH(0x559852911d18), "s3cret") called at t/03_mech.t line 127
	main::client_session(HASH(0x5598528e6508)) called at t/03_mech.t line 17
	main::__ANON__(HASH(0x5598528e6508)) called at /home/sand/src/perl/repoperls/installed-perls/host/k93focal/v5.34.3/d3e4/lib/site_perl/5.34.3/Test/WWW/Mechanize/PSGI.pm line 46
	Test::WWW::Mechanize::PSGI::try {...} () called at /home/sand/src/perl/repoperls/installed-perls/host/k93focal/v5.34.3/d3e4/lib/site_perl/5.34.3/Try/Tiny.pm line 102
	eval {...} called at /home/sand/src/perl/repoperls/installed-perls/host/k93focal/v5.34.3/d3e4/lib/site_perl/5.34.3/Try/Tiny.pm line 93
	Try::Tiny::try(CODE(0x559852909380), Try::Tiny::Catch=REF(0x559852909740)) called at /home/sand/src/perl/repoperls/installed-perls/host/k93focal/v5.34.3/d3e4/lib/site_perl/5.34.3/Test/WWW/Mechanize/PSGI.pm line 53
	Test::WWW::Mechanize::PSGI::simple_request(Test::WWW::Mechanize::PSGI=HASH(0x5598528e61f0), HTTP::Request=HASH(0x5598529098f0), undef, undef) called at /home/sand/src/perl/repoperls/installed-perls/host/k93focal/v5.34.3/d3e4/lib/site_perl/5.34.3/LWP/UserAgent.pm line 308
	LWP::UserAgent::request(Test::WWW::Mechanize::PSGI=HASH(0x5598528e61f0), HTTP::Request=HASH(0x5598529098f0)) called at /home/sand/src/perl/repoperls/installed-perls/host/k93focal/v5.34.3/d3e4/lib/site_perl/5.34.3/WWW/Mechanize.pm line 1697
	WWW::Mechanize::_make_request(Test::WWW::Mechanize::PSGI=HASH(0x5598528e61f0), HTTP::Request=HASH(0x5598529098f0)) called at /home/sand/src/perl/repoperls/installed-perls/host/k93focal/v5.34.3/d3e4/lib/site_perl/5.34.3/WWW/Mechanize.pm line 1532
	WWW::Mechanize::request(Test::WWW::Mechanize::PSGI=HASH(0x5598528e61f0), HTTP::Request=HASH(0x5598529098f0)) called at /home/sand/src/perl/repoperls/installed-perls/host/k93focal/v5.34.3/d3e4/lib/site_perl/5.34.3/LWP/UserAgent.pm line 452
	LWP::UserAgent::get(Test::WWW::Mechanize::PSGI=HASH(0x5598528e61f0), "http://localhost/my/name") called at /home/sand/src/perl/repoperls/installed-perls/host/k93focal/v5.34.3/d3e4/lib/site_perl/5.34.3/WWW/Mechanize.pm line 124
	WWW::Mechanize::get(Test::WWW::Mechanize::PSGI=HASH(0x5598528e61f0), "/my/name") called at /home/sand/src/perl/repoperls/installed-perls/host/k93focal/v5.34.3/d3e4/lib/site_perl/5.34.3/Test/WWW/Mechanize.pm line 192
	Test::WWW::Mechanize::get_ok(Test::WWW::Mechanize::PSGI=HASH(0x5598528e61f0), "/my/name") called at t/03_mech.t line 93
Do not use HTTP::Session2::ClientStore. Use HTTP::Session2::ServerStore or HTTP::Session2::ClientStore2 instead. at /tmp/loop_over_bdir-2070-HtePjb/HTTP-Session2-1.10-0/blib/lib/HTTP/Session2/ClientStore.pm line 35.
Secret string too short at /tmp/loop_over_bdir-2070-HtePjb/HTTP-Session2-1.10-0/blib/lib/HTTP/Session2/Base.pm line 79.
	HTTP::Session2::Base::__ANON__(HTTP::Session2::ClientStore=HASH(0x559852909080), "s3cret") called at t/03_mech.t line 127
	main::client_session(HASH(0x559852900230)) called at t/03_mech.t line 17
	main::__ANON__(HASH(0x559852900230)) called at /home/sand/src/perl/repoperls/installed-perls/host/k93focal/v5.34.3/d3e4/lib/site_perl/5.34.3/Test/WWW/Mechanize/PSGI.pm line 46
	Test::WWW::Mechanize::PSGI::try {...} () called at /home/sand/src/perl/repoperls/installed-perls/host/k93focal/v5.34.3/d3e4/lib/site_perl/5.34.3/Try/Tiny.pm line 102
	eval {...} called at /home/sand/src/perl/repoperls/installed-perls/host/k93focal/v5.34.3/d3e4/lib/site_perl/5.34.3/Try/Tiny.pm line 93
	Try::Tiny::try(CODE(0x559852912210), Try::Tiny::Catch=REF(0x559852909bf0)) called at /home/sand/src/perl/repoperls/installed-perls/host/k93focal/v5.34.3/d3e4/lib/site_perl/5.34.3/Test/WWW/Mechanize/PSGI.pm line 53
	Test::WWW::Mechanize::PSGI::simple_request(Test::WWW::Mechanize::PSGI=HASH(0x5598528e61f0), HTTP::Request=HASH(0x559852905260), undef, undef) called at /home/sand/src/perl/repoperls/installed-perls/host/k93focal/v5.34.3/d3e4/lib/site_perl/5.34.3/LWP/UserAgent.pm line 308
	LWP::UserAgent::request(Test::WWW::Mechanize::PSGI=HASH(0x5598528e61f0), HTTP::Request=HASH(0x559852905260)) called at /home/sand/src/perl/repoperls/installed-perls/host/k93focal/v5.34.3/d3e4/lib/site_perl/5.34.3/WWW/Mechanize.pm line 1697
	WWW::Mechanize::_make_request(Test::WWW::Mechanize::PSGI=HASH(0x5598528e61f0), HTTP::Request=HASH(0x559852905260)) called at /home/sand/src/perl/repoperls/installed-perls/host/k93focal/v5.34.3/d3e4/lib/site_perl/5.34.3/WWW/Mechanize.pm line 1532
	WWW::Mechanize::request(Test::WWW::Mechanize::PSGI=HASH(0x5598528e61f0), HTTP::Request=HASH(0x559852905260)) called at /home/sand/src/perl/repoperls/installed-perls/host/k93focal/v5.34.3/d3e4/lib/site_perl/5.34.3/LWP/UserAgent.pm line 498
	LWP::UserAgent::post(Test::WWW::Mechanize::PSGI=HASH(0x5598528e61f0), "http://localhost/account/logout?john") called at /home/sand/src/perl/repoperls/installed-perls/host/k93focal/v5.34.3/d3e4/lib/site_perl/5.34.3/WWW/Mechanize.pm line 136
	WWW::Mechanize::post(Test::WWW::Mechanize::PSGI=HASH(0x5598528e61f0), "/account/logout?john") called at t/03_mech.t line 97
Do not use HTTP::Session2::ClientStore. Use HTTP::Session2::ServerStore or HTTP::Session2::ClientStore2 instead. at /tmp/loop_over_bdir-2070-HtePjb/HTTP-Session2-1.10-0/blib/lib/HTTP/Session2/ClientStore.pm line 35.
Do not use HTTP::Session2::ClientStore. Use HTTP::Session2::ServerStore or HTTP::Session2::ClientStore2 instead. at /tmp/loop_over_bdir-2070-HtePjb/HTTP-Session2-1.10-0/blib/lib/HTTP/Session2/ClientStore.pm line 35.
t/03_mech.t ................. ok
Do not use HTTP::Session2::ClientStore. Use HTTP::Session2::ServerStore or HTTP::Session2::ClientStore2 instead. at /tmp/loop_over_bdir-2070-HtePjb/HTTP-Session2-1.10-0/blib/lib/HTTP/Session2/ClientStore.pm line 25.
t/04_plack_response.t ....... ok
Secret string too short at /tmp/loop_over_bdir-2070-HtePjb/HTTP-Session2-1.10-0/blib/lib/HTTP/Session2/Base.pm line 79.
	HTTP::Session2::Base::__ANON__(HTTP::Session2::ClientStore=HASH(0x555f741d5bf0), "s3cret") called at t/05_keep_me_signed_in.t line 20
Do not use HTTP::Session2::ClientStore. Use HTTP::Session2::ServerStore or HTTP::Session2::ClientStore2 instead. at /tmp/loop_over_bdir-2070-HtePjb/HTTP-Session2-1.10-0/blib/lib/HTTP/Session2/ClientStore.pm line 25.
t/05_keep_me_signed_in.t .... ok
Secret string too short at /tmp/loop_over_bdir-2070-HtePjb/HTTP-Session2-1.10-0/blib/lib/HTTP/Session2/Base.pm line 79.
	HTTP::Session2::Base::__ANON__(HTTP::Session2::Base=HASH(0x557928bb3748), "i am secret") called at t/06_base_abstract.t line 7
t/06_base_abstract.t ........ ok
Secret string too short at /tmp/loop_over_bdir-2070-HtePjb/HTTP-Session2-1.10-0/blib/lib/HTTP/Session2/Base.pm line 79.
	HTTP::Session2::Base::__ANON__(HTTP::Session2::ClientStore=HASH(0x5651d636b7f0), "secret") called at t/07_client_store.t line 23
	main::__ANON__() called at /home/sand/src/perl/repoperls/installed-perls/host/k93focal/v5.34.3/d3e4/lib/site_perl/5.34.3/Test/Builder.pm line 374
	eval {...} called at /home/sand/src/perl/repoperls/installed-perls/host/k93focal/v5.34.3/d3e4/lib/site_perl/5.34.3/Test/Builder.pm line 374
	Test::Builder::subtest(Test::Builder=HASH(0x5651d5553eb0), "get/set/remove", CODE(0x5651d5c076f0)) called at /home/sand/src/perl/repoperls/installed-perls/host/k93focal/v5.34.3/d3e4/lib/site_perl/5.34.3/Test/More.pm line 831
	Test::More::subtest("get/set/remove", CODE(0x5651d5c076f0)) called at t/07_client_store.t line 31
Secret string too short at /tmp/loop_over_bdir-2070-HtePjb/HTTP-Session2-1.10-0/blib/lib/HTTP/Session2/Base.pm line 79.
	HTTP::Session2::Base::__ANON__(HTTP::Session2::ClientStore=HASH(0x5651d636b250), "secret") called at t/07_client_store.t line 35
	main::__ANON__() called at /home/sand/src/perl/repoperls/installed-perls/host/k93focal/v5.34.3/d3e4/lib/site_perl/5.34.3/Test/Builder.pm line 374
	eval {...} called at /home/sand/src/perl/repoperls/installed-perls/host/k93focal/v5.34.3/d3e4/lib/site_perl/5.34.3/Test/Builder.pm line 374
	Test::Builder::subtest(Test::Builder=HASH(0x5651d5553eb0), "validate_token", CODE(0x5651d5c07a50)) called at /home/sand/src/perl/repoperls/installed-perls/host/k93focal/v5.34.3/d3e4/lib/site_perl/5.34.3/Test/More.pm line 831
	Test::More::subtest("validate_token", CODE(0x5651d5c07a50)) called at t/07_client_store.t line 71
Do not use HTTP::Session2::ClientStore. Use HTTP::Session2::ServerStore or HTTP::Session2::ClientStore2 instead. at /tmp/loop_over_bdir-2070-HtePjb/HTTP-Session2-1.10-0/blib/lib/HTTP/Session2/ClientStore.pm line 25.
Secret string too short at /tmp/loop_over_bdir-2070-HtePjb/HTTP-Session2-1.10-0/blib/lib/HTTP/Session2/Base.pm line 79.
	HTTP::Session2::Base::__ANON__(HTTP::Session2::ClientStore=HASH(0x5651d63754a0), "secret") called at t/07_client_store.t line 51
	main::__ANON__() called at /home/sand/src/perl/repoperls/installed-perls/host/k93focal/v5.34.3/d3e4/lib/site_perl/5.34.3/Test/Builder.pm line 374
	eval {...} called at /home/sand/src/perl/repoperls/installed-perls/host/k93focal/v5.34.3/d3e4/lib/site_perl/5.34.3/Test/Builder.pm line 374
	Test::Builder::subtest(Test::Builder=HASH(0x5651d5553eb0), "bad", CODE(0x5651d6378ba8)) called at /home/sand/src/perl/repoperls/installed-perls/host/k93focal/v5.34.3/d3e4/lib/site_perl/5.34.3/Test/More.pm line 831
	Test::More::subtest("bad", CODE(0x5651d6378ba8)) called at t/07_client_store.t line 57
	main::__ANON__() called at /home/sand/src/perl/repoperls/installed-perls/host/k93focal/v5.34.3/d3e4/lib/site_perl/5.34.3/Test/Builder.pm line 374
	eval {...} called at /home/sand/src/perl/repoperls/installed-perls/host/k93focal/v5.34.3/d3e4/lib/site_perl/5.34.3/Test/Builder.pm line 374
	Test::Builder::subtest(Test::Builder=HASH(0x5651d5553eb0), "validate_token", CODE(0x5651d5c07a50)) called at /home/sand/src/perl/repoperls/installed-perls/host/k93focal/v5.34.3/d3e4/lib/site_perl/5.34.3/Test/More.pm line 831
	Test::More::subtest("validate_token", CODE(0x5651d5c07a50)) called at t/07_client_store.t line 71
Do not use HTTP::Session2::ClientStore. Use HTTP::Session2::ServerStore or HTTP::Session2::ClientStore2 instead. at /tmp/loop_over_bdir-2070-HtePjb/HTTP-Session2-1.10-0/blib/lib/HTTP/Session2/ClientStore.pm line 35.
Secret string too short at /tmp/loop_over_bdir-2070-HtePjb/HTTP-Session2-1.10-0/blib/lib/HTTP/Session2/Base.pm line 79.
	HTTP::Session2::Base::__ANON__(HTTP::Session2::ClientStore=HASH(0x5651d637b9f0), "secret") called at t/07_client_store.t line 65
	main::__ANON__() called at /home/sand/src/perl/repoperls/installed-perls/host/k93focal/v5.34.3/d3e4/lib/site_perl/5.34.3/Test/Builder.pm line 374
	eval {...} called at /home/sand/src/perl/repoperls/installed-perls/host/k93focal/v5.34.3/d3e4/lib/site_perl/5.34.3/Test/Builder.pm line 374
	Test::Builder::subtest(Test::Builder=HASH(0x5651d5553eb0), "good", CODE(0x5651d6378ba8)) called at /home/sand/src/perl/repoperls/installed-perls/host/k93focal/v5.34.3/d3e4/lib/site_perl/5.34.3/Test/More.pm line 831
	Test::More::subtest("good", CODE(0x5651d6378ba8)) called at t/07_client_store.t line 70
	main::__ANON__() called at /home/sand/src/perl/repoperls/installed-perls/host/k93focal/v5.34.3/d3e4/lib/site_perl/5.34.3/Test/Builder.pm line 374
	eval {...} called at /home/sand/src/perl/repoperls/installed-perls/host/k93focal/v5.34.3/d3e4/lib/site_perl/5.34.3/Test/Builder.pm line 374
	Test::Builder::subtest(Test::Builder=HASH(0x5651d5553eb0), "validate_token", CODE(0x5651d5c07a50)) called at /home/sand/src/perl/repoperls/installed-perls/host/k93focal/v5.34.3/d3e4/lib/site_perl/5.34.3/Test/More.pm line 831
	Test::More::subtest("validate_token", CODE(0x5651d5c07a50)) called at t/07_client_store.t line 71
Do not use HTTP::Session2::ClientStore. Use HTTP::Session2::ServerStore or HTTP::Session2::ClientStore2 instead. at /tmp/loop_over_bdir-2070-HtePjb/HTTP-Session2-1.10-0/blib/lib/HTTP/Session2/ClientStore.pm line 35.
Secret string too short at /tmp/loop_over_bdir-2070-HtePjb/HTTP-Session2-1.10-0/blib/lib/HTTP/Session2/Base.pm line 79.
	HTTP::Session2::Base::__ANON__(HTTP::Session2::ClientStore=HASH(0x5651d552bb48), "secret") called at t/07_client_store.t line 76
	main::__ANON__() called at /home/sand/src/perl/repoperls/installed-perls/host/k93focal/v5.34.3/d3e4/lib/site_perl/5.34.3/Test/Builder.pm line 374
	eval {...} called at /home/sand/src/perl/repoperls/installed-perls/host/k93focal/v5.34.3/d3e4/lib/site_perl/5.34.3/Test/Builder.pm line 374
	Test::Builder::subtest(Test::Builder=HASH(0x5651d5553eb0), "ignore_old", CODE(0x5651d5c080e0)) called at /home/sand/src/perl/repoperls/installed-perls/host/k93focal/v5.34.3/d3e4/lib/site_perl/5.34.3/Test/More.pm line 831
	Test::More::subtest("ignore_old", CODE(0x5651d5c080e0)) called at t/07_client_store.t line 106
Do not use HTTP::Session2::ClientStore. Use HTTP::Session2::ServerStore or HTTP::Session2::ClientStore2 instead. at /tmp/loop_over_bdir-2070-HtePjb/HTTP-Session2-1.10-0/blib/lib/HTTP/Session2/ClientStore.pm line 25.
Secret string too short at /tmp/loop_over_bdir-2070-HtePjb/HTTP-Session2-1.10-0/blib/lib/HTTP/Session2/Base.pm line 79.
	HTTP::Session2::Base::__ANON__(HTTP::Session2::ClientStore=HASH(0x5651d637b390), "secret") called at t/07_client_store.t line 87
	main::__ANON__() called at /home/sand/src/perl/repoperls/installed-perls/host/k93focal/v5.34.3/d3e4/lib/site_perl/5.34.3/Test/Builder.pm line 374
	eval {...} called at /home/sand/src/perl/repoperls/installed-perls/host/k93focal/v5.34.3/d3e4/lib/site_perl/5.34.3/Test/Builder.pm line 374
	Test::Builder::subtest(Test::Builder=HASH(0x5651d5553eb0), "ignore_old disabled", CODE(0x5651d637bc30)) called at /home/sand/src/perl/repoperls/installed-perls/host/k93focal/v5.34.3/d3e4/lib/site_perl/5.34.3/Test/More.pm line 831
	Test::More::subtest("ignore_old disabled", CODE(0x5651d637bc30)) called at t/07_client_store.t line 95
	main::__ANON__() called at /home/sand/src/perl/repoperls/installed-perls/host/k93focal/v5.34.3/d3e4/lib/site_perl/5.34.3/Test/Builder.pm line 374
	eval {...} called at /home/sand/src/perl/repoperls/installed-perls/host/k93focal/v5.34.3/d3e4/lib/site_perl/5.34.3/Test/Builder.pm line 374
	Test::Builder::subtest(Test::Builder=HASH(0x5651d5553eb0), "ignore_old", CODE(0x5651d5c080e0)) called at /home/sand/src/perl/repoperls/installed-perls/host/k93focal/v5.34.3/d3e4/lib/site_perl/5.34.3/Test/More.pm line 831
	Test::More::subtest("ignore_old", CODE(0x5651d5c080e0)) called at t/07_client_store.t line 106
Do not use HTTP::Session2::ClientStore. Use HTTP::Session2::ServerStore or HTTP::Session2::ClientStore2 instead. at /tmp/loop_over_bdir-2070-HtePjb/HTTP-Session2-1.10-0/blib/lib/HTTP/Session2/ClientStore.pm line 35.
Secret string too short at /tmp/loop_over_bdir-2070-HtePjb/HTTP-Session2-1.10-0/blib/lib/HTTP/Session2/Base.pm line 79.
	HTTP::Session2::Base::__ANON__(HTTP::Session2::ClientStore=HASH(0x5651d6384028), "secret") called at t/07_client_store.t line 97
	main::__ANON__() called at /home/sand/src/perl/repoperls/installed-perls/host/k93focal/v5.34.3/d3e4/lib/site_perl/5.34.3/Test/Builder.pm line 374
	eval {...} called at /home/sand/src/perl/repoperls/installed-perls/host/k93focal/v5.34.3/d3e4/lib/site_perl/5.34.3/Test/Builder.pm line 374
	Test::Builder::subtest(Test::Builder=HASH(0x5651d5553eb0), "ignore_old enabled", CODE(0x5651d637bc30)) called at /home/sand/src/perl/repoperls/installed-perls/host/k93focal/v5.34.3/d3e4/lib/site_perl/5.34.3/Test/More.pm line 831
	Test::More::subtest("ignore_old enabled", CODE(0x5651d637bc30)) called at t/07_client_store.t line 105
	main::__ANON__() called at /home/sand/src/perl/repoperls/installed-perls/host/k93focal/v5.34.3/d3e4/lib/site_perl/5.34.3/Test/Builder.pm line 374
	eval {...} called at /home/sand/src/perl/repoperls/installed-perls/host/k93focal/v5.34.3/d3e4/lib/site_perl/5.34.3/Test/Builder.pm line 374
	Test::Builder::subtest(Test::Builder=HASH(0x5651d5553eb0), "ignore_old", CODE(0x5651d5c080e0)) called at /home/sand/src/perl/repoperls/installed-perls/host/k93focal/v5.34.3/d3e4/lib/site_perl/5.34.3/Test/More.pm line 831
	Test::More::subtest("ignore_old", CODE(0x5651d5c080e0)) called at t/07_client_store.t line 106
t/07_client_store.t ......... ok
Secret string too short at /tmp/loop_over_bdir-2070-HtePjb/HTTP-Session2-1.10-0/blib/lib/HTTP/Session2/Base.pm line 79.
	HTTP::Session2::Base::__ANON__(HTTP::Session2::Expired=HASH(0x55ce96bae580), 33333) called at t/08_expired.t line 7
t/08_expired.t .............. ok
# /dev/urandom available
# /dev/urandom(1): GPrM8yyURQR8wyG6oCuaVGpC0SLnoj2
# /dev/urandom(2): RUHe-4p0TB1weNAFlB9rjCbPsKw4FTk
# perl:            5774e6651648ff692bb29f7a0b57cb8
t/09_random.t ............... ok
t/11_secret_string.t ........ ok
Secret string too short at /tmp/loop_over_bdir-2070-HtePjb/HTTP-Session2-1.10-0/blib/lib/HTTP/Session2/Base.pm line 79.
	HTTP::Session2::Base::__ANON__(HTTP::Session2::ClientStore2=HASH(0x55c7cefddb20), "s3cret") called at t/client_store2/01_basic.t line 24
	main::__ANON__("client -> server: request without cookie", CODE(0x55c7cefdd520)) called at t/client_store2/01_basic.t line 30
	main::__ANON__() called at /home/sand/src/perl/repoperls/installed-perls/host/k93focal/v5.34.3/d3e4/lib/site_perl/5.34.3/Test/Builder.pm line 374
	eval {...} called at /home/sand/src/perl/repoperls/installed-perls/host/k93focal/v5.34.3/d3e4/lib/site_perl/5.34.3/Test/Builder.pm line 374
	Test::Builder::subtest(Test::Builder=HASH(0x55c7ce4cc700), "First request", CODE(0x55c7ce47e4b8)) called at /home/sand/src/perl/repoperls/installed-perls/host/k93focal/v5.34.3/d3e4/lib/site_perl/5.34.3/Test/More.pm line 831
	Test::More::subtest("First request", CODE(0x55c7ce47e4b8)) called at t/client_store2/01_basic.t line 9
	main::scenario("First request", CODE(0x55c7ce47e4b8)) called at t/client_store2/01_basic.t line 36
Secret string too short at /tmp/loop_over_bdir-2070-HtePjb/HTTP-Session2-1.10-0/blib/lib/HTTP/Session2/Base.pm line 79.
	HTTP::Session2::Base::__ANON__(HTTP::Session2::ClientStore2=HASH(0x55c7cefdcf08), "s3cret") called at t/client_store2/01_basic.t line 41
	main::__ANON__("client -> server: request without cookie", CODE(0x55c7cefe2c90)) called at t/client_store2/01_basic.t line 47
	main::__ANON__() called at /home/sand/src/perl/repoperls/installed-perls/host/k93focal/v5.34.3/d3e4/lib/site_perl/5.34.3/Test/Builder.pm line 374
	eval {...} called at /home/sand/src/perl/repoperls/installed-perls/host/k93focal/v5.34.3/d3e4/lib/site_perl/5.34.3/Test/Builder.pm line 374
	Test::Builder::subtest(Test::Builder=HASH(0x55c7ce4cc700), "Store something without login", CODE(0x55c7ce47e4b8)) called at /home/sand/src/perl/repoperls/installed-perls/host/k93focal/v5.34.3/d3e4/lib/site_perl/5.34.3/Test/More.pm line 831
	Test::More::subtest("Store something without login", CODE(0x55c7ce47e4b8)) called at t/client_store2/01_basic.t line 9
	main::scenario("Store something without login", CODE(0x55c7ce47e4b8)) called at t/client_store2/01_basic.t line 63
WARNING: The key derivation method "opensslv1" is deprecated. Using -pbkdf=>'pbkdf2' would be better.
Pass -nodeprecate=>1 to inhibit this message.
 at /tmp/loop_over_bdir-2070-HtePjb/HTTP-Session2-1.10-0/blib/lib/HTTP/Session2/ClientStore2.pm line 177.
Secret string too short at /tmp/loop_over_bdir-2070-HtePjb/HTTP-Session2-1.10-0/blib/lib/HTTP/Session2/Base.pm line 79.
	HTTP::Session2::Base::__ANON__(HTTP::Session2::ClientStore2=HASH(0x55c7cefebb08), "s3cret") called at t/client_store2/01_basic.t line 69
	main::__ANON__("client -> server: request without cookie", CODE(0x55c7cefe25a0)) called at t/client_store2/01_basic.t line 76
	main::__ANON__() called at /home/sand/src/perl/repoperls/installed-perls/host/k93focal/v5.34.3/d3e4/lib/site_perl/5.34.3/Test/Builder.pm line 374
	eval {...} called at /home/sand/src/perl/repoperls/installed-perls/host/k93focal/v5.34.3/d3e4/lib/site_perl/5.34.3/Test/Builder.pm line 374
	Test::Builder::subtest(Test::Builder=HASH(0x55c7ce4cc700), "Login", CODE(0x55c7ce47e4b8)) called at /home/sand/src/perl/repoperls/installed-perls/host/k93focal/v5.34.3/d3e4/lib/site_perl/5.34.3/Test/More.pm line 831
	Test::More::subtest("Login", CODE(0x55c7ce47e4b8)) called at t/client_store2/01_basic.t line 9
	main::scenario("Login", CODE(0x55c7ce47e4b8)) called at t/client_store2/01_basic.t line 96
Ciphertext does not begin with a valid header for 'salt' header mode at /tmp/loop_over_bdir-2070-HtePjb/HTTP-Session2-1.10-0/blib/lib/HTTP/Session2/ClientStore2.pm line 81.
Ciphertext does not begin with a valid header for 'salt' header mode at /tmp/loop_over_bdir-2070-HtePjb/HTTP-Session2-1.10-0/blib/lib/HTTP/Session2/ClientStore2.pm line 81.
WARNING: The key derivation method "opensslv1" is deprecated. Using -pbkdf=>'pbkdf2' would be better.
Pass -nodeprecate=>1 to inhibit this message.
 at /tmp/loop_over_bdir-2070-HtePjb/HTTP-Session2-1.10-0/blib/lib/HTTP/Session2/ClientStore2.pm line 177.
Secret string too short at /tmp/loop_over_bdir-2070-HtePjb/HTTP-Session2-1.10-0/blib/lib/HTTP/Session2/Base.pm line 79.
	HTTP::Session2::Base::__ANON__(HTTP::Session2::ClientStore2=HASH(0x55c7cefdd958), "s3cret") called at t/client_store2/01_basic.t line 102
	main::__ANON__("client -> server: request without cookie", CODE(0x55c7cefec168)) called at t/client_store2/01_basic.t line 109
	main::__ANON__() called at /home/sand/src/perl/repoperls/installed-perls/host/k93focal/v5.34.3/d3e4/lib/site_perl/5.34.3/Test/Builder.pm line 374
	eval {...} called at /home/sand/src/perl/repoperls/installed-perls/host/k93focal/v5.34.3/d3e4/lib/site_perl/5.34.3/Test/Builder.pm line 374
	Test::Builder::subtest(Test::Builder=HASH(0x55c7ce4cc700), "In a login session", CODE(0x55c7ce47e4b8)) called at /home/sand/src/perl/repoperls/installed-perls/host/k93focal/v5.34.3/d3e4/lib/site_perl/5.34.3/Test/More.pm line 831
	Test::More::subtest("In a login session", CODE(0x55c7ce47e4b8)) called at t/client_store2/01_basic.t line 9
	main::scenario("In a login session", CODE(0x55c7ce47e4b8)) called at t/client_store2/01_basic.t line 118
Ciphertext does not begin with a valid header for 'salt' header mode at /tmp/loop_over_bdir-2070-HtePjb/HTTP-Session2-1.10-0/blib/lib/HTTP/Session2/ClientStore2.pm line 81.
WARNING: The key derivation method "opensslv1" is deprecated. Using -pbkdf=>'pbkdf2' would be better.
Pass -nodeprecate=>1 to inhibit this message.
 at /tmp/loop_over_bdir-2070-HtePjb/HTTP-Session2-1.10-0/blib/lib/HTTP/Session2/ClientStore2.pm line 177.
Secret string too short at /tmp/loop_over_bdir-2070-HtePjb/HTTP-Session2-1.10-0/blib/lib/HTTP/Session2/Base.pm line 79.
	HTTP::Session2::Base::__ANON__(HTTP::Session2::ClientStore2=HASH(0x55c7cefe2858), "s3cret") called at t/client_store2/01_basic.t line 123
	main::__ANON__("client -> server: request without cookie", CODE(0x55c7cefdd658)) called at t/client_store2/01_basic.t line 130
	main::__ANON__() called at /home/sand/src/perl/repoperls/installed-perls/host/k93focal/v5.34.3/d3e4/lib/site_perl/5.34.3/Test/Builder.pm line 374
	eval {...} called at /home/sand/src/perl/repoperls/installed-perls/host/k93focal/v5.34.3/d3e4/lib/site_perl/5.34.3/Test/Builder.pm line 374
	Test::Builder::subtest(Test::Builder=HASH(0x55c7ce4cc700), "Logout", CODE(0x55c7ce47e4b8)) called at /home/sand/src/perl/repoperls/installed-perls/host/k93focal/v5.34.3/d3e4/lib/site_perl/5.34.3/Test/More.pm line 831
	Test::More::subtest("Logout", CODE(0x55c7ce47e4b8)) called at t/client_store2/01_basic.t line 9
	main::scenario("Logout", CODE(0x55c7ce47e4b8)) called at t/client_store2/01_basic.t line 143
Ciphertext does not begin with a valid header for 'salt' header mode at /tmp/loop_over_bdir-2070-HtePjb/HTTP-Session2-1.10-0/blib/lib/HTTP/Session2/ClientStore2.pm line 81.
t/client_store2/01_basic.t .. ok
WARNING: The key derivation method "opensslv1" is deprecated. Using -pbkdf=>'pbkdf2' would be better.
Pass -nodeprecate=>1 to inhibit this message.
 at /tmp/loop_over_bdir-2070-HtePjb/HTTP-Session2-1.10-0/blib/lib/HTTP/Session2/ClientStore2.pm line 177.
WARNING: The key derivation method "opensslv1" is deprecated. Using -pbkdf=>'pbkdf2' would be better.
Pass -nodeprecate=>1 to inhibit this message.
 at /tmp/loop_over_bdir-2070-HtePjb/HTTP-Session2-1.10-0/blib/lib/HTTP/Session2/ClientStore2.pm line 177.
WARNING: The key derivation method "opensslv1" is deprecated. Using -pbkdf=>'pbkdf2' would be better.
Pass -nodeprecate=>1 to inhibit this message.
 at /tmp/loop_over_bdir-2070-HtePjb/HTTP-Session2-1.10-0/blib/lib/HTTP/Session2/ClientStore2.pm line 177.
t/client_store2/02_mech.t ... ok
WARNING: The key derivation method "opensslv1" is deprecated. Using -pbkdf=>'pbkdf2' would be better.
Pass -nodeprecate=>1 to inhibit this message.
 at /tmp/loop_over_bdir-2070-HtePjb/HTTP-Session2-1.10-0/blib/lib/HTTP/Session2/ClientStore2.pm line 177.
t/client_store2/03_colon.t .. ok
All tests successful.
Files=14, Tests=84, 16 wallclock secs ( 0.07 usr  0.02 sys +  2.06 cusr  0.62 csys =  2.77 CPU)
Result: PASS

------------------------------
PREREQUISITES
------------------------------

Prerequisite modules loaded:

requires:

    Module                     Need     Have    
    -------------------------- -------- --------
    Cookie::Baker              0        0.11    
    Crypt::CBC                 0        3.04    
    Data::MessagePack          0        1.02    
    Digest::HMAC               0        1.04    
    Digest::SHA                0        6.04    
    Digest::SHA1               0        2.13    
    MIME::Base64               3.11     3.16    
    Mouse                      0        v2.5.10 
    parent                     0        0.241   
    perl                       5.008005 5.034003
    Time::HiRes                0        1.9767  

build_requires:

    Module                     Need     Have    
    -------------------------- -------- --------
    Crypt::Rijndael            0        1.16    
    Plack::Request             0        1.0050  
    Plack::Response            0        1.0050  
    Test::More                 0.98     1.302198
    Test::WWW::Mechanize::PSGI 0        0.39    

configure_requires:

    Module                     Need     Have    
    -------------------------- -------- --------
    Module::Build::Tiny        0.035    0.047   


------------------------------
ENVIRONMENT AND OTHER CONTEXT
------------------------------

Environment variables:

    AUTOMATED_TESTING = 1
    LANG = en_US.UTF-8
    PATH = /home/sand/bin:/usr/local/bin:/usr/local/sbin:/usr/sbin:/usr/bin:/sbin:/bin:/usr/games:/usr/local/games:/snap/bin:/usr/local/perl/bin:/usr/X11/bin
    PERL = /tmp/basesmoker-reloperl-rGUl/bin/perl
    PERL5LIB = /tmp/loop_over_bdir-2070-HtePjb/Debian-Packages-0.03-0/blib/arch:/tmp/loop_over_bdir-2070-HtePjb/Debian-Packages-0.03-0/blib/lib:/tmp/loop_over_bdir-2070-HtePjb/ProjectBuilder-0.14.1-0/blib/arch:/tmp/loop_over_bdir-2070-HtePjb/ProjectBuilder-0.14.1-0/blib/lib:/tmp/loop_over_bdir-2070-HtePjb/Lemonldap-NG-Cli-0.2-0/blib/arch:/tmp/loop_over_bdir-2070-HtePjb/Lemonldap-NG-Cli-0.2-0/blib/lib:/tmp/loop_over_bdir-2070-HtePjb/LCFG-Build-Tools-0.9.30-0/blib/arch:/tmp/loop_over_bdir-2070-HtePjb/LCFG-Build-Tools-0.9.30-0/blib/lib:/tmp/loop_over_bdir-2070-HtePjb/App-oo_modulino_zsh_completion_helper-0.04-0/blib/arch:/tmp/loop_over_bdir-2070-HtePjb/App-oo_modulino_zsh_completion_helper-0.04-0/blib/lib:/tmp/loop_over_bdir-2070-HtePjb/Captive-Portal-4.10-0/blib/arch:/tmp/loop_over_bdir-2070-HtePjb/Captive-Portal-4.10-0/blib/lib:/tmp/loop_over_bdir-2070-HtePjb/Simulation-Automate-1.0.1-0/blib/arch:/tmp/loop_over_bdir-2070-HtePjb/Simulation-Automate-1.0.1-0/blib/lib:/tmp/loop_over_bdir-2070-HtePjb/CORBA-Python-2.66-0/blib/arch:/tmp/loop_over_bdir-2070-HtePjb/CORBA-Python-2.66-0/blib/lib:/tmp/loop_over_bdir-2070-HtePjb/NoZone-1.3-0/blib/arch:/tmp/loop_over_bdir-2070-HtePjb/NoZone-1.3-0/blib/lib:/tmp/loop_over_bdir-2070-HtePjb/Net-OpenVPN-DDNS-0.1-0/blib/arch:/tmp/loop_over_bdir-2070-HtePjb/Net-OpenVPN-DDNS-0.1-0/blib/lib:/tmp/loop_over_bdir-2070-HtePjb/CGI-Application-NetNewsIface-0.0204-0/blib/arch:/tmp/loop_over_bdir-2070-HtePjb/CGI-Application-NetNewsIface-0.0204-0/blib/lib:/tmp/loop_over_bdir-2070-HtePjb/LCFG-Build-Skeleton-0.5.0-0/blib/arch:/tmp/loop_over_bdir-2070-HtePjb/LCFG-Build-Skeleton-0.5.0-0/blib/lib:/tmp/loop_over_bdir-2070-HtePjb/Lingua-BioYaTeA-0.11-0/blib/arch:/tmp/loop_over_bdir-2070-HtePjb/Lingua-BioYaTeA-0.11-0/blib/lib:/tmp/loop_over_bdir-2070-HtePjb/Alien-SNMP-MIBDEV-2.020000-0/blib/arch:/tmp/loop_over_bdir-2070-HtePjb/Alien-SNMP-MIBDEV-2.020000-0/blib/lib:/tmp/loop_over_bdir-2070-HtePjb/RDF-NLP-SPARQLQuery-0.1-0/blib/arch:/tmp/loop_over_bdir-2070-HtePjb/RDF-NLP-SPARQLQuery-0.1-0/blib/lib:/tmp/loop_over_bdir-2070-HtePjb/DBIx-Migration-Directories-0.12-0/blib/arch:/tmp/loop_over_bdir-2070-HtePjb/DBIx-Migration-Directories-0.12-0/blib/lib:/tmp/loop_over_bdir-2070-HtePjb/MP3-PodcastFetch-1.05-0/blib/arch:/tmp/loop_over_bdir-2070-HtePjb/MP3-PodcastFetch-1.05-0/blib/lib:/tmp/loop_over_bdir-2070-HtePjb/App-nrun-v1.1.2-0/blib/arch:/tmp/loop_over_bdir-2070-HtePjb/App-nrun-v1.1.2-0/blib/lib:/tmp/loop_over_bdir-2070-HtePjb/Business-Shipping-DataFiles-1.02-0/blib/arch:/tmp/loop_over_bdir-2070-HtePjb/Business-Shipping-DataFiles-1.02-0/blib/lib:/tmp/loop_over_bdir-2070-HtePjb/downsexta-0/blib/arch:/tmp/loop_over_bdir-2070-HtePjb/downsexta-0/blib/lib:/tmp/loop_over_bdir-2070-HtePjb/Devel-Required-0.16-0/blib/arch:/tmp/loop_over_bdir-2070-HtePjb/Devel-Required-0.16-0/blib/lib:/tmp/loop_over_bdir-2070-HtePjb/Net-Async-WebService-lxd-0.03-0/blib/arch:/tmp/loop_over_bdir-2070-HtePjb/Net-Async-WebService-lxd-0.03-0/blib/lib:/tmp/loop_over_bdir-2070-HtePjb/AllKnowingDNS-1.7-0/blib/arch:/tmp/loop_over_bdir-2070-HtePjb/AllKnowingDNS-1.7-0/blib/lib:/tmp/loop_over_bdir-2070-HtePjb/perl-Hardware-UPS-Perl-0.43-0/blib/arch:/tmp/loop_over_bdir-2070-HtePjb/perl-Hardware-UPS-Perl-0.43-0/blib/lib:/tmp/loop_over_bdir-2070-HtePjb/Lingua-YaTeA-0.626-0/blib/arch:/tmp/loop_over_bdir-2070-HtePjb/Lingua-YaTeA-0.626-0/blib/lib:/tmp/loop_over_bdir-2070-HtePjb/Sysync-0.35-0/blib/arch:/tmp/loop_over_bdir-2070-HtePjb/Sysync-0.35-0/blib/lib:/tmp/loop_over_bdir-2070-HtePjb/mmds-1.902-0/blib/arch:/tmp/loop_over_bdir-2070-HtePjb/mmds-1.902-0/blib/lib:/tmp/loop_over_bdir-2070-HtePjb/Linux-InitFS-0.2-0/blib/arch:/tmp/loop_over_bdir-2070-HtePjb/Linux-InitFS-0.2-0/blib/lib:/tmp/loop_over_bdir-2070-HtePjb/Dpkg-1.22.2-0/blib/arch:/tmp/loop_over_bdir-2070-HtePjb/Dpkg-1.22.2-0/blib/lib:/tmp/loop_over_bdir-2070-HtePjb/App-rmcd-0.280-0/blib/arch:/tmp/loop_over_bdir-2070-HtePjb/App-rmcd-0.280-0/blib/lib:/tmp/loop_over_bdir-2070-HtePjb/triceps-2.1.0-0/blib/arch:/tmp/loop_over_bdir-2070-HtePjb/triceps-2.1.0-0/blib/lib:/tmp/loop_over_bdir-2070-HtePjb/dta-tokwrap-0.98-0/blib/arch:/tmp/loop_over_bdir-2070-HtePjb/dta-tokwrap-0.98-0/blib/lib:/tmp/loop_over_bdir-2070-HtePjb/EJBCA-CrlPublish-0.60-0/blib/arch:/tmp/loop_over_bdir-2070-HtePjb/EJBCA-CrlPublish-0.60-0/blib/lib:/tmp/loop_over_bdir-2070-HtePjb/shishi-0.0.1-0/blib/arch:/tmp/loop_over_bdir-2070-HtePjb/shishi-0.0.1-0/blib/lib:/tmp/loop_over_bdir-2070-HtePjb/HTML-Menu-TreeView-1.22-0/blib/arch:/tmp/loop_over_bdir-2070-HtePjb/HTML-Menu-TreeView-1.22-0/blib/lib
    PERL5OPT = 
    PERL5_CPANPLUS_IS_RUNNING = 2078
    PERL5_CPAN_IS_RUNNING = 2078
    PERL_CANARY_STABILITY_NOPROMPT = 1
    PERL_MM_USE_DEFAULT = 1
    PERL_USE_UNSAFE_INC = 1
    SHELL = /usr/bin/zsh
    TERM = screen

Perl special variables (and OS-specific diagnostics, for MSWin32):

    $^X = /tmp/basesmoker-reloperl-rGUl/bin/perl
    $UID/$EUID = 1005 / 1005
    $GID = 1005 1005
    $EGID = 1005 1005

Perl module toolchain versions installed:

    Module              Have    
    ------------------- --------
    CPAN                2.36    
    CPAN::Meta          2.150010
    Cwd                 3.80    
    ExtUtils::CBuilder  0.280236
    ExtUtils::Command   7.70    
    ExtUtils::Install   2.22    
    ExtUtils::MakeMaker 7.70    
    ExtUtils::Manifest  1.75    
    ExtUtils::ParseXS   3.51    
    File::Spec          3.80    
    JSON                4.10    
    JSON::PP            4.16    
    Module::Build       0.4234  
    Module::Signature   0.88    
    Parse::CPAN::Meta   2.150010
    Test2               1.302198
    Test::Harness       3.48    
    Test::More          1.302198
    YAML                1.30    
    YAML::Syck          1.34    
    version             0.9930  


--

Summary of my perl5 (revision 5 version 34 subversion 3) configuration:
  Commit id: 81db88e83a981f603c5207a1fc4cc41da8dd5d79
  Platform:
    osname=linux
    osvers=5.4.0-167-generic
    archname=x86_64-linux-ld
    uname='linux k93focal 5.4.0-167-generic #184-ubuntu smp tue oct 31 09:21:49 utc 2023 x86_64 x86_64 x86_64 gnulinux '
    config_args='-Dprefix=/home/sand/src/perl/repoperls/installed-perls/host/k93focal/v5.34.3/d3e4 -Dmyhostname=k93focal -Dinstallusrbinperl=n -Uversiononly -Dusedevel -des -Ui_db -Dlibswanted=cl pthread socket inet nsl gdbm dbm malloc dl ld sun m crypt sec util c cposix posix ucb BSD gdbm_compat -Uuseithreads -Duselongdouble -DEBUGGING=both'
    hint=recommended
    useposix=true
    d_sigaction=define
    useithreads=undef
    usemultiplicity=undef
    use64bitint=define
    use64bitall=define
    uselongdouble=define
    usemymalloc=n
    default_inc_excludes_dot=define
  Compiler:
    cc='cc'
    ccflags ='-fwrapv -DDEBUGGING -fno-strict-aliasing -pipe -fstack-protector-strong -I/usr/local/include -D_LARGEFILE_SOURCE -D_FILE_OFFSET_BITS=64'
    optimize='-O2 -g'
    cppflags='-fwrapv -DDEBUGGING -fno-strict-aliasing -pipe -fstack-protector-strong -I/usr/local/include'
    ccversion=''
    gccversion='9.4.0'
    gccosandvers=''
    intsize=4
    longsize=8
    ptrsize=8
    doublesize=8
    byteorder=12345678
    doublekind=3
    d_longlong=define
    longlongsize=8
    d_longdbl=define
    longdblsize=16
    longdblkind=3
    ivtype='long'
    ivsize=8
    nvtype='long double'
    nvsize=16
    Off_t='off_t'
    lseeksize=8
    alignbytes=16
    prototype=define
  Linker and Libraries:
    ld='cc'
    ldflags =' -fstack-protector-strong -L/usr/local/lib'
    libpth=/usr/local/lib /usr/lib/x86_64-linux-gnu /usr/lib /usr/lib64
    libs=-lpthread -lnsl -ldl -lm -lcrypt -lutil -lc
    perllibs=-lpthread -lnsl -ldl -lm -lcrypt -lutil -lc
    libc=libc-2.31.so
    so=so
    useshrplib=false
    libperl=libperl.a
    gnulibc_version='2.31'
  Dynamic Linking:
    dlsrc=dl_dlopen.xs
    dlext=so
    d_dlsymun=undef
    ccdlflags='-Wl,-E'
    cccdlflags='-fPIC'
    lddlflags='-shared -O2 -g -L/usr/local/lib -fstack-protector-strong'


Characteristics of this binary (from libperl): 
  Compile-time options:
    DEBUGGING
    HAS_TIMES
    PERLIO_LAYERS
    PERL_COPY_ON_WRITE
    PERL_DONT_CREATE_GVSV
    PERL_MALLOC_WRAP
    PERL_OP_PARENT
    PERL_PRESERVE_IVUV
    PERL_USE_DEVEL
    USE_64_BIT_ALL
    USE_64_BIT_INT
    USE_LARGE_FILES
    USE_LOCALE
    USE_LOCALE_COLLATE
    USE_LOCALE_CTYPE
    USE_LOCALE_NUMERIC
    USE_LOCALE_TIME
    USE_LONG_DOUBLE
    USE_PERLIO
    USE_PERL_ATOF
  Built under linux
  Compiled at Dec  7 2023 08:39:36
  %ENV:
    PERL="/tmp/basesmoker-reloperl-rGUl/bin/perl"
    PERL5LIB="/tmp/loop_over_bdir-2070-HtePjb/Debian-Packages-0.03-0/blib/arch:/tmp/loop_over_bdir-2070-HtePjb/Debian-Packages-0.03-0/blib/lib:/tmp/loop_over_bdir-2070-HtePjb/ProjectBuilder-0.14.1-0/blib/arch:/tmp/loop_over_bdir-2070-HtePjb/ProjectBuilder-0.14.1-0/blib/lib:/tmp/loop_over_bdir-2070-HtePjb/Lemonldap-NG-Cli-0.2-0/blib/arch:/tmp/loop_over_bdir-2070-HtePjb/Lemonldap-NG-Cli-0.2-0/blib/lib:/tmp/loop_over_bdir-2070-HtePjb/LCFG-Build-Tools-0.9.30-0/blib/arch:/tmp/loop_over_bdir-2070-HtePjb/LCFG-Build-Tools-0.9.30-0/blib/lib:/tmp/loop_over_bdir-2070-HtePjb/App-oo_modulino_zsh_completion_helper-0.04-0/blib/arch:/tmp/loop_over_bdir-2070-HtePjb/App-oo_modulino_zsh_completion_helper-0.04-0/blib/lib:/tmp/loop_over_bdir-2070-HtePjb/Captive-Portal-4.10-0/blib/arch:/tmp/loop_over_bdir-2070-HtePjb/Captive-Portal-4.10-0/blib/lib:/tmp/loop_over_bdir-2070-HtePjb/Simulation-Automate-1.0.1-0/blib/arch:/tmp/loop_over_bdir-2070-HtePjb/Simulation-Automate-1.0.1-0/blib/lib:/tmp/loop_over_bdir-2070-HtePjb/CORBA-Python-2.66-0/blib/arch:/tmp/loop_over_bdir-2070-HtePjb/CORBA-Python-2.66-0/blib/lib:/tmp/loop_over_bdir-2070-HtePjb/NoZone-1.3-0/blib/arch:/tmp/loop_over_bdir-2070-HtePjb/NoZone-1.3-0/blib/lib:/tmp/loop_over_bdir-2070-HtePjb/Net-OpenVPN-DDNS-0.1-0/blib/arch:/tmp/loop_over_bdir-2070-HtePjb/Net-OpenVPN-DDNS-0.1-0/blib/lib:/tmp/loop_over_bdir-2070-HtePjb/CGI-Application-NetNewsIface-0.0204-0/blib/arch:/tmp/loop_over_bdir-2070-HtePjb/CGI-Application-NetNewsIface-0.0204-0/blib/lib:/tmp/loop_over_bdir-2070-HtePjb/LCFG-Build-Skeleton-0.5.0-0/blib/arch:/tmp/loop_over_bdir-2070-HtePjb/LCFG-Build-Skeleton-0.5.0-0/blib/lib:/tmp/loop_over_bdir-2070-HtePjb/Lingua-BioYaTeA-0.11-0/blib/arch:/tmp/loop_over_bdir-2070-HtePjb/Lingua-BioYaTeA-0.11-0/blib/lib:/tmp/loop_over_bdir-2070-HtePjb/Alien-SNMP-MIBDEV-2.020000-0/blib/arch:/tmp/loop_over_bdir-2070-HtePjb/Alien-SNMP-MIBDEV-2.020000-0/blib/lib:/tmp/loop_over_bdir-2070-HtePjb/RDF-NLP-SPARQLQuery-0.1-0/blib/arch:/tmp/loop_over_bdir-2070-HtePjb/RDF-NLP-SPARQLQuery-0.1-0/blib/lib:/tmp/loop_over_bdir-2070-HtePjb/DBIx-Migration-Directories-0.12-0/blib/arch:/tmp/loop_over_bdir-2070-HtePjb/DBIx-Migration-Directories-0.12-0/blib/lib:/tmp/loop_over_bdir-2070-HtePjb/MP3-PodcastFetch-1.05-0/blib/arch:/tmp/loop_over_bdir-2070-HtePjb/MP3-PodcastFetch-1.05-0/blib/lib:/tmp/loop_over_bdir-2070-HtePjb/App-nrun-v1.1.2-0/blib/arch:/tmp/loop_over_bdir-2070-HtePjb/App-nrun-v1.1.2-0/blib/lib:/tmp/loop_over_bdir-2070-HtePjb/Business-Shipping-DataFiles-1.02-0/blib/arch:/tmp/loop_over_bdir-2070-HtePjb/Business-Shipping-DataFiles-1.02-0/blib/lib:/tmp/loop_over_bdir-2070-HtePjb/downsexta-0/blib/arch:/tmp/loop_over_bdir-2070-HtePjb/downsexta-0/blib/lib:/tmp/loop_over_bdir-2070-HtePjb/Devel-Required-0.16-0/blib/arch:/tmp/loop_over_bdir-2070-HtePjb/Devel-Required-0.16-0/blib/lib:/tmp/loop_over_bdir-2070-HtePjb/Net-Async-WebService-lxd-0.03-0/blib/arch:/tmp/loop_over_bdir-2070-HtePjb/Net-Async-WebService-lxd-0.03-0/blib/lib:/tmp/loop_over_bdir-2070-HtePjb/AllKnowingDNS-1.7-0/blib/arch:/tmp/loop_over_bdir-2070-HtePjb/AllKnowingDNS-1.7-0/blib/lib:/tmp/loop_over_bdir-2070-HtePjb/perl-Hardware-UPS-Perl-0.43-0/blib/arch:/tmp/loop_over_bdir-2070-HtePjb/perl-Hardware-UPS-Perl-0.43-0/blib/lib:/tmp/loop_over_bdir-2070-HtePjb/Lingua-YaTeA-0.626-0/blib/arch:/tmp/loop_over_bdir-2070-HtePjb/Lingua-YaTeA-0.626-0/blib/lib:/tmp/loop_over_bdir-2070-HtePjb/Sysync-0.35-0/blib/arch:/tmp/loop_over_bdir-2070-HtePjb/Sysync-0.35-0/blib/lib:/tmp/loop_over_bdir-2070-HtePjb/mmds-1.902-0/blib/arch:/tmp/loop_over_bdir-2070-HtePjb/mmds-1.902-0/blib/lib:/tmp/loop_over_bdir-2070-HtePjb/Linux-InitFS-0.2-0/blib/arch:/tmp/loop_over_bdir-2070-HtePjb/Linux-InitFS-0.2-0/blib/lib:/tmp/loop_over_bdir-2070-HtePjb/Dpkg-1.22.2-0/blib/arch:/tmp/loop_over_bdir-2070-HtePjb/Dpkg-1.22.2-0/blib/lib:/tmp/loop_over_bdir-2070-HtePjb/App-rmcd-0.280-0/blib/arch:/tmp/loop_over_bdir-2070-HtePjb/App-rmcd-0.280-0/blib/lib:/tmp/loop_over_bdir-2070-HtePjb/triceps-2.1.0-0/blib/arch:/tmp/loop_over_bdir-2070-HtePjb/triceps-2.1.0-0/blib/lib:/tmp/loop_over_bdir-2070-HtePjb/dta-tokwrap-0.98-0/blib/arch:/tmp/loop_over_bdir-2070-HtePjb/dta-tokwrap-0.98-0/blib/lib:/tmp/loop_over_bdir-2070-HtePjb/EJBCA-CrlPublish-0.60-0/blib/arch:/tmp/loop_over_bdir-2070-HtePjb/EJBCA-CrlPublish-0.60-0/blib/lib:/tmp/loop_over_bdir-2070-HtePjb/shishi-0.0.1-0/blib/arch:/tmp/loop_over_bdir-2070-HtePjb/shishi-0.0.1-0/blib/lib:/tmp/loop_over_bdir-2070-HtePjb/HTML-Menu-TreeView-1.22-0/blib/arch:/tmp/loop_over_bdir-2070-HtePjb/HTML-Menu-TreeView-1.22-0/blib/lib"
    PERL5OPT=""
    PERL5_CPANPLUS_IS_RUNNING="2078"
    PERL5_CPAN_IS_RUNNING="2078"
    PERL_CANARY_STABILITY_NOPROMPT="1"
    PERL_MM_USE_DEFAULT="1"
    PERL_USE_UNSAFE_INC="1"
  @INC:
    /tmp/loop_over_bdir-2070-HtePjb/Debian-Packages-0.03-0/blib/arch
    /tmp/loop_over_bdir-2070-HtePjb/Debian-Packages-0.03-0/blib/lib
    /tmp/loop_over_bdir-2070-HtePjb/ProjectBuilder-0.14.1-0/blib/arch
    /tmp/loop_over_bdir-2070-HtePjb/ProjectBuilder-0.14.1-0/blib/lib
    /tmp/loop_over_bdir-2070-HtePjb/Lemonldap-NG-Cli-0.2-0/blib/arch
    /tmp/loop_over_bdir-2070-HtePjb/Lemonldap-NG-Cli-0.2-0/blib/lib
    /tmp/loop_over_bdir-2070-HtePjb/LCFG-Build-Tools-0.9.30-0/blib/arch
    /tmp/loop_over_bdir-2070-HtePjb/LCFG-Build-Tools-0.9.30-0/blib/lib
    /tmp/loop_over_bdir-2070-HtePjb/App-oo_modulino_zsh_completion_helper-0.04-0/blib/arch
    /tmp/loop_over_bdir-2070-HtePjb/App-oo_modulino_zsh_completion_helper-0.04-0/blib/lib
    /tmp/loop_over_bdir-2070-HtePjb/Captive-Portal-4.10-0/blib/arch
    /tmp/loop_over_bdir-2070-HtePjb/Captive-Portal-4.10-0/blib/lib
    /tmp/loop_over_bdir-2070-HtePjb/Simulation-Automate-1.0.1-0/blib/arch
    /tmp/loop_over_bdir-2070-HtePjb/Simulation-Automate-1.0.1-0/blib/lib
    /tmp/loop_over_bdir-2070-HtePjb/CORBA-Python-2.66-0/blib/arch
    /tmp/loop_over_bdir-2070-HtePjb/CORBA-Python-2.66-0/blib/lib
    /tmp/loop_over_bdir-2070-HtePjb/NoZone-1.3-0/blib/arch
    /tmp/loop_over_bdir-2070-HtePjb/NoZone-1.3-0/blib/lib
    /tmp/loop_over_bdir-2070-HtePjb/Net-OpenVPN-DDNS-0.1-0/blib/arch
    /tmp/loop_over_bdir-2070-HtePjb/Net-OpenVPN-DDNS-0.1-0/blib/lib
    /tmp/loop_over_bdir-2070-HtePjb/CGI-Application-NetNewsIface-0.0204-0/blib/arch
    /tmp/loop_over_bdir-2070-HtePjb/CGI-Application-NetNewsIface-0.0204-0/blib/lib
    /tmp/loop_over_bdir-2070-HtePjb/LCFG-Build-Skeleton-0.5.0-0/blib/arch
    /tmp/loop_over_bdir-2070-HtePjb/LCFG-Build-Skeleton-0.5.0-0/blib/lib
    /tmp/loop_over_bdir-2070-HtePjb/Lingua-BioYaTeA-0.11-0/blib/arch
    /tmp/loop_over_bdir-2070-HtePjb/Lingua-BioYaTeA-0.11-0/blib/lib
    /tmp/loop_over_bdir-2070-HtePjb/Alien-SNMP-MIBDEV-2.020000-0/blib/arch
    /tmp/loop_over_bdir-2070-HtePjb/Alien-SNMP-MIBDEV-2.020000-0/blib/lib
    /tmp/loop_over_bdir-2070-HtePjb/RDF-NLP-SPARQLQuery-0.1-0/blib/arch
    /tmp/loop_over_bdir-2070-HtePjb/RDF-NLP-SPARQLQuery-0.1-0/blib/lib
    /tmp/loop_over_bdir-2070-HtePjb/DBIx-Migration-Directories-0.12-0/blib/arch
    /tmp/loop_over_bdir-2070-HtePjb/DBIx-Migration-Directories-0.12-0/blib/lib
    /tmp/loop_over_bdir-2070-HtePjb/MP3-PodcastFetch-1.05-0/blib/arch
    /tmp/loop_over_bdir-2070-HtePjb/MP3-PodcastFetch-1.05-0/blib/lib
    /tmp/loop_over_bdir-2070-HtePjb/App-nrun-v1.1.2-0/blib/arch
    /tmp/loop_over_bdir-2070-HtePjb/App-nrun-v1.1.2-0/blib/lib
    /tmp/loop_over_bdir-2070-HtePjb/Business-Shipping-DataFiles-1.02-0/blib/arch
    /tmp/loop_over_bdir-2070-HtePjb/Business-Shipping-DataFiles-1.02-0/blib/lib
    /tmp/loop_over_bdir-2070-HtePjb/downsexta-0/blib/arch
    /tmp/loop_over_bdir-2070-HtePjb/downsexta-0/blib/lib
    /tmp/loop_over_bdir-2070-HtePjb/Devel-Required-0.16-0/blib/arch
    /tmp/loop_over_bdir-2070-HtePjb/Devel-Required-0.16-0/blib/lib
    /tmp/loop_over_bdir-2070-HtePjb/Net-Async-WebService-lxd-0.03-0/blib/arch
    /tmp/loop_over_bdir-2070-HtePjb/Net-Async-WebService-lxd-0.03-0/blib/lib
    /tmp/loop_over_bdir-2070-HtePjb/AllKnowingDNS-1.7-0/blib/arch
    /tmp/loop_over_bdir-2070-HtePjb/AllKnowingDNS-1.7-0/blib/lib
    /tmp/loop_over_bdir-2070-HtePjb/perl-Hardware-UPS-Perl-0.43-0/blib/arch
    /tmp/loop_over_bdir-2070-HtePjb/perl-Hardware-UPS-Perl-0.43-0/blib/lib
    /tmp/loop_over_bdir-2070-HtePjb/Lingua-YaTeA-0.626-0/blib/arch
    /tmp/loop_over_bdir-2070-HtePjb/Lingua-YaTeA-0.626-0/blib/lib
    /tmp/loop_over_bdir-2070-HtePjb/Sysync-0.35-0/blib/arch
    /tmp/loop_over_bdir-2070-HtePjb/Sysync-0.35-0/blib/lib
    /tmp/loop_over_bdir-2070-HtePjb/mmds-1.902-0/blib/arch
    /tmp/loop_over_bdir-2070-HtePjb/mmds-1.902-0/blib/lib
    /tmp/loop_over_bdir-2070-HtePjb/Linux-InitFS-0.2-0/blib/arch
    /tmp/loop_over_bdir-2070-HtePjb/Linux-InitFS-0.2-0/blib/lib
    /tmp/loop_over_bdir-2070-HtePjb/Dpkg-1.22.2-0/blib/arch
    /tmp/loop_over_bdir-2070-HtePjb/Dpkg-1.22.2-0/blib/lib
    /tmp/loop_over_bdir-2070-HtePjb/App-rmcd-0.280-0/blib/arch
    /tmp/loop_over_bdir-2070-HtePjb/App-rmcd-0.280-0/blib/lib
    /tmp/loop_over_bdir-2070-HtePjb/triceps-2.1.0-0/blib/arch
    /tmp/loop_over_bdir-2070-HtePjb/triceps-2.1.0-0/blib/lib
    /tmp/loop_over_bdir-2070-HtePjb/dta-tokwrap-0.98-0/blib/arch
    /tmp/loop_over_bdir-2070-HtePjb/dta-tokwrap-0.98-0/blib/lib
    /tmp/loop_over_bdir-2070-HtePjb/EJBCA-CrlPublish-0.60-0/blib/arch
    /tmp/loop_over_bdir-2070-HtePjb/EJBCA-CrlPublish-0.60-0/blib/lib
    /tmp/loop_over_bdir-2070-HtePjb/shishi-0.0.1-0/blib/arch
    /tmp/loop_over_bdir-2070-HtePjb/shishi-0.0.1-0/blib/lib
    /tmp/loop_over_bdir-2070-HtePjb/HTML-Menu-TreeView-1.22-0/blib/arch
    /tmp/loop_over_bdir-2070-HtePjb/HTML-Menu-TreeView-1.22-0/blib/lib
    /home/sand/src/perl/repoperls/installed-perls/host/k93focal/v5.34.3/d3e4/lib/site_perl/5.34.3/x86_64-linux-ld
    /home/sand/src/perl/repoperls/installed-perls/host/k93focal/v5.34.3/d3e4/lib/site_perl/5.34.3
    /home/sand/src/perl/repoperls/installed-perls/host/k93focal/v5.34.3/d3e4/lib/5.34.3/x86_64-linux-ld
    /home/sand/src/perl/repoperls/installed-perls/host/k93focal/v5.34.3/d3e4/lib/5.34.3
    .