WebService-Pokemon v0.11 Perl 5 v5.24.0 MSWin32-x86-multi-thread

Status
Pass
From
Alexandr Ciornii (CHORNY)
Dist
WebService-Pokemon v0.11
Platform
Perl 5 v5.24.0 MSWin32-x86-multi-thread
Date
2019-05-03 14:15:45
ID
c1b1c4e5-6bfc-1014-9ad6-913e1b75d473
This distribution has been tested as part of the CPAN Testers
project, supporting the Perl programming language.  See
http://wiki.cpantesters.org/ for more information or email
questions to cpan-testers-discuss@perl.org


--
Dear Kian Meng, Ang,

This is a computer-generated report for WebService-Pokemon-0.11
on perl 5.24.0, created by CPAN-Reporter-1.2018.

Thank you for uploading your work to CPAN.  Congratulations!
All tests were successful.

Sections of this report:

    * Tester comments
    * Program output
    * Prerequisites
    * Environment and other context

------------------------------
TESTER COMMENTS
------------------------------

Additional comments from tester:

this report is from an automated smoke testing program
and was not reviewed by a human for accuracy

------------------------------
PROGRAM OUTPUT
------------------------------

Output from 'C:\Strawberry240\perl\bin\perl.exe ./Build test':

t/00-compile.t .............. ok
# Testing with Perl 5.024000, C:\Strawberry240\perl\bin\perl.exe
#     Carp version is 1.40
#     Dist::Zilla::App::Command::cover version is 1.101001
#     File::Find version is 1.34
#     File::Spec version is 3.63
#     File::Temp version is 0.2304
#     IO::Handle version is 1.36
#     IPC::Open3 version is 1.20
#     JSON version is 2.90
#     Module::Build version is 0.422
#     Module::Build::Tiny version is 0.039
#     Moo version is 2.003
#     REST::Client version is 273
#     Role::REST::Client version is 0.23
#     Scalar::Util version is 1.47
#     Test::More version is 1.302164
#     Types::Standard version is 1.000005
#     URI::Fast version is 0.46
#     namespace::clean version is 0.27
#     strictures version is 2.000003
#     utf8 version is 1.19
t/000-report-versions.t ..... ok
t/00_load.t ................. ok
t/02_request.t .............. skipped: $ENV{POKEAPI_LIVE} not set, skipping live tests
t/03_resource.t ............. skipped: $ENV{POKEAPI_LIVE} not set, skipping live tests
t/04_resource_by_url.t ...... skipped: $ENV{POKEAPI_LIVE} not set, skipping live tests
t/06_named_api_resource.t ... skipped: $ENV{POKEAPI_LIVE} not set, skipping live tests
t/author-eol.t .............. skipped: these tests are for testing by the author
t/author-minimum-version.t .. skipped: these tests are for testing by the author
t/author-pod-coverage.t ..... skipped: these tests are for testing by the author
t/author-pod-syntax.t ....... skipped: these tests are for testing by the author
t/release-distmeta.t ........ skipped: these tests are for release candidate testing
t/release-has-version.t ..... skipped: these tests are for release candidate testing
t/release-kwalitee.t ........ skipped: these tests are for release candidate testing
t/release-unused-vars.t ..... skipped: these tests are for release candidate testing
All tests successful.
Files=15, Tests=26, 11 wallclock secs ( 0.07 usr +  0.08 sys =  0.15 CPU)
Result: PASS

------------------------------
PREREQUISITES
------------------------------

Prerequisite modules loaded:

requires:

    Module                           Need  Have    
    -------------------------------- ----- --------
    JSON                             0     2.90    
    Moo                              0     2.003000
    namespace::clean                 0     0.27    
    REST::Client                     0     273     
    Role::REST::Client               0     0.23    
    strictures                       2     2.000003
    Types::Standard                  0     1.000005
    URI::Fast                        0     0.46    
    utf8                             0     1.19    

build_requires:

    Module                           Need  Have    
    -------------------------------- ----- --------
    Carp                             0     1.40    
    Dist::Zilla::App::Command::cover 0     1.101001
    File::Find                       0     1.34    
    File::Spec                       0     3.63    
    File::Temp                       0     0.2304  
    IO::Handle                       0     1.36    
    IPC::Open3                       0     1.20    
    Module::Build                    0.28  0.4220  
    Scalar::Util                     0     1.47    
    Test::More                       0.94  1.302164

configure_requires:

    Module                           Need  Have    
    -------------------------------- ----- --------
    Module::Build::Tiny              0.034 0.039   


------------------------------
ENVIRONMENT AND OTHER CONTEXT
------------------------------

Environment variables:

    AUTOMATED_TESTING = 1
    COMSPEC = C:\WINDOWS\system32\cmd.exe
    NUMBER_OF_PROCESSORS = 1
    PATH = C:\WINDOWS\system32;C:\WINDOWS;C:\WINDOWS\System32\Wbem;C:\Git\cmd;C:\Strawberry240\c\bin;C:\Strawberry240\perl\site\bin;C:\Strawberry240\perl\bin
    PERL5LIB = C:\STRAWB~1\cpan\build\URI-Fast-0.46-0/blib/arch;C:\STRAWB~1\cpan\build\URI-Fast-0.46-0/blib/lib;C:\STRAWB~1\cpan\build\URI-Encode-XS-0.11-0/blib/arch;C:\STRAWB~1\cpan\build\URI-Encode-XS-0.11-0/blib/lib;C:\STRAWB~1\cpan\build\Test-LeakTrace-0.16-0/blib/arch;C:\STRAWB~1\cpan\build\Test-LeakTrace-0.16-0/blib/lib;C:\STRAWB~1\cpan\build\Test2-Suite-0.000120-3/blib/arch;C:\STRAWB~1\cpan\build\Test2-Suite-0.000120-3/blib/lib;C:\STRAWB~1\cpan\build\Term-Table-0.013-3/blib/arch;C:\STRAWB~1\cpan\build\Term-Table-0.013-3/blib/lib;C:\STRAWB~1\cpan\build\Sub-Info-0.002-3/blib/arch;C:\STRAWB~1\cpan\build\Sub-Info-0.002-3/blib/lib;C:\STRAWB~1\cpan\build\Test-Simple-1.302164-4/blib/arch;C:\STRAWB~1\cpan\build\Test-Simple-1.302164-4/blib/lib;C:\STRAWB~1\cpan\build\Role-REST-Client-0.23-0/blib/arch;C:\STRAWB~1\cpan\build\Role-REST-Client-0.23-0/blib/lib;C:\STRAWB~1\cpan\build\REST-Client-273-0/blib/arch;C:\STRAWB~1\cpan\build\REST-Client-273-0/blib/lib
    PERL5OPT = 
    PERL5_CPANPLUS_IS_RUNNING = 1756
    PERL5_CPAN_IS_RUNNING = 1756
    PERL5_CPAN_IS_RUNNING_IN_RECURSION = 1668,1756
    PERL_CR_SMOKER_CURRENT = WebService-Pokemon-0.11
    PERL_CR_SMOKER_RUNONCE = 1
    PERL_EXTUTILS_AUTOINSTALL = --defaultdeps
    PERL_HASH_SEED = 0x11111111
    PERL_MM_USE_DEFAULT = 1
    PROCESSOR_IDENTIFIER = x86 Family 16 Model 5 Stepping 3, AuthenticAMD
    TEMP = C:\DOCUME~1\a\LOCALS~1\Temp

Perl special variables (and OS-specific diagnostics, for MSWin32):

    $^X = C:\Strawberry240\perl\bin\perl.exe
    $UID/$EUID = 0 / 0
    $GID = 0
    $EGID = 0
    Win32::GetOSName = WinXP/.Net
    Win32::GetOSVersion = Service Pack 3, 5, 1, 2600, 2, 3, 0, 256, 1
    Win32::FsType = NTFS
    Win32::IsAdminUser = 1

Perl module toolchain versions installed:

    Module              Have    
    ------------------- --------
    CPAN                2.14    
    CPAN::Meta          2.150010
    Cwd                 3.63    
    ExtUtils::CBuilder  0.280225
    ExtUtils::Command   7.24    
    ExtUtils::Install   2.04    
    ExtUtils::MakeMaker 7.24    
    ExtUtils::Manifest  1.70    
    ExtUtils::ParseXS   3.31    
    File::Spec          3.63    
    JSON                2.90    
    JSON::PP            2.27400 
    Module::Build       0.4220  
    Module::Signature   0.81    
    Parse::CPAN::Meta   2.150010
    Test::Harness       3.36    
    Test::More          1.302164
    YAML                1.21    
    YAML::Syck          1.29    
    version             0.9917  


--

Summary of my perl5 (revision 5 version 24 subversion 0) configuration:
   
  Platform:
    osname=MSWin32, osvers=4.0, archname=MSWin32-x86-multi-thread
    uname='Win32 strawberry-perl 5.24.0.1-beta1 #1 Thu Dec 29 16:46:05 2016 i386'
    config_args='undef'
    hint=recommended, useposix=true, d_sigaction=undef
    useithreads=define, usemultiplicity=define
    use64bitint=undef, use64bitall=undef, uselongdouble=undef
    usemymalloc=n, bincompat5005=undef
  Compiler:
    cc='gcc', ccflags =' -s -O2 -DWIN32  -DPERL_TEXTMODE_SCRIPTS -DPERL_IMPLICIT_CONTEXT -DPERL_IMPLICIT_SYS -fwrapv -fno-strict-aliasing -mms-bitfields',
    optimize='-s -O2',
    cppflags='-DWIN32'
    ccversion='', gccversion='4.9.2', gccosandvers=''
    intsize=4, longsize=4, ptrsize=4, doublesize=8, byteorder=1234, doublekind=3
    d_longlong=define, longlongsize=8, d_longdbl=define, longdblsize=12, longdblkind=3
    ivtype='long', ivsize=4, nvtype='double', nvsize=8, Off_t='long long', lseeksize=8
    alignbytes=8, prototype=define
  Linker and Libraries:
    ld='g++', ldflags ='-s -L"C:\STRAWB~1\perl\lib\CORE" -L"C:\STRAWB~1\c\lib"'
    libpth=C:\STRAWB~1\c\lib C:\STRAWB~1\c\i686-w64-mingw32\lib C:\STRAWB~1\c\lib\gcc\i686-w64-mingw32\4.9.2
    libs=-lmoldname -lkernel32 -luser32 -lgdi32 -lwinspool -lcomdlg32 -ladvapi32 -lshell32 -lole32 -loleaut32 -lnetapi32 -luuid -lws2_32 -lmpr -lwinmm -lversion -lodbc32 -lodbccp32 -lcomctl32
    perllibs=-lmoldname -lkernel32 -luser32 -lgdi32 -lwinspool -lcomdlg32 -ladvapi32 -lshell32 -lole32 -loleaut32 -lnetapi32 -luuid -lws2_32 -lmpr -lwinmm -lversion -lodbc32 -lodbccp32 -lcomctl32
    libc=, so=dll, useshrplib=true, libperl=libperl524.a
    gnulibc_version=''
  Dynamic Linking:
    dlsrc=dl_win32.xs, dlext=xs.dll, d_dlsymun=undef, ccdlflags=' '
    cccdlflags=' ', lddlflags='-mdll -s -L"C:\STRAWB~1\perl\lib\CORE" -L"C:\STRAWB~1\c\lib"'


Characteristics of this binary (from libperl): 
  Compile-time options: HAS_TIMES HAVE_INTERP_INTERN MULTIPLICITY
                        PERLIO_LAYERS PERL_COPY_ON_WRITE
                        PERL_DONT_CREATE_GVSV
                        PERL_HASH_FUNC_ONE_AT_A_TIME_HARD
                        PERL_IMPLICIT_CONTEXT PERL_IMPLICIT_SYS
                        PERL_MALLOC_WRAP PERL_PRESERVE_IVUV USE_ITHREADS
                        USE_LARGE_FILES USE_LOCALE USE_LOCALE_COLLATE
                        USE_LOCALE_CTYPE USE_LOCALE_NUMERIC USE_LOCALE_TIME
                        USE_PERLIO USE_PERL_ATOF
  Built under MSWin32
  Compiled at Dec 29 2016 16:55:33
  %ENV:
    PERL5LIB="C:\STRAWB~1\cpan\build\URI-Fast-0.46-0/blib/arch;C:\STRAWB~1\cpan\build\URI-Fast-0.46-0/blib/lib;C:\STRAWB~1\cpan\build\URI-Encode-XS-0.11-0/blib/arch;C:\STRAWB~1\cpan\build\URI-Encode-XS-0.11-0/blib/lib;C:\STRAWB~1\cpan\build\Test-LeakTrace-0.16-0/blib/arch;C:\STRAWB~1\cpan\build\Test-LeakTrace-0.16-0/blib/lib;C:\STRAWB~1\cpan\build\Test2-Suite-0.000120-3/blib/arch;C:\STRAWB~1\cpan\build\Test2-Suite-0.000120-3/blib/lib;C:\STRAWB~1\cpan\build\Term-Table-0.013-3/blib/arch;C:\STRAWB~1\cpan\build\Term-Table-0.013-3/blib/lib;C:\STRAWB~1\cpan\build\Sub-Info-0.002-3/blib/arch;C:\STRAWB~1\cpan\build\Sub-Info-0.002-3/blib/lib;C:\STRAWB~1\cpan\build\Test-Simple-1.302164-4/blib/arch;C:\STRAWB~1\cpan\build\Test-Simple-1.302164-4/blib/lib;C:\STRAWB~1\cpan\build\Role-REST-Client-0.23-0/blib/arch;C:\STRAWB~1\cpan\build\Role-REST-Client-0.23-0/blib/lib;C:\STRAWB~1\cpan\build\REST-Client-273-0/blib/arch;C:\STRAWB~1\cpan\build\REST-Client-273-0/blib/lib"
    PERL5_CPANPLUS_IS_RUNNING="1756"
    PERL5_CPAN_IS_RUNNING="1756"
    PERL5_CPAN_IS_RUNNING_IN_RECURSION="1668,1756"
    PERL_CR_SMOKER_CURRENT="WebService-Pokemon-0.11"
    PERL_CR_SMOKER_RUNONCE="1"
    PERL_EXTUTILS_AUTOINSTALL="--defaultdeps"
    PERL_HASH_SEED="0x11111111"
    PERL_MM_USE_DEFAULT="1"
  @INC:
    C:\STRAWB~1\cpan\build\URI-Fast-0.46-0/blib/arch
    C:\STRAWB~1\cpan\build\URI-Fast-0.46-0/blib/lib
    C:\STRAWB~1\cpan\build\URI-Encode-XS-0.11-0/blib/arch
    C:\STRAWB~1\cpan\build\URI-Encode-XS-0.11-0/blib/lib
    C:\STRAWB~1\cpan\build\Test-LeakTrace-0.16-0/blib/arch
    C:\STRAWB~1\cpan\build\Test-LeakTrace-0.16-0/blib/lib
    C:\STRAWB~1\cpan\build\Test2-Suite-0.000120-3/blib/arch
    C:\STRAWB~1\cpan\build\Test2-Suite-0.000120-3/blib/lib
    C:\STRAWB~1\cpan\build\Term-Table-0.013-3/blib/arch
    C:\STRAWB~1\cpan\build\Term-Table-0.013-3/blib/lib
    C:\STRAWB~1\cpan\build\Sub-Info-0.002-3/blib/arch
    C:\STRAWB~1\cpan\build\Sub-Info-0.002-3/blib/lib
    C:\STRAWB~1\cpan\build\Test-Simple-1.302164-4/blib/arch
    C:\STRAWB~1\cpan\build\Test-Simple-1.302164-4/blib/lib
    C:\STRAWB~1\cpan\build\Role-REST-Client-0.23-0/blib/arch
    C:\STRAWB~1\cpan\build\Role-REST-Client-0.23-0/blib/lib
    C:\STRAWB~1\cpan\build\REST-Client-273-0/blib/arch
    C:\STRAWB~1\cpan\build\REST-Client-273-0/blib/lib
    C:/Strawberry240/perl/site/lib
    C:/Strawberry240/perl/vendor/lib
    C:/Strawberry240/perl/lib
    .