Report for lsutils-1.02

Back
From: metabase:user:e3434da8-b236-11df-85ca-0247c6d74bde
Subject: PASS lsutils-1.02 v5.12.3 GNU/Linux
Date: 2011-05-31T18:28:18Z

This distribution has been tested as part of the CPAN Testers
project, supporting the Perl programming language.  See
http://wiki.cpantesters.org/ for more information or email
questions to cpan-testers-discuss@perl.org


--
Dear Leo Charre,

This is a computer-generated report for lsutils-1.02
on perl 5.12.3, created by CPAN-Reporter-1.1902.

Thank you for uploading your work to CPAN.  Congratulations!
All tests were successful.

Sections of this report:

    * Tester comments
    * Program output
    * Prerequisites
    * Environment and other context

------------------------------
TESTER COMMENTS
------------------------------

Additional comments from tester:

this report is from an automated smoke testing program
and was not reviewed by a human for accuracy

------------------------------
PROGRAM OUTPUT
------------------------------

Output from '/usr/bin/make test':

PERL_DL_NONLAZY=1 /home/perl512/testing/bin/perl5.12.3 "-MExtUtils::Command::MM" "-e" "test_harness(0, 'blib/lib', 'blib/arch')" t/*.t
t/00-compile.t ........................................... ok


===================
PART 0 sorting.. 
==================

## by stat 7
  - t/tmp/00.txt
  - t/tmp/01.txt
  - t/tmp/02.txt
  - t/tmp/subdir/03.txt
  - t/tmp/subdir/04.txt
  - t/tmp/subdir/05.txt


## by stat 8
  - t/tmp/00.txt
  - t/tmp/01.txt
  - t/tmp/02.txt
  - t/tmp/subdir/03.txt
  - t/tmp/subdir/04.txt
  - t/tmp/subdir/05.txt


## by stat 9
  - t/tmp/00.txt
  - t/tmp/01.txt
  - t/tmp/02.txt
  - t/tmp/subdir/03.txt
  - t/tmp/subdir/04.txt
  - t/tmp/subdir/05.txt


## by stat 8
  - t/tmp/00.txt
  - t/tmp/01.txt
  - t/tmp/02.txt
  - t/tmp/subdir/03.txt
  - t/tmp/subdir/04.txt
  - t/tmp/subdir/05.txt


## by stat 10
  - t/tmp/00.txt
  - t/tmp/01.txt
  - t/tmp/02.txt
  - t/tmp/subdir/03.txt
  - t/tmp/subdir/04.txt
  - t/tmp/subdir/05.txt


## sort_by_atime: 
  - t/tmp/00.txt
  - t/tmp/01.txt
  - t/tmp/02.txt
  - t/tmp/subdir/03.txt
  - t/tmp/subdir/04.txt
  - t/tmp/subdir/05.txt


## sort_by_mtime: 
  - t/tmp/00.txt
  - t/tmp/01.txt
  - t/tmp/02.txt
  - t/tmp/subdir/03.txt
  - t/tmp/subdir/04.txt
  - t/tmp/subdir/05.txt


## sort_by_size: 
  - t/tmp/00.txt
  - t/tmp/01.txt
  - t/tmp/02.txt
  - t/tmp/subdir/03.txt
  - t/tmp/subdir/04.txt
  - t/tmp/subdir/05.txt


## sort_by_ctime: 
  - t/tmp/00.txt
  - t/tmp/01.txt
  - t/tmp/02.txt
  - t/tmp/subdir/03.txt
  - t/tmp/subdir/04.txt
  - t/tmp/subdir/05.txt


t/01-LEOCHARRE-Dir_Lsutils-sort.t ........................ ok


===================
PART 0 sorting.. 
==================

## most by stat 7 : t/tmp/subdir/05.txt
 # - in list context: t/tmp/subdir/05.txt 99


## least by stat 7: t/tmp/00.txt
 # - in list context: t/tmp/00.txt 29


## most by stat 8 : t/tmp/subdir/05.txt
 # - in list context: t/tmp/subdir/05.txt 1306866495


## least by stat 8: t/tmp/00.txt
 # - in list context: t/tmp/00.txt 1306866490


## most by stat 9 : t/tmp/subdir/05.txt
 # - in list context: t/tmp/subdir/05.txt 1306866495


## least by stat 9: t/tmp/00.txt
 # - in list context: t/tmp/00.txt 1306866490


## most by stat 8 : t/tmp/subdir/05.txt
 # - in list context: t/tmp/subdir/05.txt 1306866495


## least by stat 8: t/tmp/00.txt
 # - in list context: t/tmp/00.txt 1306866490


## most by stat 10 : t/tmp/subdir/05.txt
 # - in list context: t/tmp/subdir/05.txt 1306866495


## least by stat 10: t/tmp/00.txt
 # - in list context: t/tmp/00.txt 1306866490




===================
PART 1 direct subs , shortcuts..
==================

## newest, got t/tmp/subdir/05.txt
 # Got: t/tmp/subdir/05.txt 1306866495

## oldest, got t/tmp/00.txt
 # Got: t/tmp/00.txt 1306866490

## biggest, got t/tmp/subdir/05.txt
 # Got: t/tmp/subdir/05.txt 99

## smallest, got t/tmp/00.txt
 # Got: t/tmp/00.txt 29

t/02-LEOCHARRE-Dir_Lsutils-newestoldestbiggestsmalest.t .. ok
All tests successful.
Files=3, Tests=71, 19 wallclock secs ( 0.03 usr  0.01 sys +  0.13 cusr  0.09 csys =  0.26 CPU)
Result: PASS

------------------------------
PREREQUISITES
------------------------------

Prerequisite modules loaded:

requires:

    Module              Need Have   
    ------------------- ---- -------
    Carp                1    1.17   
    Cwd                 3    3.31   
    Exporter            5    5.64_01
    File::Find::Rule    0.30 0.32   
    Getopt::Std::Strict 1.01 1.01   
    LEOCHARRE::CLI2     1.14 1.16   
    LEOCHARRE::Debug    1.02 1.03   
    LEOCHARRE::Dir      1.07 1.08   
    Smart::Comments     1    1.0.4  
    Test::Simple        0    0.98   
    Time::Format        1.09 1.11   

configure_requires:

    Module              Need Have   
    ------------------- ---- -------
    ExtUtils::MakeMaker 0    6.56   


------------------------------
ENVIRONMENT AND OTHER CONTEXT
------------------------------

Environment variables:

    AUTOMATED_TESTING = 1
    LANG = en_US.UTF-8
    LC_COLLATE = C
    LC_MONETARY = nl_NL.utf8
    PATH = /usr/lib64/qt-3.3/bin:/usr/lib64/ccache:/usr/local/bin:/bin:/usr/bin:/usr/local/sbin:/usr/sbin:/sbin:/home/perl512/bin
    PERL5LIB = /home/perl512/.cpan/build/LEOCHARRE-CLI2-1.16-VJXwTQ/blib/arch:/home/perl512/.cpan/build/LEOCHARRE-CLI2-1.16-VJXwTQ/blib/lib:/home/perl512/.cpan/build/Smart-Comments-1.0.4-PN8G39/blib/arch:/home/perl512/.cpan/build/Smart-Comments-1.0.4-PN8G39/blib/lib:/home/perl512/.cpan/build/String-ShellQuote-1.04-sCnoDK/blib/arch:/home/perl512/.cpan/build/String-ShellQuote-1.04-sCnoDK/blib/lib:/home/perl512/.cpan/build/YAML-0.73-9K13Bg/blib/arch:/home/perl512/.cpan/build/YAML-0.73-9K13Bg/blib/lib:/home/perl512/.cpan/build/Time-Format-1.11-Nz4BC4/blib/arch:/home/perl512/.cpan/build/Time-Format-1.11-Nz4BC4/blib/lib:/home/perl512/.cpan/build/LEOCHARRE-Debug-1.03-YcQxNd/blib/arch:/home/perl512/.cpan/build/LEOCHARRE-Debug-1.03-YcQxNd/blib/lib:/home/perl512/.cpan/build/Getopt-Std-Strict-1.01-etbTZm/blib/arch:/home/perl512/.cpan/build/Getopt-Std-Strict-1.01-etbTZm/blib/lib:/home/perl512/.cpan/build/LEOCHARRE-Dir-1.08-ZMG9as/blib/arch:/home/perl512/.cpan/build/LEOCHARRE-Dir-1.08-ZMG9as/blib/lib
    PERL5OPT = 
    PERL5_CPANPLUS_IS_RUNNING = 9197
    PERL5_CPAN_IS_RUNNING = 9197
    PERL5_CPAN_IS_RUNNING_IN_RECURSION = 9925,9197
    PERL_CR_SMOKER_CURRENT = lsutils-1.02
    PERL_EXTUTILS_AUTOINSTALL = --defaultdeps
    PERL_MM_USE_DEFAULT = 1
    SHELL = /bin/bash
    TERM = screen

Perl special variables (and OS-specific diagnostics, for MSWin32):

    $^X = /home/perl512/testing/bin/perl5.12.3
    $UID/$EUID = 505 / 505
    $GID = 505 505
    $EGID = 505 505

Perl module toolchain versions installed:

    Module              Have    
    ------------------- --------
    CPAN                1.94_56 
    Cwd                 3.31    
    ExtUtils::CBuilder  0.280202
    ExtUtils::Command   1.16    
    ExtUtils::Install   1.55    
    ExtUtils::MakeMaker 6.56    
    ExtUtils::Manifest  1.57    
    ExtUtils::ParseXS   2.21    
    File::Spec          3.31_01 
    Module::Build       0.3800  
    Module::Signature   n/a     
    Test::Harness       3.17    
    Test::More          0.98    
    YAML                0.73    
    YAML::Syck          1.17    
    version             0.88    


--

Summary of my perl5 (revision 5 version 12 subversion 3) configuration:
   
  Platform:
    osname=linux, osvers=2.6.35.11-83.fc14.x86_64, archname=x86_64-linux-thread-multi
    uname='linux firenze.fritz.box 2.6.35.11-83.fc14.x86_64 #1 smp mon feb 7 07:06:44 utc 2011 x86_64 x86_64 x86_64 gnulinux '
    config_args='-Dprefix=/home/perl512/testing -Dusethreads -Dusedevel -des'
    hint=recommended, useposix=true, d_sigaction=define
    useithreads=define, usemultiplicity=define
    useperlio=define, d_sfio=undef, uselargefiles=define, usesocks=undef
    use64bitint=define, use64bitall=define, uselongdouble=undef
    usemymalloc=n, bincompat5005=undef
  Compiler:
    cc='cc', ccflags ='-D_REENTRANT -D_GNU_SOURCE -fno-strict-aliasing -pipe -fstack-protector -I/usr/local/include -D_LARGEFILE_SOURCE -D_FILE_OFFSET_BITS=64',
    optimize='-O2',
    cppflags='-D_REENTRANT -D_GNU_SOURCE -fno-strict-aliasing -pipe -fstack-protector -I/usr/local/include'
    ccversion='', gccversion='4.5.1 20100924 (Red Hat 4.5.1-4)', gccosandvers=''
    intsize=4, longsize=8, ptrsize=8, doublesize=8, byteorder=12345678
    d_longlong=define, longlongsize=8, d_longdbl=define, longdblsize=16
    ivtype='long', ivsize=8, nvtype='double', nvsize=8, Off_t='off_t', lseeksize=8
    alignbytes=8, prototype=define
  Linker and Libraries:
    ld='cc', ldflags =' -fstack-protector -L/usr/local/lib'
    libpth=/usr/local/lib /lib /usr/lib /lib64 /usr/lib64 /usr/local/lib64
    libs=-lnsl -lgdbm -ldb -ldl -lm -lcrypt -lutil -lpthread -lc -lgdbm_compat
    perllibs=-lnsl -ldl -lm -lcrypt -lutil -lpthread -lc
    libc=, so=so, useshrplib=false, libperl=libperl.a
    gnulibc_version='2.13'
  Dynamic Linking:
    dlsrc=dl_dlopen.xs, dlext=so, d_dlsymun=undef, ccdlflags='-Wl,-E'
    cccdlflags='-fPIC', lddlflags='-shared -O2 -L/usr/local/lib -fstack-protector'


Characteristics of this binary (from libperl): 
  Compile-time options: MULTIPLICITY PERL_DONT_CREATE_GVSV
                        PERL_IMPLICIT_CONTEXT PERL_MALLOC_WRAP PERL_USE_DEVEL
                        USE_64_BIT_ALL USE_64_BIT_INT USE_ITHREADS
                        USE_LARGE_FILES USE_PERLIO USE_PERL_ATOF
                        USE_REENTRANT_API
  Built under linux
  Compiled at May 17 2011 15:37:09
  %ENV:
    PERL5LIB="/home/perl512/.cpan/build/LEOCHARRE-CLI2-1.16-VJXwTQ/blib/arch:/home/perl512/.cpan/build/LEOCHARRE-CLI2-1.16-VJXwTQ/blib/lib:/home/perl512/.cpan/build/Smart-Comments-1.0.4-PN8G39/blib/arch:/home/perl512/.cpan/build/Smart-Comments-1.0.4-PN8G39/blib/lib:/home/perl512/.cpan/build/String-ShellQuote-1.04-sCnoDK/blib/arch:/home/perl512/.cpan/build/String-ShellQuote-1.04-sCnoDK/blib/lib:/home/perl512/.cpan/build/YAML-0.73-9K13Bg/blib/arch:/home/perl512/.cpan/build/YAML-0.73-9K13Bg/blib/lib:/home/perl512/.cpan/build/Time-Format-1.11-Nz4BC4/blib/arch:/home/perl512/.cpan/build/Time-Format-1.11-Nz4BC4/blib/lib:/home/perl512/.cpan/build/LEOCHARRE-Debug-1.03-YcQxNd/blib/arch:/home/perl512/.cpan/build/LEOCHARRE-Debug-1.03-YcQxNd/blib/lib:/home/perl512/.cpan/build/Getopt-Std-Strict-1.01-etbTZm/blib/arch:/home/perl512/.cpan/build/Getopt-Std-Strict-1.01-etbTZm/blib/lib:/home/perl512/.cpan/build/LEOCHARRE-Dir-1.08-ZMG9as/blib/arch:/home/perl512/.cpan/build/LEOCHARRE-Dir-1.08-ZMG9as/blib/lib"
    PERL5OPT=""
    PERL5_CPANPLUS_IS_RUNNING="9197"
    PERL5_CPAN_IS_RUNNING="9197"
    PERL5_CPAN_IS_RUNNING_IN_RECURSION="9925,9197"
    PERL_CR_SMOKER_CURRENT="lsutils-1.02"
    PERL_EXTUTILS_AUTOINSTALL="--defaultdeps"
    PERL_MM_USE_DEFAULT="1"
  @INC:
    /home/perl512/.cpan/build/LEOCHARRE-CLI2-1.16-VJXwTQ/blib/arch
    /home/perl512/.cpan/build/LEOCHARRE-CLI2-1.16-VJXwTQ/blib/lib
    /home/perl512/.cpan/build/Smart-Comments-1.0.4-PN8G39/blib/arch
    /home/perl512/.cpan/build/Smart-Comments-1.0.4-PN8G39/blib/lib
    /home/perl512/.cpan/build/String-ShellQuote-1.04-sCnoDK/blib/arch
    /home/perl512/.cpan/build/String-ShellQuote-1.04-sCnoDK/blib/lib
    /home/perl512/.cpan/build/YAML-0.73-9K13Bg/blib/arch
    /home/perl512/.cpan/build/YAML-0.73-9K13Bg/blib/lib
    /home/perl512/.cpan/build/Time-Format-1.11-Nz4BC4/blib/arch
    /home/perl512/.cpan/build/Time-Format-1.11-Nz4BC4/blib/lib
    /home/perl512/.cpan/build/LEOCHARRE-Debug-1.03-YcQxNd/blib/arch
    /home/perl512/.cpan/build/LEOCHARRE-Debug-1.03-YcQxNd/blib/lib
    /home/perl512/.cpan/build/Getopt-Std-Strict-1.01-etbTZm/blib/arch
    /home/perl512/.cpan/build/Getopt-Std-Strict-1.01-etbTZm/blib/lib
    /home/perl512/.cpan/build/LEOCHARRE-Dir-1.08-ZMG9as/blib/arch
    /home/perl512/.cpan/build/LEOCHARRE-Dir-1.08-ZMG9as/blib/lib
    /home/perl512/testing/lib/site_perl/5.12.3/x86_64-linux-thread-multi
    /home/perl512/testing/lib/site_perl/5.12.3
    /home/perl512/testing/lib/5.12.3/x86_64-linux-thread-multi
    /home/perl512/testing/lib/5.12.3
    .