Report for Web-Scraper-0.36

Back
From: metabase:user:30f4dfbe-2aae-11df-837a-5e0a49663a4f
Subject: PASS Web-Scraper-0.36 v5.10.0 NetBSD
Date: 2012-02-19T00:29:17Z

This distribution has been tested as part of the CPAN Testers
project, supporting the Perl programming language.  See
http://wiki.cpantesters.org/ for more information or email
questions to cpan-testers-discuss@perl.org


--
Dear Tatsuhiko Miyagawa,

This is a computer-generated report for Web-Scraper-0.36
on perl 5.10.0, created by CPAN-Reporter-1.2004.

Thank you for uploading your work to CPAN.  Congratulations!
All tests were successful.

Sections of this report:

    * Tester comments
    * Program output
    * Prerequisites
    * Environment and other context

------------------------------
TESTER COMMENTS
------------------------------

Additional comments from tester:

this report is from an automated smoke testing program
and was not reviewed by a human for accuracy

------------------------------
PROGRAM OUTPUT
------------------------------

Output from '/usr/bin/make test':

PERL_DL_NONLAZY=1 /home/njh/perl5/perlbrew/perls/perl-5.10.0/bin/perl "-MExtUtils::Command::MM" "-e" "test_harness(0, 'inc', 'blib/lib', 'blib/arch')" t/*.t
t/00_compile.t .......... ok
t/01_process.t .......... ok
t/02_process_multi.t .... ok
t/03_scraper_nest.t ..... ok
t/04_callback.t ......... ok
t/05_process_first.t .... ok
t/06_define.t ........... ok
t/07-live.t ............. skipped: LIVE_TEST not enabled
t/08-leak.t ............. skipped: LEAK_TEST is not defined
t/09-process_hash.t ..... ok
t/11_absolute.t ......... ok
t/12_html.t ............. ok
t/13_textnode.t ......... ok
t/14_absolute_nested.t .. ok
t/15_absolute_hash.t .... ok
t/16_filter.t ........... ok
t/17_filter_loop.t ...... ok
t/18_http_response.t .... skipped: LIVE_TEST not enabled
t/19_decode_content.t ... skipped: LIVE_TEST not enabled
t/20_comment_nodes.t .... skipped: Please upgrade HTML::TreeBuilder::XPath and HTML::TreeBuilder::LibXML modules for comment nodes supporting
t/21_html5.t ............ ok
t/redefine.t ............ ok
t/xml-simple.t .......... skipped: Test requires module 'HTML::TreeBuilder::LibXML' but it's not found
All tests successful.
Files=23, Tests=38,  9 wallclock secs ( 0.12 usr  0.01 sys +  3.66 cusr  0.68 csys =  4.47 CPU)
Result: PASS

------------------------------
PREREQUISITES
------------------------------

Prerequisite modules loaded:

requires:

    Module                   Need     Have    
    ------------------------ -------- --------
    HTML::Entities           0        3.69    
    HTML::Selector::XPath    0.03     0.14    
    HTML::Tagset             0        3.20    
    HTML::TreeBuilder        3.23     4.2     
  ! HTML::TreeBuilder::XPath 0.08     broken  
    LWP                      5.827    6.03    
    perl                     5.008001 5.010000
    Scalar::Util             0        1.23    
    UNIVERSAL::require       0        0.13    
    URI                      0        1.59    
  ! XML::XPathEngine         0.08     broken  
    YAML                     0        0.80    

build_requires:

    Module                   Need     Have    
    ------------------------ -------- --------
    ExtUtils::MakeMaker      6.62     6.62    
    Test::Base               0        0.60    
    Test::More               0        0.98    
    Test::Requires           0        0.06    

configure_requires:

    Module                   Need     Have    
    ------------------------ -------- --------
    ExtUtils::MakeMaker      6.62     6.62    


------------------------------
ENVIRONMENT AND OTHER CONTEXT
------------------------------

Environment variables:

    AUTOMATED_TESTING = 1
    PATH = /usr/bin:/bin:/usr/pkg/bin:/usr/local/bin
    PERL5LIB = /home/njh/.cpan/build/HTML-Selector-XPath-0.14-Xolri_/blib/arch:/home/njh/.cpan/build/HTML-Selector-XPath-0.14-Xolri_/blib/lib:/home/njh/.cpan/build/LWP-Online-1.08-VCdb0W/blib/arch:/home/njh/.cpan/build/LWP-Online-1.08-VCdb0W/blib/lib:/home/njh/.cpan/build/Test-Base-0.60-aemM3T/blib/arch:/home/njh/.cpan/build/Test-Base-0.60-aemM3T/blib/lib:/home/njh/.cpan/build/Spiffy-0.30-hVhmsA/blib/arch:/home/njh/.cpan/build/Spiffy-0.30-hVhmsA/blib/lib
    PERL5OPT = 
    PERL5_CPANPLUS_IS_RUNNING = 3477
    PERL5_CPAN_IS_RUNNING = 3477
    PERL5_MINISMOKEBOX = 0.54
    PERL_EXTUTILS_AUTOINSTALL = --defaultdeps
    PERL_MM_USE_DEFAULT = 1
    SHELL = /bin/sh

Perl special variables (and OS-specific diagnostics, for MSWin32):

    $^X = /home/njh/perl5/perlbrew/perls/perl-5.10.0/bin/perl
    $UID/$EUID = 500 / 500
    $GID = 100 0 100
    $EGID = 100 0 100

Perl module toolchain versions installed:

    Module              Have    
    ------------------- --------
    CPAN                1.9800  
    CPAN::Meta          2.120351
    Cwd                 3.33    
    ExtUtils::CBuilder  0.280202
    ExtUtils::Command   1.17    
    ExtUtils::Install   1.54    
    ExtUtils::MakeMaker 6.62    
    ExtUtils::Manifest  1.60    
    ExtUtils::ParseXS   3.15    
    File::Spec          3.33    
    JSON                2.53    
    JSON::PP            2.27200 
    Module::Build       0.3800  
    Module::Signature   n/a     
    Parse::CPAN::Meta   1.4402  
    Test::Harness       3.23    
    Test::More          0.98    
    YAML                0.80    
    YAML::Syck          1.20    
    version             0.96    


--

Summary of my perl5 (revision 5 version 10 subversion 0) configuration:
  Platform:
    osname=netbsd, osvers=4.0, archname=i386-netbsd
    uname='netbsd philips.bandsman.co.uk 4.0 netbsd 4.0 (generic) #0: sun dec 16 00:20:10 pst 2007 builds@wb34:homebuildsabnetbsd-4-0-releasei386200712160005z-objhomebuildsabnetbsd-4-0-releasesrcsysarchi386compilegeneric i386 '
    config_args='-de -Dprefix=/home/njh/perl5/perlbrew/perls/perl-5.10.0'
    hint=recommended, useposix=true, d_sigaction=define
    useithreads=undef, usemultiplicity=undef
    useperlio=define, d_sfio=undef, uselargefiles=define, usesocks=undef
    use64bitint=undef, use64bitall=undef, uselongdouble=undef
    usemymalloc=n, bincompat5005=undef
  Compiler:
    cc='cc', ccflags ='-fno-strict-aliasing -pipe -I/usr/pkg/include -I/usr/local/include',
    optimize='-O',
    cppflags='-fno-strict-aliasing -pipe -I/usr/pkg/include -I/usr/local/include'
    ccversion='', gccversion='4.1.2 20061021 prerelease (NetBSD nb3 20061125)', gccosandvers=''
    intsize=4, longsize=4, ptrsize=4, doublesize=8, byteorder=1234
    d_longlong=define, longlongsize=8, d_longdbl=define, longdblsize=12
    ivtype='long', ivsize=4, nvtype='double', nvsize=8, Off_t='off_t', lseeksize=8
    alignbytes=4, prototype=define
  Linker and Libraries:
    ld='cc', ldflags =' -Wl,-rpath,/usr/pkg/lib -Wl,-rpath,/usr/local/lib -L/usr/pkg/lib -L/usr/local/lib'
    libpth=/usr/pkg/lib /usr/local/lib /lib /usr/lib
    libs=-lgdbm -lm -lcrypt -lutil -lc -lposix
    perllibs=-lm -lcrypt -lutil -lc -lposix
    libc=/lib/libc.so, so=so, useshrplib=false, libperl=libperl.a
    gnulibc_version=''
  Dynamic Linking:
    dlsrc=dl_dlopen.xs, dlext=so, d_dlsymun=undef, ccdlflags='-Wl,-E '
    cccdlflags='-DPIC -fPIC ', lddlflags='--whole-archive -shared  -L/usr/pkg/lib -L/usr/local/lib'


Characteristics of this binary (from libperl): 
  Compile-time options: PERL_DONT_CREATE_GVSV PERL_MALLOC_WRAP
                        USE_LARGE_FILES USE_PERLIO
  Built under netbsd
  Compiled at Jul 15 2011 23:01:57
  %ENV:
    PERL5LIB="/home/njh/.cpan/build/HTML-Selector-XPath-0.14-Xolri_/blib/arch:/home/njh/.cpan/build/HTML-Selector-XPath-0.14-Xolri_/blib/lib:/home/njh/.cpan/build/LWP-Online-1.08-VCdb0W/blib/arch:/home/njh/.cpan/build/LWP-Online-1.08-VCdb0W/blib/lib:/home/njh/.cpan/build/Test-Base-0.60-aemM3T/blib/arch:/home/njh/.cpan/build/Test-Base-0.60-aemM3T/blib/lib:/home/njh/.cpan/build/Spiffy-0.30-hVhmsA/blib/arch:/home/njh/.cpan/build/Spiffy-0.30-hVhmsA/blib/lib"
    PERL5OPT=""
    PERL5_CPANPLUS_IS_RUNNING="3477"
    PERL5_CPAN_IS_RUNNING="3477"
    PERL5_MINISMOKEBOX="0.54"
    PERL_EXTUTILS_AUTOINSTALL="--defaultdeps"
    PERL_MM_USE_DEFAULT="1"
  @INC:
    /home/njh/.cpan/build/HTML-Selector-XPath-0.14-Xolri_/blib/arch
    /home/njh/.cpan/build/HTML-Selector-XPath-0.14-Xolri_/blib/lib
    /home/njh/.cpan/build/LWP-Online-1.08-VCdb0W/blib/arch
    /home/njh/.cpan/build/LWP-Online-1.08-VCdb0W/blib/lib
    /home/njh/.cpan/build/Test-Base-0.60-aemM3T/blib/arch
    /home/njh/.cpan/build/Test-Base-0.60-aemM3T/blib/lib
    /home/njh/.cpan/build/Spiffy-0.30-hVhmsA/blib/arch
    /home/njh/.cpan/build/Spiffy-0.30-hVhmsA/blib/lib
    /home/njh/perl5/perlbrew/perls/perl-5.10.0/lib/5.10.0/i386-netbsd
    /home/njh/perl5/perlbrew/perls/perl-5.10.0/lib/5.10.0
    /home/njh/perl5/perlbrew/perls/perl-5.10.0/lib/site_perl/5.10.0/i386-netbsd
    /home/njh/perl5/perlbrew/perls/perl-5.10.0/lib/site_perl/5.10.0
    .