SQL-Translator v1.64 Perl 5 v5.38.2 darwin-thread-multi-2level

Status
Pass
From
Gintautas Grigelionis
Dist
SQL-Translator v1.64
Platform
Perl 5 v5.38.2 darwin-thread-multi-2level
Date
2023-12-23 00:11:02
ID
c1e3f36c-a127-11ee-a5b8-4e208b661fc5
This distribution has been tested as part of the CPAN Testers
project, supporting the Perl programming language.  See
http://wiki.cpantesters.org/ for more information or email
questions to cpan-testers-discuss@perl.org


--
Dear Avishai Goldman,

This is a computer-generated report for SQL-Translator-1.64
on perl 5.38.2, created by CPAN-Reporter-1.2019.

Thank you for uploading your work to CPAN.  Congratulations!
All tests were successful.

Sections of this report:

    * Tester comments
    * Program output
    * Prerequisites
    * Environment and other context

------------------------------
TESTER COMMENTS
------------------------------

Additional comments from tester:

none provided

------------------------------
PROGRAM OUTPUT
------------------------------

Output from '/usr/bin/make test':

Skip blib/lib/auto/share/dist/SQL-Translator/DiaUml/uml-class-start.tt2 (unchanged)
Skip blib/lib/auto/share/dist/SQL-Translator/DiaUml/uml-class.tt2 (unchanged)
Skip blib/lib/auto/share/dist/SQL-Translator/DiaUml/uml-attribute.tt2 (unchanged)
Skip blib/lib/auto/share/dist/SQL-Translator/DiaUml/diagram.tt2 (unchanged)
Skip blib/lib/auto/share/dist/SQL-Translator/DiaUml/uml-class-end.tt2 (unchanged)
Skip blib/lib/auto/share/dist/SQL-Translator/DiaUml/schema.tt2 (unchanged)
Skip blib/lib/auto/share/dist/SQL-Translator/DiaUml/layer.tt2 (unchanged)
Skip blib/lib/auto/share/dist/SQL-Translator/DiaUml/uml-class-all.tt2 (unchanged)
Skip blib/lib/auto/share/dist/SQL-Translator/PrecompiledParsers/Parse/RecDescent/DDL/SQLT/README (unchanged)
PERL_DL_NONLAZY=1 "/usr/local/Cellar/perl/5.38.2/bin/perl" "-MExtUtils::Command::MM" "-MTest::Harness" "-e" "undef *Test::Harness::Switches; test_harness(0, 'blib/lib', 'blib/arch')" t/*.t
t/02mysql-parser.t ...................... ok
t/03mysql-to-oracle.t ................... ok
t/04file,fh,string.t .................... ok
t/05bgep-re.t ........................... ok
t/06xsv.t ............................... ok
t/07p_args.t ............................ ok
t/08postgres-to-mysql.t ................. ok
t/09sqlt-diagram.t ...................... ok
t/10excel.t ............................. ok
t/11normalize.t ......................... ok
t/12header_comment.t .................... ok
t/13schema.t ............................ ok
t/14postgres-parser.t ................... ok
t/15oracle-parser.t ..................... ok
Warning: XML::LibXML compiled against libxml2 20913, but runtime libxml2 is older 20904
t/16xml-parser.t ........................ ok
t/17sqlfxml-producer.t .................. ok
Warning: XML::LibXML compiled against libxml2 20913, but runtime libxml2 is older 20904
t/18ttschema-producer.t ................. ok
t/19sybase-parser.t ..................... ok
t/20format_X_name.t ..................... ok
t/23json.t .............................. ok
t/24yaml.t .............................. ok
t/25storable.t .......................... ok
t/26sybase.t ............................ ok
t/27sqlite-parser.t ..................... ok
t/29html.t .............................. ok
t/30sqlt-new-diff-mysql.t ............... ok
t/30sqlt-new-diff-pgsql.t ............... ok
t/30sqlt-new-diff-sqlite.t .............. ok
t/30sqlt-new-diff.t ..................... ok
t/31dumper.t ............................ ok
t/32schema-lookups.t .................... ok
t/33tt-table-producer.t ................. ok
Warning: XML::LibXML compiled against libxml2 20913, but runtime libxml2 is older 20904
t/34tt-base.t ........................... ok
t/35-access-parser.t .................... ok
t/36-filters.t .......................... ok
t/38-filter-names.t ..................... ok
t/38-mysql-producer.t ................... ok
t/39-filter-globals.t ................... ok
t/40oracle-parser-dbi.t ................. ok
Warning: XML::LibXML compiled against libxml2 20913, but runtime libxml2 is older 20904
t/43xml-to-db2.t ........................ ok
Warning: XML::LibXML compiled against libxml2 20913, but runtime libxml2 is older 20904
t/44-xml-to-db2-array.t ................. ok
t/45db2-producer.t ...................... ok
Warning: XML::LibXML compiled against libxml2 20913, but runtime libxml2 is older 20904
t/46xml-to-pg.t ......................... ok
t/47postgres-producer.t ................. ok
Warning: XML::LibXML compiled against libxml2 20913, but runtime libxml2 is older 20904
t/48xml-to-sqlite.t ..................... ok
Warning: XML::LibXML compiled against libxml2 20913, but runtime libxml2 is older 20904
t/49xml-to-pg-samefield.t ............... ok
t/50-sqlserver-parser.t ................. ok
Warning: XML::LibXML compiled against libxml2 20913, but runtime libxml2 is older 20904
t/51-xml-to-oracle.t .................... ok
Warning: XML::LibXML compiled against libxml2 20913, but runtime libxml2 is older 20904
t/51-xml-to-oracle_quoted.t ............. ok
t/52-oracle-options.t ................... ok
t/53-oracle-delay-constraints.t ......... ok
t/53-oracle-delay-constraints_quoted.t .. ok
t/54-oracle-alter-constraint.t .......... ok
t/54-oracle-alter-field.t ............... ok
t/54-oracle-sql-diff.t .................. ok
t/55-oracle-add-drop-field.t ............ ok
t/55-oracle-producer.t .................. ok
t/56-sqlite-producer.t .................. ok
t/57-class-dbi.t ........................ ok
Warning: XML::LibXML compiled against libxml2 20913, but runtime libxml2 is older 20904
t/60roundtrip.t ......................... ok
Warning: XML::LibXML compiled against libxml2 20913, but runtime libxml2 is older 20904
t/61translator_agnostic.t ............... ok
Warning: XML::LibXML compiled against libxml2 20913, but runtime libxml2 is older 20904
t/62roundtrip_datacheck.t ............... ok
t/63-spacial-pgsql.t .................... ok
Warning: XML::LibXML compiled against libxml2 20913, but runtime libxml2 is older 20904
t/64xml-to-mysql.t ...................... ok
t/66-postgres-dbi-parser.t .............. skipped: Set $ENV{DBICTEST_PG_DSN}, _USER and _PASS to run this test, or install Test::PostgreSQL
t/70sqlt-diff_script.t .................. ok
t/70sqlt-diff_script_old.t .............. ok
t/71-generator-sql_server.t ............. ok
t/72-sqlite-add-drop-fields.t ........... ok
t/73-sqlite-respects-quote.t ............ ok
t/74-filename-arrayref.t ................ ok
t/75-sqlserver-producer.t ............... ok
t/mysql-sqlite-translate.t .............. ok
t/postgresql-rename-table-and-field.t ... skipped: Missing dependency: DBD::Pg
t/sqlite-rename-field.t ................. ok
All tests successful.

Test Summary Report
-------------------
t/60roundtrip.t                       (Wstat: 0 Tests: 100 Failed: 0)
  TODO passed:   92, 94, 98, 100
Files=75, Tests=2050, 46 wallclock secs ( 0.33 usr  0.18 sys + 39.86 cusr  3.33 csys = 43.70 CPU)
Result: PASS

------------------------------
PREREQUISITES
------------------------------

Prerequisite modules loaded:

requires:

    Module                  Need     Have    
    ----------------------- -------- --------
    Carp::Clan              0        6.08    
    DBI                     1.54     1.643   
    Digest::SHA             0        6.04    
    File::ShareDir          1.0      1.118   
    Moo                     1.000003 2.005005
    Package::Variant        1.001001 1.003002
    Parse::RecDescent       1.967009 1.967015
    perl                    5.008001 5.038002
    Scalar::Util            0        1.63    
    Sub::Quote              0        2.006008
    Try::Tiny               0.04     0.31    

build_requires:

    Module                  Need     Have    
    ----------------------- -------- --------
    ExtUtils::MakeMaker     0        7.70    
    JSON::MaybeXS           1.003003 1.004005
    Test::Differences       0        0.71    
    Test::Exception         0.31     0.43    
    Test::More              0.88     1.302198
    Text::ParseWords        0        3.31    
    XML::Writer             0.500    0.900   
    YAML                    0.66     1.30    

configure_requires:

    Module                  Need     Have    
    ----------------------- -------- --------
    ExtUtils::MakeMaker     6.54     7.70    
    File::ShareDir::Install 0        0.14    

opt_requires:

    Module                  Need     Have    
    ----------------------- -------- --------
    GD                      0        2.78    
    Graph::Directed         0        0       
    GraphViz                0        2.26    
    Spreadsheet::ParseExcel 0.41     0.65    
    Template                2.20     3.101   
    Text::RecordParser      0.02     1.6.5   
    XML::LibXML             1.69     2.0209  


------------------------------
ENVIRONMENT AND OTHER CONTEXT
------------------------------

Environment variables:

    LC_CTYPE = UTF-8
    PATH = /Users/gintas/Projects/perl5/bin:/usr/local/bin:/usr/bin:/bin:/usr/sbin:/sbin:/usr/local/MacGPG2/bin:/opt/X11/bin:/Library/Apple/usr/bin
    PERL5LIB = /Users/gintas/Projects/perl5/lib/perl5
    PERL5OPT = 
    PERL5_CPANPLUS_IS_RUNNING = 19160
    PERL5_CPAN_IS_RUNNING = 19160
    PERL_LOCAL_LIB_ROOT = /Users/gintas/Projects/perl5
    PERL_MB_OPT = --install_base "/Users/gintas/Projects/perl5"
    PERL_MM_OPT = INSTALL_BASE=/Users/gintas/Projects/perl5
    PERL_USE_UNSAFE_INC = 1
    SHELL = /bin/bash
    TERM = xterm-256color
    TMPDIR = /var/folders/7j/gsygg6dj3yg5vj5ph2nk1x880000gn/T/

Perl special variables (and OS-specific diagnostics, for MSWin32):

    $^X = /usr/local/Cellar/perl/5.38.2/bin/perl
    $UID/$EUID = 501 / 501
    $GID = 20 20 701 12 61 79 80 81 98 703 702 704 33 100 204 250 395
    $EGID = 20 20 701 12 61 79 80 81 98 703 702 704 33 100 204 250 395

Perl module toolchain versions installed:

    Module              Have    
    ------------------- --------
    CPAN                2.36    
    CPAN::Meta          2.150010
    Cwd                 3.89    
    ExtUtils::CBuilder  0.280236
    ExtUtils::Command   7.70    
    ExtUtils::Install   2.22    
    ExtUtils::MakeMaker 7.70    
    ExtUtils::Manifest  1.75    
    ExtUtils::ParseXS   3.51    
    File::Spec          3.88    
    JSON                4.10    
    JSON::PP            4.16    
    Module::Build       0.4234  
    Module::Signature   0.88    
    Parse::CPAN::Meta   2.150010
    Test2               1.302198
    Test::Harness       3.48    
    Test::More          1.302198
    YAML                1.30    
    YAML::Syck          1.34    
    version             0.9930  


--

Summary of my perl5 (revision 5 version 38 subversion 2) configuration:
   
  Platform:
    osname=darwin
    osvers=21.6.0
    archname=darwin-thread-multi-2level
    uname='darwin monterey 21.6.0 darwin kernel version 21.6.0: thu jul 6 22:18:26 pdt 2023; root:xnu-8020.240.18.702.13~1release_x86_64 x86_64 '
    config_args='-des -Dinstallstyle=lib/perl5 -Dinstallprefix=/usr/local/Cellar/perl/5.38.2 -Dprefix=/usr/local/opt/perl -Dprivlib=/usr/local/opt/perl/lib/perl5/5.38 -Dsitelib=/usr/local/opt/perl/lib/perl5/site_perl/5.38 -Dotherlibdirs=/usr/local/lib/perl5/site_perl/5.38 -Dperlpath=/usr/local/opt/perl/bin/perl -Dstartperl=#!/usr/local/opt/perl/bin/perl -Dman1dir=/usr/local/opt/perl/share/man/man1 -Dman3dir=/usr/local/opt/perl/share/man/man3 -Duseshrplib -Duselargefiles -Dusethreads'
    hint=recommended
    useposix=true
    d_sigaction=define
    useithreads=define
    usemultiplicity=define
    use64bitint=define
    use64bitall=define
    uselongdouble=undef
    usemymalloc=n
    default_inc_excludes_dot=define
  Compiler:
    cc='cc'
    ccflags ='-fno-common -DPERL_DARWIN -mmacosx-version-min=12.6 -DNO_POSIX_2008_LOCALE -fno-strict-aliasing -pipe -fstack-protector-strong -I/usr/local/include'
    optimize='-O3'
    cppflags='-fno-common -DPERL_DARWIN -mmacosx-version-min=12.6 -DNO_POSIX_2008_LOCALE -fno-strict-aliasing -pipe -fstack-protector-strong -I/usr/local/include'
    ccversion=''
    gccversion='Apple LLVM 14.0.0 (clang-1400.0.29.202)'
    gccosandvers=''
    intsize=4
    longsize=8
    ptrsize=8
    doublesize=8
    byteorder=12345678
    doublekind=3
    d_longlong=define
    longlongsize=8
    d_longdbl=define
    longdblsize=16
    longdblkind=3
    ivtype='long'
    ivsize=8
    nvtype='double'
    nvsize=8
    Off_t='off_t'
    lseeksize=8
    alignbytes=8
    prototype=define
  Linker and Libraries:
    ld='cc'
    ldflags =' -mmacosx-version-min=12.6 -fstack-protector-strong -L/usr/local/lib'
    libpth=/usr/local/opt/berkeley-db/lib /usr/local/lib /Applications/Xcode.app/Contents/Developer/Toolchains/XcodeDefault.xctoolchain/usr/lib/clang/14.0.0/lib /Library/Developer/CommandLineTools/SDKs/MacOSX12.sdk/usr/lib /Applications/Xcode.app/Contents/Developer/Toolchains/XcodeDefault.xctoolchain/usr/lib /usr/lib
    libs=-lgdbm -ldb
    perllibs=
    libc=
    so=dylib
    useshrplib=true
    libperl=libperl.dylib
    gnulibc_version=''
  Dynamic Linking:
    dlsrc=dl_dlopen.xs
    dlext=bundle
    d_dlsymun=undef
    ccdlflags=' '
    cccdlflags=' '
    lddlflags=' -mmacosx-version-min=12.6 -bundle -undefined dynamic_lookup -L/usr/local/lib -fstack-protector-strong'


Characteristics of this binary (from libperl): 
  Compile-time options:
    HAS_LONG_DOUBLE
    HAS_STRTOLD
    HAS_TIMES
    MULTIPLICITY
    PERLIO_LAYERS
    PERL_COPY_ON_WRITE
    PERL_DONT_CREATE_GVSV
    PERL_HASH_FUNC_SIPHASH13
    PERL_HASH_USE_SBOX32
    PERL_MALLOC_WRAP
    PERL_OP_PARENT
    PERL_PRESERVE_IVUV
    PERL_USE_SAFE_PUTENV
    USE_64_BIT_ALL
    USE_64_BIT_INT
    USE_ITHREADS
    USE_LARGE_FILES
    USE_LOCALE
    USE_LOCALE_COLLATE
    USE_LOCALE_CTYPE
    USE_LOCALE_NUMERIC
    USE_LOCALE_TIME
    USE_PERLIO
    USE_PERL_ATOF
    USE_REENTRANT_API
  Built under darwin
  Compiled at Nov 30 2023 17:13:32
  %ENV:
    PERL5LIB="/Users/gintas/Projects/perl5/lib/perl5"
    PERL5OPT=""
    PERL5_CPANPLUS_IS_RUNNING="19160"
    PERL5_CPAN_IS_RUNNING="19160"
    PERL_LOCAL_LIB_ROOT="/Users/gintas/Projects/perl5"
    PERL_MB_OPT="--install_base "/Users/gintas/Projects/perl5""
    PERL_MM_OPT="INSTALL_BASE=/Users/gintas/Projects/perl5"
    PERL_USE_UNSAFE_INC="1"
  @INC:
    /Users/gintas/Projects/perl5/lib/perl5/5.38.2/darwin-thread-multi-2level
    /Users/gintas/Projects/perl5/lib/perl5/5.38.2
    /Users/gintas/Projects/perl5/lib/perl5/darwin-thread-multi-2level
    /Users/gintas/Projects/perl5/lib/perl5
    /usr/local/opt/perl/lib/perl5/site_perl/5.38/darwin-thread-multi-2level
    /usr/local/opt/perl/lib/perl5/site_perl/5.38
    /usr/local/opt/perl/lib/perl5/5.38/darwin-thread-multi-2level
    /usr/local/opt/perl/lib/perl5/5.38
    /usr/local/lib/perl5/site_perl/5.38
    .