MooseX-Types-Structured v0.36 Perl 5 v5.16.0 i686-linux-64int

Status
Pass
From
Chris Williams (BINGOS)
Dist
MooseX-Types-Structured v0.36
Platform
Perl 5 v5.16.0 i686-linux-64int
Date
2020-04-18 15:39:14
ID
c2037dba-818a-11ea-9066-e374b0ba08e8
This distribution has been tested as part of the CPAN Testers
project, supporting the Perl programming language.  See
http://wiki.cpantesters.org/ for more information or email
questions to cpan-testers-discuss@perl.org


--

Dear Karen Etheridge,

This is a computer-generated error report created automatically by
CPANPLUS, version 0.9906. Testers personal comments may appear
at the end of this report.


Thank you for uploading your work to CPAN.  Congratulations!
All tests were successful.

TEST RESULTS:

Below is the error stack from stage 'make test':

t/00-load.t .................... ok
# 
# Versions for all modules listed in MYMETA.json (including optional ones):
# 
# === Configure Requires ===
# 
#     Module               Want  Have
#     ------------------- ----- -----
#     Module::Build::Tiny 0.034 0.039
# 
# === Configure Suggests ===
# 
#     Module      Want Have
#     -------- ------- ----
#     JSON::PP 2.27300 4.04
# 
# === Test Requires ===
# 
#     Module               Want     Have
#     -------------------- ---- --------
#     Data::Dumper          any 2.135_06
#     DateTime              any     1.52
#     File::Spec            any     3.75
#     Module::Metadata      any 1.000037
#     MooseX::Types::Moose  any     0.50
#     Test::Fatal           any    0.014
#     Test::More           0.88 1.302172
#     Test::Needs           any 0.002006
#     strict                any     1.07
#     warnings              any     1.13
# 
# === Test Recommends ===
# 
#     Module         Want     Have
#     ---------- -------- --------
#     CPAN::Meta 2.120900 2.150010
# 
# === Test Suggests ===
# 
#     Module                  Want    Have
#     ----------------------- ---- -------
#     MooseX::Types::DateTime  any missing
# 
# === Runtime Requires ===
# 
#     Module                                        Want   Have
#     -------------------------------------------- ----- ------
#     Devel::PartialDump                            0.13   0.20
#     Moose                                          any 2.2012
#     Moose::Meta::TypeCoercion                      any 2.2012
#     Moose::Meta::TypeConstraint                    any 2.2012
#     Moose::Meta::TypeConstraint::Parameterizable   any 2.2012
#     Moose::Util::TypeConstraints                  1.06 2.2012
#     MooseX::Types                                 0.22   0.50
#     Scalar::Util                                   any   1.55
#     Sub::Exporter                                0.982  0.987
#     if                                             any 0.0602
#     namespace::clean                              0.19   0.27
#     overload                                       any   1.18
# 
# === Other Modules ===
# 
#     Module                  Have
#     -------------------- -------
#     Dist::CheckConflicts    0.11
#     JSON::PP                4.04
#     Sub::Name               0.26
#     YAML                 missing
#     autodie                 2.10
# 
t/00-report-prereqs.t .......... ok
t/01-basic.t ................... ok
t/02-tuple.t ................... ok
t/03-dict.t .................... ok
t/04-combined.t ................ ok
t/04-map.t ..................... ok
t/05-advanced.t ................ ok
t/06-api.t ..................... ok
t/07-coerce.t .................. ok
t/08-examples.t ................ skipped: Need MooseX::Types::DateTime
t/09-optional.t ................ ok
t/10-recursion.t ............... ok
t/11-overflow.t ................ ok
t/12-error.t ................... ok
t/13-deeper_error.t ............ ok
t/14-fully-qualified.t ......... ok
t/bug-incorrect-message.t ...... ok
t/bug-is-subtype.t ............. ok
t/bug-mixed-stringy.t .......... ok
t/bug-optional.t ............... ok
t/regressions/01-is_type_of.t .. ok
t/zzz-check-breaks.t ........... ok
All tests successful.
Files=23, Tests=352,  6 wallclock secs ( 0.07 usr  0.01 sys +  5.32 cusr  0.25 csys =  5.65 CPU)
Result: PASS


PREREQUISITES:

Here is a list of prerequisites you specified and versions we
managed to load:

	  Module Name                        Have     Want
	  Data::Dumper                   2.135_06        0
	  DateTime                           1.52        0
	  Devel::PartialDump                 0.20     0.13
	  File::Spec                         3.75        0
	  Module::Metadata               1.000037        0
	  Moose                            2.2012        0
	  Moose::Meta::TypeCoercion        2.2012        0
	  Moose::Meta::TypeConstraint      2.2012        0
	  Moose::Meta::TypeConstraint::Parameterizable   2.2012        0
	  Moose::Util::TypeConstraints     2.2012     1.06
	  MooseX::Types                      0.50     0.22
	  MooseX::Types::Moose               0.50        0
	  Scalar::Util                       1.55        0
	  Sub::Exporter                     0.987    0.982
	  Test::Fatal                       0.014        0
	  Test::More                     1.302172     0.88
	  Test::Needs                    0.002006        0
	  if                               0.0602        0
	  namespace::clean                   0.27     0.19
	  overload                           1.18        0
	  strict                             1.07        0
	  warnings                           1.13        0

Perl module toolchain versions installed:
	Module Name                        Have
	CPANPLUS                         0.9906
	CPANPLUS::Dist::Build              0.90
	Cwd                                3.75
	ExtUtils::CBuilder             0.280234
	ExtUtils::Command                  7.44
	ExtUtils::Install                  2.14
	ExtUtils::MakeMaker                7.44
	ExtUtils::Manifest                 1.72
	ExtUtils::ParseXS                  3.35
	File::Spec                         3.75
	Module::Build                    0.4231
	Pod::Parser                        1.51
	Pod::Simple                        3.20
	Test2                          1.302172
	Test::Harness                      3.42
	Test::More                     1.302172
	version                          0.9924

******************************** NOTE ********************************
The comments above are created mechanically, possibly without manual
checking by the sender.  As there are many people performing automatic
tests on each upload to CPAN, it is likely that you will receive
identical messages about the same problem.

If you believe that the message is mistaken, please reply to the first
one with correction and/or additional informations, and do not take
it personally.  We appreciate your patience. :)
**********************************************************************

Additional comments:


This report was machine-generated by CPANPLUS::Dist::YACSmoke 1.08.
Powered by minismokebox version 0.68

CPANPLUS is prefering Build.PL

------------------------------
ENVIRONMENT AND OTHER CONTEXT
------------------------------

Environment variables:

    AUTOMATED_TESTING = 1
    LANG = en_GB.UTF-8
    LANGUAGE = en_GB:en
    NONINTERACTIVE_TESTING = 1
    PATH = /usr/local/bin:/usr/bin:/bin:/usr/local/games:/usr/games
    PERL5LIB = /home/cpan/pit/jail/soV25qAq13/lib/perl5:/home/cpan/pit/64bit/conf/perl-5.16.0/.cpanplus/5.16.0/build/P3GdlDisSa/MooseX-Types-Structured-0.36/blib/lib:/home/cpan/pit/64bit/conf/perl-5.16.0/.cpanplus/5.16.0/build/P3GdlDisSa/MooseX-Types-Structured-0.36/blib/arch
    PERL5_CPANPLUS_IS_RUNNING = 4212
    PERL5_CPANPLUS_IS_VERSION = 0.9906
    PERL5_MINISMOKEBOX = 0.68
    PERL5_YACSMOKE_BASE = /home/cpan/pit/64bit/conf/perl-5.16.0
    PERL_EXTUTILS_AUTOINSTALL = --defaultdeps
    PERL_LOCAL_LIB_ROOT = /home/cpan/pit/jail/soV25qAq13
    PERL_MB_OPT = --install_base "/home/cpan/pit/jail/soV25qAq13"
    PERL_MM_OPT = INSTALL_BASE=/home/cpan/pit/jail/soV25qAq13
    PERL_MM_USE_DEFAULT = 1
    PERL_USE_UNSAFE_INC = 1
    SHELL = /bin/bash
    TERM = screen

Perl special variables (and OS-specific diagnostics, for MSWin32):

    Perl: $^X = /home/cpan/pit/64bit/perl-5.16.0/bin/perl
    UID:  $<  = 1001
    EUID: $>  = 1001
    GID:  $(  = 1001 1001
    EGID: $)  = 1001 1001


-------------------------------


--

Summary of my perl5 (revision 5 version 16 subversion 0) configuration:
   
  Platform:
    osname=linux, osvers=4.19.0-6-686, archname=i686-linux-64int
    uname='linux dagobah 4.19.0-6-686 #1 smp debian 4.19.67-2+deb10u2 (2019-11-11) i686 gnulinux '
    config_args='-des -Dprefix=/home/cpan/pit/64bit/perl-5.16.0 -Duse64bitint'
    hint=recommended, useposix=true, d_sigaction=define
    useithreads=undef, usemultiplicity=undef
    useperlio=define, d_sfio=undef, uselargefiles=define, usesocks=undef
    use64bitint=define, use64bitall=undef, uselongdouble=undef
    usemymalloc=n, bincompat5005=undef
  Compiler:
    cc='cc', ccflags ='-fwrapv -fno-strict-aliasing -pipe -fstack-protector -I/usr/local/include -D_LARGEFILE_SOURCE -D_FILE_OFFSET_BITS=64',
    optimize='-O2',
    cppflags='-fwrapv -fno-strict-aliasing -pipe -fstack-protector -I/usr/local/include'
    ccversion='', gccversion='8.3.0', gccosandvers=''
    intsize=4, longsize=4, ptrsize=4, doublesize=8, byteorder=12345678
    d_longlong=define, longlongsize=8, d_longdbl=define, longdblsize=12
    ivtype='long long', ivsize=8, nvtype='double', nvsize=8, Off_t='off_t', lseeksize=8
    alignbytes=4, prototype=define
  Linker and Libraries:
    ld='cc', ldflags =' -fstack-protector -L/usr/local/lib'
    libpth=/usr/local/lib /lib/i386-linux-gnu /lib/../lib /usr/lib/i386-linux-gnu /usr/lib/../lib /lib /usr/lib /lib64 /usr/lib64
    libs=-lnsl -lgdbm -ldl -lm -lcrypt -lutil -lc
    perllibs=-lnsl -ldl -lm -lcrypt -lutil -lc
    libc=libc-2.28.so, so=so, useshrplib=false, libperl=libperl.a
    gnulibc_version='2.28'
  Dynamic Linking:
    dlsrc=dl_dlopen.xs, dlext=so, d_dlsymun=undef, ccdlflags='-Wl,-E'
    cccdlflags='-fPIC', lddlflags='-shared -O2 -L/usr/local/lib -fstack-protector'


Characteristics of this binary (from libperl): 
  Compile-time options: HAS_TIMES PERLIO_LAYERS PERL_DONT_CREATE_GVSV
                        PERL_MALLOC_WRAP PERL_PRESERVE_IVUV USE_64_BIT_INT
                        USE_LARGE_FILES USE_LOCALE USE_LOCALE_COLLATE
                        USE_LOCALE_CTYPE USE_LOCALE_NUMERIC USE_PERLIO
                        USE_PERL_ATOF
  Locally applied patches:
	Devel::PatchPerl 1.80
  Built under linux
  Compiled at Nov 29 2019 10:30:00
  %ENV:
    PERL5LIB="/home/cpan/pit/jail/soV25qAq13/lib/perl5:/home/cpan/pit/64bit/conf/perl-5.16.0/.cpanplus/5.16.0/build/P3GdlDisSa/MooseX-Types-Structured-0.36/blib/lib:/home/cpan/pit/64bit/conf/perl-5.16.0/.cpanplus/5.16.0/build/P3GdlDisSa/MooseX-Types-Structured-0.36/blib/arch"
    PERL5_CPANPLUS_IS_RUNNING="4212"
    PERL5_CPANPLUS_IS_VERSION="0.9906"
    PERL5_MINISMOKEBOX="0.68"
    PERL5_YACSMOKE_BASE="/home/cpan/pit/64bit/conf/perl-5.16.0"
    PERL_EXTUTILS_AUTOINSTALL="--defaultdeps"
    PERL_LOCAL_LIB_ROOT="/home/cpan/pit/jail/soV25qAq13"
    PERL_MB_OPT="--install_base "/home/cpan/pit/jail/soV25qAq13""
    PERL_MM_OPT="INSTALL_BASE=/home/cpan/pit/jail/soV25qAq13"
    PERL_MM_USE_DEFAULT="1"
    PERL_USE_UNSAFE_INC="1"
  @INC:
    /home/cpan/pit/jail/soV25qAq13/lib/perl5/5.16.0/i686-linux-64int
    /home/cpan/pit/jail/soV25qAq13/lib/perl5/5.16.0
    /home/cpan/pit/jail/soV25qAq13/lib/perl5/i686-linux-64int
    /home/cpan/pit/jail/soV25qAq13/lib/perl5
    /home/cpan/pit/64bit/conf/perl-5.16.0/.cpanplus/5.16.0/build/P3GdlDisSa/MooseX-Types-Structured-0.36/blib/lib
    /home/cpan/pit/64bit/conf/perl-5.16.0/.cpanplus/5.16.0/build/P3GdlDisSa/MooseX-Types-Structured-0.36/blib/arch
    /home/cpan/pit/64bit/perl-5.16.0/lib/site_perl/5.16.0/i686-linux-64int
    /home/cpan/pit/64bit/perl-5.16.0/lib/site_perl/5.16.0
    /home/cpan/pit/64bit/perl-5.16.0/lib/5.16.0/i686-linux-64int
    /home/cpan/pit/64bit/perl-5.16.0/lib/5.16.0
    .