XML-Parser v2.44 Perl 5 v5.28.2 x86_64-linux-threads-debug@-multi

Status
Pass
From
Reini Urban (RURBAN)
Dist
XML-Parser v2.44
Platform
Perl 5 v5.28.2 x86_64-linux-threads-debug@-multi
Date
2019-04-09 07:40:33
ID
c20a3a32-5a9a-11e9-93fd-a3bcc4860151
This distribution has been tested as part of the CPAN Testers
project, supporting the Perl programming language.  See
http://wiki.cpantesters.org/ for more information or email
questions to cpan-testers-discuss@perl.org


--
Dear Todd Rinaldo,

This is a computer-generated report for XML-Parser-2.44
on perl 5.28.2, created by CPAN-Reporter-1.2018.

Thank you for uploading your work to CPAN.  Congratulations!
All tests were successful.

Sections of this report:

    * Tester comments
    * Program output
    * Prerequisites
    * Environment and other context

------------------------------
TESTER COMMENTS
------------------------------

Additional comments from tester:

this report is from an automated smoke testing program
and was not reviewed by a human for accuracy

------------------------------
PROGRAM OUTPUT
------------------------------

Output from '/usr/bin/make test':

make[1]: Entering directory '/home/rurban/Perl/.cpan-build/XML-Parser-2.44-3/Expat'
"/usr/local/bin/cperl5.28.2-thr" -MExtUtils::Command::MM -e 'cp_nonempty' -- Expat.bs ../blib/arch/auto/XML/Parser/Expat/Expat.bs 644
make[1]: Leaving directory '/home/rurban/Perl/.cpan-build/XML-Parser-2.44-3/Expat'
PERL_DL_NONLAZY=1 "/usr/local/bin/cperl5.28.2-thr" "-MExtUtils::Command::MM" "-MTest::Harness" "-e" "undef *Test::Harness::Switches; test_harness(0, 'blib/lib', 'blib/arch')" t/*.t
t/astress.t ........... ok
t/cdata.t ............. ok
t/decl.t .............. ok
t/defaulted.t ......... ok
t/encoding.t .......... ok
t/external_ent.t ...... ok
t/file.t .............. ok
t/file_open_scalar.t .. ok
t/finish.t ............ ok
t/namespaces.t ........ ok
t/parament.t .......... ok
t/partial.t ........... ok
t/skip.t .............. ok
t/stream.t ............ ok
t/styles.t ............ ok
All tests successful.
Files=15, Tests=141,  1 wallclock secs ( 0.14 usr  0.01 sys +  1.31 cusr  0.12 csys =  1.58 CPU)
Result: PASS

------------------------------
PREREQUISITES
------------------------------

Prerequisite modules loaded:

requires:

    Module              Need    Have     
    ------------------- ------- ---------
    LWP::UserAgent      0       6.38     
    perl                5.00405 5.028002 

build_requires:

    Module              Need    Have     
    ------------------- ------- ---------
    Test::More          0       1.401015c

configure_requires:

    Module              Need    Have     
    ------------------- ------- ---------
    ExtUtils::MakeMaker 0       8.35_08  


------------------------------
ENVIRONMENT AND OTHER CONTEXT
------------------------------

Environment variables:

    AUTOMATED_TESTING = 1
    LANG = en_US.UTF-8
    LC_CTYPE = en_US.UTF-8
    NONINTERACTIVE_TESTING = 1
    PATH = /home/rurban/bin:/usr/local/bin:/usr/bin:/bin:/usr/local/games:/usr/games:/home/rurban/go/bin:/home/rurban/.cargo/bin
    PERL5LIB = 
    PERL5OPT = 
    PERL5_CPANPLUS_IS_RUNNING = 32030
    PERL5_CPAN_IS_RUNNING = 32030
    PERL_MM_USE_DEFAULT = 1
    PERL_USE_UNSAFE_INC = 1
    SHELL = /bin/bash
    TERM = screen

Perl special variables (and OS-specific diagnostics, for MSWin32):

    $^X = /usr/local/bin/cperl5.28.2-thr
    $UID/$EUID = 1000 / 1000
    $GID = 1000 27 124 157 1000
    $EGID = 1000 27 124 157 1000

Perl module toolchain versions installed:

    Module              Have      
    ------------------- ----------
    CPAN                2.21_01   
    CPAN::Meta          2.150010  
    Cwd                 4.75c     
    ExtUtils::CBuilder  0.280231  
    ExtUtils::Command   7.35_06   
    ExtUtils::Install   2.14      
    ExtUtils::MakeMaker 8.35_08   
    ExtUtils::Manifest  1.72      
    ExtUtils::ParseXS   3.39_03   
    File::Spec          4.74c     
    JSON                4.02      
    JSON::PP            2.97001_04
    Module::Build       0.4224    
    Module::Signature   0.83      
    Parse::CPAN::Meta   2.150010  
    Test::Harness       3.42_01   
    Test::More          1.401015c 
    YAML                1.27      
    YAML::Syck          n/a       
    version             0.9924_02 


--

Summary of my cperl (revision 5 version 28 subversion 2) configuration:
    
    git_branch=
  Platform:
    osname=linux, osvers=4.19.0-2-amd64, archname=x86_64-linux-threads-debug@-multi
    uname='linux reini 4.19.0-2-amd64 #1 smp debian 4.19.16-1 (2019-01-17) x86_64 gnulinux '
    config_args='-sde -Dusedevel -DDEBUGGING -Dcc=ccache gcc-8 -Accflags=-msse4.2 -march=native -DDEBUG_LEAKING_SCALARS -DPERL_TRACK_MEMPOOL -Dinstallman1dir=none -Dinstallman3dir=none -Dinstallsiteman1dir=none -Dinstallsiteman3dir=none -Darchname=x86_64-linux-threads-debug@ -Darchlib=/usr/local/lib/cperl/5.28.2/x86_64-linux-threads-debug@ -Dsitearch=/usr/local/lib/cperl/site_cperl/5.28.2/x86_64-linux-threads-debug@ -Dperlpath=/usr/local/bin/cperl5.28.2d -Dstartperl=#!/usr/local/bin/cperl5.28.2d -Dusethreads -Doptimize=-g3'
    hint=recommended, useposix=true, d_sigaction=define
    useithreads=define, usemultiplicity=define
    use64bitint=define, use64bitall=define, uselongdouble=undef
    usemymalloc=n, bincompat5005=undef default_inc_excludes_dot=define
  Compiler:
    cc='ccache gcc-8', ccflags ='-D_REENTRANT -D_GNU_SOURCE -msse4.2 -march=native -DDEBUG_LEAKING_SCALARS -DPERL_TRACK_MEMPOOL -fwrapv -DDEBUGGING -fno-strict-aliasing -pipe -fstack-protector -D_LARGEFILE_SOURCE -D_FILE_OFFSET_BITS=64',
    optimize='-g3',
    cppflags='-D_REENTRANT -D_GNU_SOURCE -msse4.2 -march=native -DDEBUG_LEAKING_SCALARS -DPERL_TRACK_MEMPOOL -fwrapv -DDEBUGGING -fno-strict-aliasing -pipe -fstack-protector'
    ccversion='', gccversion='8.3.0', gccosandvers=''
    intsize=4, longsize=8, ptrsize=8, doublesize=8, byteorder=12345678, doublekind=3
    d_longlong=define, longlongsize=8, d_longdbl=define, longdblsize=16, longdblkind=3
    ivtype='long', ivsize=8, nvtype='double', nvsize=8, Off_t='off_t', lseeksize=8
    alignbytes=8
  Linker and Libraries:
    ld='ccache gcc-8', ldflags =' -fstack-protector -L/usr/local/lib -L/opt/local/lib'
    libpth=/usr/lib/gcc/x86_64-linux-gnu/8 /usr/lib/x86_64-linux-gnu /usr/lib /lib/x86_64-linux-gnu /lib /usr/local/lib /opt/local/lib /lib64 /usr/lib64 /usr/local/lib64
    libs=-lpthread -lnsl -ldl -lm -lcrypt -lutil -lc
    perllibs=-lpthread -lnsl -ldl -lm -lcrypt -lutil -lc
    libc=libc-2.28.so, so=so, useshrplib=false, libperl=libperl.a
    gnulibc_version='2.28'
  Dynamic Linking:
    dlsrc=dl_dlopen.xs, dlext=so, d_dlsymun=undef, ccdlflags='-Wl,-E'
    cccdlflags='-fPIC', lddlflags='-shared -g3 -L/usr/local/lib -L/opt/local/lib -fstack-protector'


Characteristics of this binary (from libperl): 
  Compile-time options: DEBUGGING DEBUG_LEAKING_SCALARS HAS_TIMES
                        MULTIPLICITY PERLIO_LAYERS PERL_COPY_ON_WRITE
                        PERL_DONT_CREATE_GVSV PERL_HASH_FUNC_FNV1A
                        PERL_IMPLICIT_CONTEXT PERL_MALLOC_WRAP PERL_OP_PARENT
                        PERL_PERTURB_KEYS_TOP PERL_PRESERVE_IVUV
                        PERL_TRACK_MEMPOOL PERL_USE_DEVEL USE_64_BIT_ALL
                        USE_64_BIT_INT USE_CPERL USE_ITHREADS USE_LARGE_FILES
                        USE_LOCALE USE_LOCALE_COLLATE USE_LOCALE_CTYPE
                        USE_LOCALE_NUMERIC USE_LOCALE_TIME USE_PERLIO
                        USE_PERL_ATOF USE_REENTRANT_API
  Built under linux
  Compiled at Tue Mar 26 11:45:56 UTC 2019
  %ENV:
    PERL5LIB=""
    PERL5OPT=""
    PERL5_CPANPLUS_IS_RUNNING="32030"
    PERL5_CPAN_IS_RUNNING="32030"
    PERL_MM_USE_DEFAULT="1"
    PERL_USE_UNSAFE_INC="1"
  @INC:
    /usr/local/lib/cperl/site_cperl/5.28.2/x86_64-linux-threads-debug@
    /usr/local/lib/cperl/site_cperl/5.28.2
    /usr/local/lib/cperl/5.28.2/x86_64-linux-threads-debug@
    /usr/local/lib/cperl/5.28.2
    /usr/local/lib/cperl/site_cperl
    .