Back
From: metabase:user:322078bc-2aae-11df-837a-5e0a49663a4f
Subject: PASS Math-Complex-1.57 v5.12.0 MirOS BSD
Date: 2011-06-04T13:01:27Z
This distribution has been tested as part of the CPAN Testers
project, supporting the Perl programming language. See
http://wiki.cpantesters.org/ for more information or email
questions to cpan-testers-discuss@perl.org
--
Dear Andrew Main (Zefram),
This is a computer-generated error report created automatically by
CPANPLUS, version 0.9010. Testers personal comments may appear
at the end of this report.
MAKE TEST passed: PERL_DL_NONLAZY=1 /opt/perl-5.12.0/bin/perl "-MExtUtils::Command::MM" "-e" "test_harness(0, 'blib/lib', 'blib/arch')" t/*.t
t/Complex.t ....... ok
t/pod-coverage.t .. skipped: Test::Pod::Coverage 1.00 required for testing POD coverage
t/pod.t ........... skipped: Test::Pod 1.00 required for testing POD
t/Trig.t .......... ok
t/underbar.t ...... ok
All tests successful.
Files=5, Tests=1231, 11 wallclock secs ( 0.69 usr 2.21 sys + 2.03 cusr 4.90 csys = 9.83 CPU)
Result: PASS
[MSG] [Sat Jun 4 13:01:26 2011] Sending test report for 'Math-Complex-1.57'
This report was machine-generated by CPANPLUS::Dist::YACSmoke 0.58.
------------------------------
ENVIRONMENT AND OTHER CONTEXT
------------------------------
Environment variables:
AUTOMATED_TESTING = 1
LC_CTYPE = en_US.UTF-8
PATH = /root/.etc/bin:/usr/sbin:/sbin:/usr/bin:/bin:/usr/X11R6/bin:/usr/local/bin:/usr/mpkg/bin
PERL5LIB = :/opt/perl-5.12.0/.cpanplus/5.12.0/build/Math-Complex-1.57/blib/lib:/opt/perl-5.12.0/.cpanplus/5.12.0/build/Math-Complex-1.57/blib/arch
PERL5_CPANIDX_URL = http://cpan.mirror.local/cpanidx/
PERL5_CPANPLUS_IS_RUNNING = 29885
PERL5_CPANPLUS_IS_VERSION = 0.9010
PERL_EXTUTILS_AUTOINSTALL = --defaultdeps
PERL_MM_USE_DEFAULT = 1
SHELL = /bin/sh
TERM = vt220
Perl special variables (and OS-specific diagnostics, for MSWin32):
Perl: $^X = /opt/perl-5.12.0/bin/perl
UID: $< = 0
EUID: $> = 0
GID: $( = 0 0 2 3 4 5 20 31
EGID: $) = 0 0 2 3 4 5 20 31
-------------------------------
--
Summary of my perl5 (revision 5 version 12 subversion 0) configuration:
Platform:
osname=mirbsd, osvers=10, archname=MirBSD.i386-mirbsd
uname='mirbsd vagabond.bingosnet.co.uk 10 kv#10r80-20080310 generic#1069 i386 '
config_args='-des -Dprefix=/opt/perl-5.12.0'
hint=recommended, useposix=true, d_sigaction=define
useithreads=undef, usemultiplicity=undef
useperlio=define, d_sfio=undef, uselargefiles=define, usesocks=undef
use64bitint=undef, use64bitall=undef, uselongdouble=undef
usemymalloc=n, bincompat5005=undef
Compiler:
cc='mgcc', ccflags ='-fhonour-copts -I/usr/mpkg/include -I/usr/local/include',
optimize='-O2',
cppflags='-fhonour-copts -I/usr/mpkg/include -fhonour-copts -I/usr/mpkg/include -I/usr/local/include'
ccversion='', gccversion='3.4.6 (propolice; gpc; MirOS 0A80)', gccosandvers='mirbsd10'
intsize=4, longsize=4, ptrsize=4, doublesize=8, byteorder=1234
d_longlong=define, longlongsize=8, d_longdbl=define, longdblsize=12
ivtype='long', ivsize=4, nvtype='double', nvsize=8, Off_t='off_t', lseeksize=8
alignbytes=4, prototype=define
Linker and Libraries:
ld='mgcc', ldflags ='-Wl,-E -L/usr/mpkg/lib -L/usr/local/lib'
libpth=/usr/mpkg/lib /usr/local/lib /usr/lib
libs=-lm -lutil -lc
perllibs=-lm -lutil -lc
libc=/usr/lib/libc.so.41.0, so=so, useshrplib=false, libperl=libperl.a
gnulibc_version=''
Dynamic Linking:
dlsrc=dl_dlopen.xs, dlext=so, d_dlsymun=undef, ccdlflags=' '
cccdlflags='-DPIC -fPIC ', lddlflags='-shared -fPIC -L/usr/mpkg/lib -L/usr/local/lib'
Characteristics of this binary (from libperl):
Compile-time options: PERL_DONT_CREATE_GVSV PERL_MALLOC_WRAP
USE_LARGE_FILES USE_PERLIO USE_PERL_ATOF
Built under mirbsd
Compiled at Aug 10 2010 11:36:34
%ENV:
PERL5LIB=":/opt/perl-5.12.0/.cpanplus/5.12.0/build/Math-Complex-1.57/blib/lib:/opt/perl-5.12.0/.cpanplus/5.12.0/build/Math-Complex-1.57/blib/arch"
PERL5_CPANIDX_URL="http://cpan.mirror.local/cpanidx/"
PERL5_CPANPLUS_IS_RUNNING="29885"
PERL5_CPANPLUS_IS_VERSION="0.9010"
PERL_EXTUTILS_AUTOINSTALL="--defaultdeps"
PERL_MM_USE_DEFAULT="1"
@INC:
/opt/perl-5.12.0/.cpanplus/5.12.0/build/Math-Complex-1.57/blib/lib
/opt/perl-5.12.0/.cpanplus/5.12.0/build/Math-Complex-1.57/blib/arch
/opt/perl-5.12.0/lib/site_perl/5.12.0/MirBSD.i386-mirbsd
/opt/perl-5.12.0/lib/site_perl/5.12.0
/opt/perl-5.12.0/lib/5.12.0/MirBSD.i386-mirbsd
/opt/perl-5.12.0/lib/5.12.0
.