Module-PrintUsed v0.05 Perl 5 v5.13.2 MSWin32-x86-multi-thread

Status
Pass
From
Serguei Trouchelle (STRO)
Dist
Module-PrintUsed v0.05
Platform
Perl 5 v5.13.2 MSWin32-x86-multi-thread
Date
2010-07-07 10:37:56
ID
c20f1bf6-add6-1018-b1f8-fb32d2bf88b9
This distribution has been tested as part of the CPAN Testers
project, supporting the Perl programming language.  See
http://wiki.cpantesters.org/ for more information or email
questions to cpan-testers-discuss@perl.org


--
Dear Christian Renz,

This is a computer-generated report for Module-PrintUsed-0.05
on perl 5.13.2, created by CPAN-Reporter-1.1711.

Thank you for uploading your work to CPAN.  Congratulations!
All tests were successful.

Sections of this report:

    * Tester comments
    * Program output
    * Prerequisites
    * Environment and other context

------------------------------
TESTER COMMENTS
------------------------------

Additional comments from tester:

this report is from an automated smoke testing program
and was not reviewed by a human for accuracy

------------------------------
PROGRAM OUTPUT
------------------------------

Output from 'C:\bin\dev\perl\site\bin\dmake.EXE test':

C:\home\stro\perl\perl5132\bin\perl.exe "-MExtUtils::Command::MM" "-e" "test_harness(0, 'blib\lib', 'blib\arch')" t/*.t

Modules used by t/1-use.t:
 - Carp                      1.16     C:/home/stro/perl/perl5132/lib/Carp.pm
 - Exporter                  5.64_02  C:/home/stro/perl/perl5132/lib/Exporter.pm
 - Exporter::Heavy           5.64_02  C:/home/stro/perl/perl5132/lib/Exporter/Heavy.pm
 - Module::PrintUsed         0.05     C:\home\stro\cpan\build\5.13.2\Module-PrintUsed-0.05-Jsd9X9\blib\lib/Module/PrintUsed.pm
 - Test                      1.25_02  C:/home/stro/perl/perl5132/lib/Test.pm
 - strict                    1.04     C:/home/stro/perl/perl5132/lib/strict.pm
 - vars                      1.01     C:/home/stro/perl/perl5132/lib/vars.pm
 - warnings                  1.09     C:/home/stro/perl/perl5132/lib/warnings.pm
 - warnings::register        1.01     C:/home/stro/perl/perl5132/lib/warnings/register.pm

t/1-use.t ......... ok

Modules used by t/2-modules.t:
 - Carp                      1.16     C:/home/stro/perl/perl5132/lib/Carp.pm
 - Exporter                  5.64_02  C:/home/stro/perl/perl5132/lib/Exporter.pm
 - Exporter::Heavy           5.64_02  C:/home/stro/perl/perl5132/lib/Exporter/Heavy.pm
 - Module::PrintUsed         0.05     C:\home\stro\cpan\build\5.13.2\Module-PrintUsed-0.05-Jsd9X9\blib\lib/Module/PrintUsed.pm
 - Test                      1.25_02  C:/home/stro/perl/perl5132/lib/Test.pm
 - strict                    1.04     C:/home/stro/perl/perl5132/lib/strict.pm
 - vars                      1.01     C:/home/stro/perl/perl5132/lib/vars.pm
 - warnings                  1.09     C:/home/stro/perl/perl5132/lib/warnings.pm
 - warnings::register        1.01     C:/home/stro/perl/perl5132/lib/warnings/register.pm

t/2-modules.t ..... ok

Modules used by t/pod-coverage.t:
 - AutoLoader                5.70     C:/home/stro/perl/perl5132/lib/AutoLoader.pm
 - B                         1.23     C:/home/stro/perl/perl5132/lib/B.pm
 - Carp                      1.16     C:/home/stro/perl/perl5132/lib/Carp.pm
 - Config                             C:/home/stro/perl/perl5132/lib/Config.pm
 - Config_git.pl                      C:/home/stro/perl/perl5132/lib/Config_git.pl
 - Config_heavy.pl                    C:/home/stro/perl/perl5132/lib/Config_heavy.pl
 - Cwd                       3.31     C:/home/stro/perl/perl5132/lib/Cwd.pm
 - Devel::Symdump            2.08     C:/home/stro/perl/perl5132/site/lib/Devel/Symdump.pm
 - DynaLoader                1.10     C:/home/stro/perl/perl5132/lib/DynaLoader.pm
 - Exporter                  5.64_02  C:/home/stro/perl/perl5132/lib/Exporter.pm
 - Exporter::Heavy           5.64_02  C:/home/stro/perl/perl5132/lib/Exporter/Heavy.pm
 - Fcntl                     1.06     C:/home/stro/perl/perl5132/lib/Fcntl.pm
 - File::Basename            2.78     C:/home/stro/perl/perl5132/lib/File/Basename.pm
 - File::Find                1.16     C:/home/stro/perl/perl5132/lib/File/Find.pm
 - File::Spec                3.31     C:/home/stro/perl/perl5132/lib/File/Spec.pm
 - File::Spec::Unix          3.3      C:/home/stro/perl/perl5132/lib/File/Spec/Unix.pm
 - File::Spec::Win32         3.3      C:/home/stro/perl/perl5132/lib/File/Spec/Win32.pm
 - IO                        1.25_02  C:/home/stro/perl/perl5132/lib/IO.pm
 - IO::File                  1.14     C:/home/stro/perl/perl5132/lib/IO/File.pm
 - IO::Handle                1.28     C:/home/stro/perl/perl5132/lib/IO/Handle.pm
 - IO::Seekable              1.1      C:/home/stro/perl/perl5132/lib/IO/Seekable.pm
 - List::Util                1.23     C:/home/stro/perl/perl5132/lib/List/Util.pm
 - Math::BigInt              1.89_01  C:/home/stro/perl/perl5132/lib/Math/BigInt.pm
 - Math::BigInt::Calc        0.52     C:/home/stro/perl/perl5132/lib/Math/BigInt/Calc.pm
 - Math::BigInt::FastCalc    0.19     C:/home/stro/perl/perl5132/lib/Math/BigInt/FastCalc.pm
 - Module::PrintUsed         0.05     C:\home\stro\cpan\build\5.13.2\Module-PrintUsed-0.05-Jsd9X9\blib\lib/Module/PrintUsed.pm
 - Pod::Coverage             0.20     C:/home/stro/perl/perl5132/site/lib/Pod/Coverage.pm
 - Pod::Find                 1.35     C:/home/stro/perl/perl5132/lib/Pod/Find.pm
 - Pod::InputObjects         1.31     C:/home/stro/perl/perl5132/lib/Pod/InputObjects.pm
 - Pod::Parser               1.37     C:/home/stro/perl/perl5132/lib/Pod/Parser.pm
 - Scalar::Util              1.23     C:/home/stro/perl/perl5132/lib/Scalar/Util.pm
 - SelectSaver               1.02     C:/home/stro/perl/perl5132/lib/SelectSaver.pm
 - Symbol                    1.07     C:/home/stro/perl/perl5132/lib/Symbol.pm
 - Test::Builder             0.9502   C:/home/stro/perl/perl5132/lib/Test/Builder.pm
 - Test::Builder::Module     0.9502   C:/home/stro/perl/perl5132/lib/Test/Builder/Module.pm
 - Test::More                0.9502   C:/home/stro/perl/perl5132/lib/Test/More.pm
 - Test::Pod::Coverage       1.08     C:/home/stro/perl/perl5132/site/lib/Test/Pod/Coverage.pm
 - Tie::Handle               4.2      C:/home/stro/perl/perl5132/lib/Tie/Handle.pm
 - Tie::StdHandle            4.2      C:/home/stro/perl/perl5132/lib/Tie/StdHandle.pm
 - Win32API::File            0.1101   C:/home/stro/perl/perl5132/lib/Win32API/File.pm
 - Win32API::File::cFile.pc           C:/home/stro/perl/perl5132/lib/Win32API/File/cFile.pc
 - XSLoader                  0.10     C:/home/stro/perl/perl5132/lib/XSLoader.pm
 - base                      2.15     C:/home/stro/perl/perl5132/lib/base.pm
 - constant                  1.19     C:/home/stro/perl/perl5132/lib/constant.pm
 - integer                   1.00     C:/home/stro/perl/perl5132/lib/integer.pm
 - overload                  1.10     C:/home/stro/perl/perl5132/lib/overload.pm
 - re                        0.11     C:/home/stro/perl/perl5132/lib/re.pm
 - strict                    1.04     C:/home/stro/perl/perl5132/lib/strict.pm
 - vars                      1.01     C:/home/stro/perl/perl5132/lib/vars.pm
 - warnings                  1.09     C:/home/stro/perl/perl5132/lib/warnings.pm
 - warnings::register        1.01     C:/home/stro/perl/perl5132/lib/warnings/register.pm

t/pod-coverage.t .. ok
t/pod.t ........... ok
All tests successful.
Files=4, Tests=6,  1 wallclock secs ( 0.06 usr +  0.03 sys =  0.09 CPU)
Result: PASS

------------------------------
PREREQUISITES
------------------------------

Prerequisite modules loaded:

    No requirements found

------------------------------
ENVIRONMENT AND OTHER CONTEXT
------------------------------

Environment variables:

    ACTIVEPERL_CONFIG_SILENT = 1
    AUTOMATED_TESTING = 1
    COMSPEC = C:\WINDOWS\system32\cmd.exe
    NUMBER_OF_PROCESSORS = 2
    PATH = C:\bin\apps\far\;C:\bin\dev\python\;C:\bin\dev\svn;C:\Program Files\Common Files\Microsoft Shared\Windows Live;C:\bin\dev\perl\site\bin;C:\bin\dev\perl\bin;C:\WINDOWS\system32;C:\WINDOWS;C:\WINDOWS\System32\Wbem;C:\WINDOWS\system32\WindowsPowerShell\v1.0;C:\bin\arc;C:\bin\dev\TortoiseSVN\bin;C:\bin\dev\Mercurial;C:\bin\dev\TortoiseHg;c:\bin\sys\gnuwin32\bin;C:\bin\dev\oracle\instantclient_11_1;C:\Program Files\MySQL\MySQL Server 5.1\bin;C:\Program Files\Common Files\Microsoft Shared\Windows Live
    PERL5LIB = 
    PERL5OPT = 
    PERL5_CPANPLUS_IS_RUNNING = 964
    PERL5_CPAN_IS_RUNNING = 964
    PERL5_CPAN_IS_RUNNING_IN_RECURSION = 4872,964
    PERL_CR_SMOKER_CURRENT = Module-PrintUsed-0.05
    PERL_EXTUTILS_AUTOINSTALL = --defaultdeps
    PERL_MM_USE_DEFAULT = 1
    PROCESSOR_IDENTIFIER = x86 Family 6 Model 15 Stepping 11, GenuineIntel
    TEMP = C:\WINDOWS\Temp

Perl special variables (and OS-specific diagnostics, for MSWin32):

    $^X = C:\home\stro\perl\perl5132\bin\perl.exe
    $UID/$EUID = 0 / 0
    $GID = 0
    $EGID = 0
    Win32::GetOSName = WinXP/.Net
    Win32::GetOSVersion = Service Pack 3, 5, 1, 2600, 2, 3, 0, 256, 1
    Win32::FsType = NTFS
    Win32::IsAdminUser = 1

Perl module toolchain versions installed:

    Module              Have   
    ------------------- -------
    CPAN                1.94_58
    Cwd                 3.31   
    ExtUtils::CBuilder  0.2703 
    ExtUtils::Command   1.16   
    ExtUtils::Install   1.55   
    ExtUtils::MakeMaker 6.56   
    ExtUtils::Manifest  1.58   
    ExtUtils::ParseXS   2.2206 
    File::Spec          3.31   
    Module::Build       0.3607 
    Module::Signature   n/a    
    Test::Harness       3.21   
    Test::More          0.95_02
    YAML                0.71   
    YAML::Syck          1.10   
    version             0.82   


--

Summary of my perl5 (revision 5 version 13 subversion 2) configuration:
   
  Platform:
    osname=MSWin32, osvers=5.1, archname=MSWin32-x86-multi-thread
    uname=''
    config_args='undef'
    hint=recommended, useposix=true, d_sigaction=undef
    useithreads=define, usemultiplicity=define
    useperlio=define, d_sfio=undef, uselargefiles=define, usesocks=undef
    use64bitint=undef, use64bitall=undef, uselongdouble=undef
    usemymalloc=n, bincompat5005=undef
  Compiler:
    cc='gcc', ccflags =' -s -O2 -DWIN32 -DHAVE_DES_FCRYPT  -DPERL_IMPLICIT_CONTEXT -DPERL_IMPLICIT_SYS -fno-strict-aliasing -mms-bitfields -DPERL_MSVCRT_READFIX',
    optimize='-s -O2',
    cppflags='-DWIN32'
    ccversion='', gccversion='3.4.5', gccosandvers=''
    intsize=4, longsize=4, ptrsize=4, doublesize=8, byteorder=1234
    d_longlong=undef, longlongsize=8, d_longdbl=define, longdblsize=12
    ivtype='long', ivsize=4, nvtype='double', nvsize=8, Off_t='long long', lseeksize=8
    alignbytes=8, prototype=define
  Linker and Libraries:
    ld='g++', ldflags ='-s -L"c:\home\stro\perl\perl5132\lib\CORE" -L"C:\MinGW\lib"'
    libpth=C:\MinGW\lib
    libs=-lmoldname -lkernel32 -luser32 -lgdi32 -lwinspool -lcomdlg32 -ladvapi32 -lshell32 -lole32 -loleaut32 -lnetapi32 -luuid -lws2_32 -lmpr -lwinmm -lversion -lodbc32 -lodbccp32 -lcomctl32
    perllibs=-lmoldname -lkernel32 -luser32 -lgdi32 -lwinspool -lcomdlg32 -ladvapi32 -lshell32 -lole32 -loleaut32 -lnetapi32 -luuid -lws2_32 -lmpr -lwinmm -lversion -lodbc32 -lodbccp32 -lcomctl32
    libc=, so=dll, useshrplib=true, libperl=libperl513.a
    gnulibc_version=''
  Dynamic Linking:
    dlsrc=dl_win32.xs, dlext=dll, d_dlsymun=undef, ccdlflags=' '
    cccdlflags=' ', lddlflags='-mdll -s -L"c:\home\stro\perl\perl5132\lib\CORE" -L"C:\MinGW\lib"'


Characteristics of this binary (from libperl): 
  Compile-time options: MULTIPLICITY PERL_DONT_CREATE_GVSV
                        PERL_IMPLICIT_CONTEXT PERL_IMPLICIT_SYS
                        PERL_MALLOC_WRAP PL_OP_SLAB_ALLOC USE_ITHREADS
                        USE_LARGE_FILES USE_PERLIO USE_PERL_ATOF
  Built under MSWin32
  Compiled at Jun 23 2010 13:38:12
  %ENV:
    PERL5_CPANPLUS_IS_RUNNING="964"
    PERL5_CPAN_IS_RUNNING="964"
    PERL5_CPAN_IS_RUNNING_IN_RECURSION="4872,964"
    PERL_CR_SMOKER_CURRENT="Module-PrintUsed-0.05"
    PERL_EXTUTILS_AUTOINSTALL="--defaultdeps"
    PERL_MM_USE_DEFAULT="1"
  @INC:
    C:/home/stro/perl/perl5132/site/lib
    C:/home/stro/perl/perl5132/lib
    .