Report for Net-Statsd-Server-0.19

Back
From: metabase:user:30f4dfbe-2aae-11df-837a-5e0a49663a4f
Subject: PASS Net-Statsd-Server-0.19 v5.16.2 Mac OS X
Date: 2015-03-01T12:09:06Z

This distribution has been tested as part of the CPAN Testers
project, supporting the Perl programming language.  See
http://wiki.cpantesters.org/ for more information or email
questions to cpan-testers-discuss@perl.org


--
Dear Cosimo Streppone,

This is a computer-generated report for Net-Statsd-Server-0.19
on perl 5.16.2, created by CPAN-Reporter-1.2011.

Thank you for uploading your work to CPAN.  Congratulations!
All tests were successful.

Sections of this report:

    * Tester comments
    * Program output
    * Prerequisites
    * Environment and other context

------------------------------
TESTER COMMENTS
------------------------------

Additional comments from tester:

this report is from an automated smoke testing program
and was not reviewed by a human for accuracy

------------------------------
PROGRAM OUTPUT
------------------------------

Output from '/sw/bin/make test':

PERL_DL_NONLAZY=1 "/Users/hornenj/perl5/perlbrew/perls/perl-5.16.2/bin/perl" "-MExtUtils::Command::MM" "-MTest::Harness" "-e" "undef *Test::Harness::Switches; test_harness(0, 'blib/lib', 'blib/arch')" t/*.t t/integration-tests/*.t
t/000-sanity.t ............................. ok
t/config.t ................................. ok
t/graphite.t ............................... ok
2015-03-01 07:08:56.000000 -0500 note  Net::Statsd::Server: Initializing Net::Statsd::Server::Backend::Console backend
2015-03-01 07:08:56.000000 -0500 note  Net::Statsd::Server: Initializing Net::Statsd::Server::Backend::Graphite backend
2015-03-01 07:08:56.000000 -0500 info  AnyEvent: Autoloaded model 'AnyEvent::Impl::EV', using it.
Couldn't set SO_RCVBUF: No buffer space available at /Users/hornenj/.cpan/build/Net-Statsd-Server-0.19-St_pzL/bin/../lib/Net/Statsd/Server.pm line 708.
2015-03-01 07:08:56.996167 -0500 note  Net::Statsd::Server: statsd server started on 0.0.0.0:40001 (v0.17)
2015-03-01 07:08:56.996201 -0500 note  Net::Statsd::Server: manager interface started on 0.0.0.0:40002
2015-03-01 07:08:56.996241 -0500 note  Net::Statsd::Server: metrics flush will happen every 1s
2015-03-01 07:08:57.436054 -0500 warn  Net::Statsd::Server: Bad line: 1 in msg "a_bad_test_value|z"
2015-03-01 07:08:58.001391 -0500 note  Net::Statsd::Server: flushing metrics
Flushing stats at Sun Mar  1 07:08:58 2015
{"pctThreshold":[90],"sets":null,"counter_rates":{"statsd.bad_lines_seen":1,"statsd.packets_received":1},"timer_data":{},"gauges":{},"timers":{},"counters":{"statsd.bad_lines_seen":1,"statsd.packets_received":1}}
t/integration-tests/bad-message.t .......... ok
2015-03-01 07:08:58.000000 -0500 note  Net::Statsd::Server: Initializing Net::Statsd::Server::Backend::Console backend
2015-03-01 07:08:58.000000 -0500 note  Net::Statsd::Server: Initializing Net::Statsd::Server::Backend::Graphite backend
2015-03-01 07:08:58.000000 -0500 info  AnyEvent: Autoloaded model 'AnyEvent::Impl::EV', using it.
Couldn't set SO_RCVBUF: No buffer space available at /Users/hornenj/.cpan/build/Net-Statsd-Server-0.19-St_pzL/bin/../lib/Net/Statsd/Server.pm line 708.
2015-03-01 07:08:58.116950 -0500 note  Net::Statsd::Server: statsd server started on 0.0.0.0:40001 (v0.17)
2015-03-01 07:08:58.116981 -0500 note  Net::Statsd::Server: manager interface started on 0.0.0.0:40002
2015-03-01 07:08:58.117027 -0500 note  Net::Statsd::Server: metrics flush will happen every 1s
2015-03-01 07:08:59.117692 -0500 note  Net::Statsd::Server: flushing metrics
Flushing stats at Sun Mar  1 07:08:59 2015
{"pctThreshold":[90],"sets":null,"counter_rates":{"a_test_value":100,"statsd.bad_lines_seen":0,"statsd.packets_received":1},"timer_data":{},"gauges":{},"timers":{},"counters":{"a_test_value":100,"statsd.bad_lines_seen":0,"statsd.packets_received":1}}
# stats.counters.a_test_value.rate 100.000000 1425211739
# stats.counters.a_test_value.count 100 1425211739
# stats.counters.statsd.bad_lines_seen.rate 0.000000 1425211739
# stats.counters.statsd.bad_lines_seen.count 0 1425211739
# stats.counters.statsd.packets_received.rate 1.000000 1425211739
# stats.counters.statsd.packets_received.count 1 1425211739
# stats.statsd.numStats 3 1425211739
# stats.statsd.graphiteStats.calculationtime 0.034000 1425211739
# stats.statsd.processing_time 0.017 1425211739
# stats.statsd.graphiteStats.last_exception 140220364299608 1425211739
# stats.statsd.graphiteStats.last_flush 140220364299608 1425211739
t/integration-tests/counts-are-valid.t ..... ok
2015-03-01 07:08:59.000000 -0500 note  Net::Statsd::Server: Initializing Net::Statsd::Server::Backend::Graphite backend
2015-03-01 07:08:59.000000 -0500 info  AnyEvent: Autoloaded model 'AnyEvent::Impl::EV', using it.
Couldn't set SO_RCVBUF: No buffer space available at /Users/hornenj/.cpan/build/Net-Statsd-Server-0.19-St_pzL/bin/../lib/Net/Statsd/Server.pm line 708.
2015-03-01 07:08:59.227103 -0500 note  Net::Statsd::Server: statsd server started on 0.0.0.0:40001 (v0.17)
2015-03-01 07:08:59.227138 -0500 note  Net::Statsd::Server: manager interface started on 0.0.0.0:40002
2015-03-01 07:08:59.227176 -0500 note  Net::Statsd::Server: metrics flush will happen every 1s
2015-03-01 07:09:00.226466 -0500 note  Net::Statsd::Server: flushing metrics
# First flush. Test gauge should be there.
2015-03-01 07:09:01.227359 -0500 note  Net::Statsd::Server: flushing metrics
# Second flush. deleteGauges=false should keep the test gauge.
t/integration-tests/delete-gauges-false.t .. ok
2015-03-01 07:09:01.000000 -0500 note  Net::Statsd::Server: Initializing Net::Statsd::Server::Backend::Graphite backend
2015-03-01 07:09:01.000000 -0500 info  AnyEvent: Autoloaded model 'AnyEvent::Impl::EV', using it.
Couldn't set SO_RCVBUF: No buffer space available at /Users/hornenj/.cpan/build/Net-Statsd-Server-0.19-St_pzL/bin/../lib/Net/Statsd/Server.pm line 708.
2015-03-01 07:09:01.333720 -0500 note  Net::Statsd::Server: statsd server started on 0.0.0.0:40001 (v0.17)
2015-03-01 07:09:01.333751 -0500 note  Net::Statsd::Server: manager interface started on 0.0.0.0:40002
2015-03-01 07:09:01.333791 -0500 note  Net::Statsd::Server: metrics flush will happen every 1s
2015-03-01 07:09:02.335130 -0500 note  Net::Statsd::Server: flushing metrics
# First flush. Test gauge should be there.
2015-03-01 07:09:03.335381 -0500 note  Net::Statsd::Server: flushing metrics
# Second flush. deleteIdleStats should have cleared the test gauge.
t/integration-tests/delete-idle-stats.t .... ok
2015-03-01 07:09:03.000000 -0500 note  Net::Statsd::Server: Initializing Net::Statsd::Server::Backend::Graphite backend
2015-03-01 07:09:03.000000 -0500 info  AnyEvent: Autoloaded model 'AnyEvent::Impl::EV', using it.
Couldn't set SO_RCVBUF: No buffer space available at /Users/hornenj/.cpan/build/Net-Statsd-Server-0.19-St_pzL/bin/../lib/Net/Statsd/Server.pm line 708.
2015-03-01 07:09:03.445667 -0500 note  Net::Statsd::Server: statsd server started on 0.0.0.0:40001 (v0.17)
2015-03-01 07:09:03.445698 -0500 note  Net::Statsd::Server: manager interface started on 0.0.0.0:40002
2015-03-01 07:09:03.445729 -0500 note  Net::Statsd::Server: metrics flush will happen every 1s
# Expected mean value is 2010.44
2015-03-01 07:09:04.444266 -0500 note  Net::Statsd::Server: flushing metrics
# stats.counters.statsd.bad_lines_seen.rate 0.000000 1425211744
# stats.counters.statsd.bad_lines_seen.count 0 1425211744
# stats.counters.statsd.packets_received.rate 100.000000 1425211744
# stats.counters.statsd.packets_received.count 100 1425211744
# stats.timers.read_latency.sum_98 195084.000000 1425211744
# stats.timers.read_latency.upper_95 2906.000000 1425211744
# stats.timers.read_latency.mean_95 1960.747368 1425211744
# stats.timers.read_latency.sum_95 186271.000000 1425211744
# stats.timers.read_latency.upper_98 2960.000000 1425211744
# stats.timers.read_latency.median 2106.000000 1425211744
# stats.timers.read_latency.count_95 95.000000 1425211744
# stats.timers.read_latency.upper_99 2976.000000 1425211744
# stats.timers.read_latency.sum_squares_95 397408455.000000 1425211744
# stats.timers.read_latency.sum 201044.000000 1425211744
# stats.timers.read_latency.mean_99 2000.606061 1425211744
# stats.timers.read_latency.count 100.000000 1425211744
# stats.timers.read_latency.upper 2984.000000 1425211744
# stats.timers.read_latency.mean_98 1990.653061 1425211744
# stats.timers.read_latency.sum_squares_98 423299544.000000 1425211744
# stats.timers.read_latency.count_99 99.000000 1425211744
# stats.timers.read_latency.std 607.235347 1425211744
# stats.timers.read_latency.mean 2010.440000 1425211744
# stats.timers.read_latency.count_98 98.000000 1425211744
# stats.timers.read_latency.count_ps 100.000000 1425211744
# stats.timers.read_latency.lower 1004.000000 1425211744
# stats.timers.read_latency.sum_squares 441060376.000000 1425211744
# stats.timers.read_latency.sum_squares_99 432156120.000000 1425211744
# stats.timers.read_latency.sum_99 198060.000000 1425211744
# stats.statsd.numStats 3 1425211744
# stats.statsd.graphiteStats.calculationtime 0.077000 1425211744
# stats.statsd.processing_time 0.197 1425211744
# stats.statsd.graphiteStats.last_exception 140421011414360 1425211744
# stats.statsd.graphiteStats.last_flush 140421011414360 1425211744
t/integration-tests/percent-threshold.t .... ok
2015-03-01 07:09:04.000000 -0500 note  Net::Statsd::Server: Initializing Net::Statsd::Server::Backend::Console backend
2015-03-01 07:09:04.000000 -0500 note  Net::Statsd::Server: Initializing Net::Statsd::Server::Backend::Graphite backend
2015-03-01 07:09:04.000000 -0500 info  AnyEvent: Autoloaded model 'AnyEvent::Impl::EV', using it.
Couldn't set SO_RCVBUF: No buffer space available at /Users/hornenj/.cpan/build/Net-Statsd-Server-0.19-St_pzL/bin/../lib/Net/Statsd/Server.pm line 708.
2015-03-01 07:09:04.556967 -0500 note  Net::Statsd::Server: statsd server started on 0.0.0.0:40001 (v0.17)
2015-03-01 07:09:04.556998 -0500 note  Net::Statsd::Server: manager interface started on 0.0.0.0:40002
2015-03-01 07:09:04.557038 -0500 note  Net::Statsd::Server: metrics flush will happen every 1s
2015-03-01 07:09:05.560023 -0500 note  Net::Statsd::Server: flushing metrics
Flushing stats at Sun Mar  1 07:09:05 2015
{"pctThreshold":["90"],"sets":null,"counter_rates":{"statsd.bad_lines_seen":0,"statsd.packets_received":1},"timer_data":{"a_test_value":{"count":1,"upper":"100","std":0,"count_90":1,"median":"100","mean":100,"sum_squares_90":10000,"mean_90":"100","count_ps":1,"upper_90":"100","sum_90":"100","lower":"100","sum_squares":10000,"sum":"100"}},"gauges":{},"timers":{"a_test_value":["100"]},"counters":{"statsd.bad_lines_seen":0,"statsd.packets_received":1}}
# stats.counters.statsd.bad_lines_seen.rate 0.000000 1425211745
# stats.counters.statsd.bad_lines_seen.count 0 1425211745
# stats.counters.statsd.packets_received.rate 1.000000 1425211745
# stats.counters.statsd.packets_received.count 1 1425211745
# stats.timers.a_test_value.count 1.000000 1425211745
# stats.timers.a_test_value.upper 100.000000 1425211745
# stats.timers.a_test_value.std 0.000000 1425211745
# stats.timers.a_test_value.count_90 1.000000 1425211745
# stats.timers.a_test_value.median 100.000000 1425211745
# stats.timers.a_test_value.mean 100.000000 1425211745
# stats.timers.a_test_value.sum_squares_90 10000.000000 1425211745
# stats.timers.a_test_value.mean_90 100.000000 1425211745
# stats.timers.a_test_value.count_ps 1.000000 1425211745
# stats.timers.a_test_value.upper_90 100.000000 1425211745
# stats.timers.a_test_value.sum_90 100.000000 1425211745
# stats.timers.a_test_value.lower 100.000000 1425211745
# stats.timers.a_test_value.sum_squares 10000.000000 1425211745
# stats.timers.a_test_value.sum 100.000000 1425211745
# stats.statsd.numStats 3 1425211745
# stats.statsd.graphiteStats.calculationtime 0.070000 1425211745
# stats.statsd.processing_time 0.048 1425211745
# stats.statsd.graphiteStats.last_exception 140604797427032 1425211745
# stats.statsd.graphiteStats.last_flush 140604797427032 1425211745
t/integration-tests/timers-are-valid.t ..... ok
t/process-metrics.t ........................ ok
t/trim.t ................................... ok
All tests successful.
Files=11, Tests=90,  9 wallclock secs ( 0.03 usr  0.02 sys +  0.57 cusr  0.13 csys =  0.75 CPU)
Result: PASS

------------------------------
PREREQUISITES
------------------------------

Prerequisite modules loaded:

requires:

    Module                Need Have    
    --------------------- ---- --------
    AnyEvent::Handle::UDP 0    0.043   
    IO::Socket::INET      0    1.33    
    JSON::XS              0    3.01    

build_requires:

    Module                Need Have    
    --------------------- ---- --------
    Test::More            0    1.001014

configure_requires:

    Module                Need Have    
    --------------------- ---- --------
    ExtUtils::MakeMaker   6.30 7.02    


------------------------------
ENVIRONMENT AND OTHER CONTEXT
------------------------------

Environment variables:

    AUTOMATED_TESTING = 1
    LANG = en_US.UTF-8
    LC_ALL = POSIX
    LD_LIBRARY_PATH = :/net/traces01.be-md.ncbi.nlm.nih.gov/trace_software/vdb/mac/release/x86_64/lib
    PATH = /Users/hornenj/perl5/perlbrew/bin:/Users/hornenj/perl5/perlbrew/perls/perl-5.16.2/bin:/Users/hornenj/perl5/perlbrew/bin:/Users/hornenj/perl5/perlbrew/perls/perl-5.21.8/bin:/Users/hornenj/bin:/sw/lib/perl5/ExtUtils:/sw/bin:/am/ncbiapdata/bin:/usr/bin:/bin:/usr/X11R6/bin:/netopt/ncbi_tools/bin:/usr/local/ncbi/blast/bin:/net/traces01.be-md.ncbi.nlm.nih.gov/trace_software/vdb/mac/release/x86_64/bin
    PERL5LIB = /Users/hornenj/.cpan/build/AnyEvent-Handle-UDP-0.043-jjTikj/blib/arch:/Users/hornenj/.cpan/build/AnyEvent-Handle-UDP-0.043-jjTikj/blib/lib
    PERL5OPT = 
    PERL5_CPANPLUS_IS_RUNNING = 6107
    PERL5_CPAN_IS_RUNNING = 6107
    PERL5_MINISMOKEBOX = 0.58
    PERLBREW_BASHRC_VERSION = 0.69
    PERLBREW_HOME = /Users/hornenj/.perlbrew
    PERLBREW_LIB = 
    PERLBREW_MANPATH = /Users/hornenj/perl5/perlbrew/perls/perl-5.16.2/man
    PERLBREW_PATH = /Users/hornenj/perl5/perlbrew/bin:/Users/hornenj/perl5/perlbrew/perls/perl-5.16.2/bin
    PERLBREW_PERL = perl-5.16.2
    PERLBREW_ROOT = /Users/hornenj/perl5/perlbrew
    PERLBREW_VERSION = 0.73
    PERL_EXTUTILS_AUTOINSTALL = --defaultdeps
    PERL_LOCAL_LIB_ROOT = 
    PERL_MM_USE_DEFAULT = 1
    SHELL = /bin/bash
    TERM = xterm-256color
    TMPDIR = /var/folders/pz/pd7y1qjs6s3cbk170cw50fjc000c61/T/
    VERSIONER_PERL_PREFER_32_BIT = no
    VERSIONER_PERL_VERSION = 5.18
    ac_cv_path_INTLTOOL_PERL = /usr/bin/perl

Perl special variables (and OS-specific diagnostics, for MSWin32):

    $^X = /Users/hornenj/perl5/perlbrew/perls/perl-5.16.2/bin/perl
    $UID/$EUID = 12481 / 12481
    $GID = 14 14 5344 527 241
    $EGID = 14 14 5344 527 241

Perl module toolchain versions installed:

    Module              Have    
    ------------------- --------
    CPAN                2.05    
    CPAN::Meta          2.142690
    Cwd                 3.47    
    ExtUtils::CBuilder  0.280220
    ExtUtils::Command   1.18    
    ExtUtils::Install   2.04    
    ExtUtils::MakeMaker 7.02    
    ExtUtils::Manifest  1.68    
    ExtUtils::ParseXS   3.24    
    File::Spec          3.47    
    JSON                2.90    
    JSON::PP            2.27300 
    Module::Build       0.4210  
    Module::Signature   n/a     
    Parse::CPAN::Meta   1.4414  
    Test::Harness       3.33    
    Test::More          1.001014
    YAML                1.13    
    YAML::Syck          1.29    
    version             0.9903  


--

Summary of my perl5 (revision 5 version 16 subversion 2) configuration:
   
  Platform:
    osname=darwin, osvers=12.2.1, archname=darwin-2level
    uname='darwin ncbimac2008.ncbi.nlm.nih.gov 12.2.1 darwin kernel version 12.2.1: thu oct 18 12:13:47 pdt 2012; root:xnu-2050.20.9~1release_x86_64 x86_64 '
    config_args='-de -Dprefix=/Users/hornenj/perl5/perlbrew/perls/perl-5.16.2'
    hint=previous, useposix=true, d_sigaction=define
    useithreads=undef, usemultiplicity=undef
    useperlio=define, d_sfio=undef, uselargefiles=define, usesocks=undef
    use64bitint=define, use64bitall=define, uselongdouble=undef
    usemymalloc=n, bincompat5005=undef
  Compiler:
    cc='cc', ccflags ='-fno-common -DPERL_DARWIN -fno-strict-aliasing -pipe -fstack-protector',
    optimize='-O3',
    cppflags='-fno-common -DPERL_DARWIN -fno-strict-aliasing -pipe -fstack-protector -fno-common -DPERL_DARWIN -fno-strict-aliasing -pipe -fstack-protector'
    ccversion='', gccversion='4.2.1 Compatible Apple LLVM 4.2 (clang-425.0.24)', gccosandvers=''
    intsize=4, longsize=8, ptrsize=8, doublesize=8, byteorder=12345678
    d_longlong=define, longlongsize=8, d_longdbl=define, longdblsize=16
    ivtype='long', ivsize=8, nvtype='double', nvsize=8, Off_t='off_t', lseeksize=8
    alignbytes=8, prototype=define
  Linker and Libraries:
    ld='env MACOSX_DEPLOYMENT_TARGET=10.3 cc', ldflags =' -fstack-protector'
    libpth=/usr/lib
    libs=-ldbm -ldl -lm -lutil -lc
    perllibs=-ldl -lm -lutil -lc
    libc=, so=dylib, useshrplib=false, libperl=libperl.a
    gnulibc_version=''
  Dynamic Linking:
    dlsrc=dl_dlopen.xs, dlext=bundle, d_dlsymun=undef, ccdlflags=' '
    cccdlflags=' ', lddlflags=' -bundle -undefined dynamic_lookup -fstack-protector'


Characteristics of this binary (from libperl): 
  Compile-time options: HAS_TIMES PERLIO_LAYERS PERL_DONT_CREATE_GVSV
                        PERL_MALLOC_WRAP PERL_PRESERVE_IVUV USE_64_BIT_ALL
                        USE_64_BIT_INT USE_LARGE_FILES USE_LOCALE
                        USE_LOCALE_COLLATE USE_LOCALE_CTYPE
                        USE_LOCALE_NUMERIC USE_PERLIO USE_PERL_ATOF
  Built under darwin
  Compiled at Mar  4 2013 16:03:07
  %ENV:
    PERL5LIB="/Users/hornenj/.cpan/build/AnyEvent-Handle-UDP-0.043-jjTikj/blib/arch:/Users/hornenj/.cpan/build/AnyEvent-Handle-UDP-0.043-jjTikj/blib/lib"
    PERL5OPT=""
    PERL5_CPANPLUS_IS_RUNNING="6107"
    PERL5_CPAN_IS_RUNNING="6107"
    PERL5_MINISMOKEBOX="0.58"
    PERLBREW_BASHRC_VERSION="0.69"
    PERLBREW_HOME="/Users/hornenj/.perlbrew"
    PERLBREW_LIB=""
    PERLBREW_MANPATH="/Users/hornenj/perl5/perlbrew/perls/perl-5.16.2/man"
    PERLBREW_PATH="/Users/hornenj/perl5/perlbrew/bin:/Users/hornenj/perl5/perlbrew/perls/perl-5.16.2/bin"
    PERLBREW_PERL="perl-5.16.2"
    PERLBREW_ROOT="/Users/hornenj/perl5/perlbrew"
    PERLBREW_VERSION="0.73"
    PERL_EXTUTILS_AUTOINSTALL="--defaultdeps"
    PERL_LOCAL_LIB_ROOT=""
    PERL_MM_USE_DEFAULT="1"
  @INC:
    /Users/hornenj/.cpan/build/AnyEvent-Handle-UDP-0.043-jjTikj/blib/arch
    /Users/hornenj/.cpan/build/AnyEvent-Handle-UDP-0.043-jjTikj/blib/lib
    /Users/hornenj/perl5/perlbrew/perls/perl-5.16.2/lib/site_perl/5.16.2/darwin-2level
    /Users/hornenj/perl5/perlbrew/perls/perl-5.16.2/lib/site_perl/5.16.2
    /Users/hornenj/perl5/perlbrew/perls/perl-5.16.2/lib/5.16.2/darwin-2level
    /Users/hornenj/perl5/perlbrew/perls/perl-5.16.2/lib/5.16.2
    .