Back
From: metabase:user:b8a9e342-69cf-11e7-adca-3fbd147838bf
Subject: PASS String-ToIdentifier-EN-0.11 v5.22.3 AIX
Date: 2017-07-31T12:57:07Z
This distribution has been tested as part of the CPAN Testers
project, supporting the Perl programming language. See
http://wiki.cpantesters.org/ for more information or email
questions to cpan-testers-discuss@perl.org
--
Dear Rafael Kitover,
This is a computer-generated report for String-ToIdentifier-EN-0.11
on perl 5.22.3, created by CPAN-Reporter-1.2018.
Thank you for uploading your work to CPAN. Congratulations!
All tests were successful.
Sections of this report:
* Tester comments
* Program output
* Prerequisites
* Environment and other context
------------------------------
TESTER COMMENTS
------------------------------
Additional comments from tester:
none provided
------------------------------
PROGRAM OUTPUT
------------------------------
Output from '/usr/bin/make test':
PERL_DL_NONLAZY=1 "/home/cpan/bin/perl-5.22.3/bin/perl5.22.3" "-MExtUtils::Command::MM" "-MTest::Harness" "-e" "undef *Test::Harness::Switches; test_harness(0, 'blib/lib', 'blib/arch')" t/*.t
t/00-compile.t .......... ok
t/00_basic.t ............ ok
t/10_ascii.t ............ ok
t/20_capitalization.t ... ok
t/release-pod-syntax.t .. skipped: these tests are for release candidate testing
All tests successful.
Files=5, Tests=807, 4 wallclock secs ( 0.27 usr 0.03 sys + 4.03 cusr 0.22 csys = 4.55 CPU)
Result: PASS
Target "test" is up to date.
------------------------------
PREREQUISITES
------------------------------
Prerequisite modules loaded:
requires:
Module Need Have
--------------------------- ---- --------
base 0 2.22
Exporter 0 5.72
Lingua::EN::Inflect::Phrase 0 0.18
namespace::clean 0 0.27
strict 0 1.09
Text::Unidecode 0 1.30
Unicode::UCD 0 0.61
warnings 0 1.34
build_requires:
Module Need Have
--------------------------- ---- --------
File::Find 0 1.29
File::Temp 0 0.2304
lib 0 0.63
Test::More 0 1.302086
utf8 0 1.17
configure_requires:
Module Need Have
--------------------------- ---- --------
ExtUtils::MakeMaker 6.30 7.04_02
------------------------------
ENVIRONMENT AND OTHER CONTEXT
------------------------------
Environment variables:
LANG = C
LC_ALL = C
LC__FASTMSG = true
NONINTERACTIVE_TESTING = 1
PATH = /home/cpan/bin:/home/cpan/bin/perl-5.22.3/bin:/home/cpan/bin:/usr/bin:/etc:/usr/sbin:/usr/ucb:/home/cpan/bin:/usr/bin/X11:/sbin:.
PERL5LIB =
PERL5OPT =
PERL5_CPANPLUS_IS_RUNNING = 12583038
PERL5_CPAN_IS_RUNNING = 12583038
PERL_MM_USE_DEFAULT = 1
SHELL = /usr/bin/bash
TERM = vt100
TMPDIR = /home/cpan/tmp
Perl special variables (and OS-specific diagnostics, for MSWin32):
$^X = /home/cpan/bin/perl-5.22.3/bin/perl5.22.3
$UID/$EUID = 209 / 209
$GID = 1 1
$EGID = 1 1
Perl module toolchain versions installed:
Module Have
------------------- ----------
CPAN 2.11_01
CPAN::Meta 2.150001
Cwd 3.62
ExtUtils::CBuilder 0.280221
ExtUtils::Command 1.20_01
ExtUtils::Install 2.04
ExtUtils::MakeMaker 7.04_02
ExtUtils::Manifest 1.70
ExtUtils::ParseXS 3.28
File::Spec 3.62
JSON 2.94
JSON::PP 2.27300_01
Module::Build 0.4224
Module::Signature n/a
Parse::CPAN::Meta 1.4414_001
Test::Harness 3.35_01
Test::More 1.302086
YAML 1.23
YAML::Syck n/a
version 0.9909
--
Summary of my perl5 (revision 5 version 22 subversion 3) configuration:
Snapshot of: 16b638b0a20de774856b3a21a75a5e373af5262c
Platform:
osname=aix, osvers=7.1.0.0, archname=aix-64int
uname='aix sovma206 1 7 00c3c6f54c00 '
config_args='-des -Dprefix=~/bin/perl-5.22.3 -Dscriptdir=~/bin/perl-5.22.3/bin -Duse64bitint -Dcc=gcc -Dusedevel'
hint=recommended, useposix=true, d_sigaction=define
useithreads=undef, usemultiplicity=undef
use64bitint=define, use64bitall=undef, uselongdouble=undef
usemymalloc=n, bincompat5005=undef
Compiler:
cc='gcc -maix32', ccflags ='-D_ALL_SOURCE -D_ANSI_C_SOURCE -D_POSIX_SOURCE -DUSE_NATIVE_DLOPEN -fwrapv -fno-strict-aliasing -pipe -D_LARGE_FILES -D_FORTIFY_SOURCE=2',
optimize='-O',
cppflags='-D_ALL_SOURCE -D_ANSI_C_SOURCE -D_POSIX_SOURCE -DUSE_NATIVE_DLOPEN -fwrapv -fno-strict-aliasing -pipe'
ccversion='', gccversion='4.8.5', gccosandvers=''
intsize=4, longsize=4, ptrsize=4, doublesize=8, byteorder=87654321, doublekind=4
d_longlong=define, longlongsize=8, d_longdbl=define, longdblsize=8, longdblkind=0
ivtype='long long', ivsize=8, nvtype='double', nvsize=8, Off_t='off_t', lseeksize=8
alignbytes=8, prototype=define
Linker and Libraries:
ld='gcc -maix32', ldflags =' -Wl,-brtl -Wl,-bdynamic -Wl,-b32 -Wl,-bmaxdata:0x80000000'
libpth=/opt/freeware/lib /opt/freeware/lib/gcc/powerpc-ibm-aix7.1.0.0/4.8.5/include-fixed /usr/lib /lib /usr/ccs/lib /usr/lib64
libs=-lpthread -lbind -lnsl -lgdbm -ldbm -ldb -ldl -lld -lm -lcrypt -lc
perllibs=-lpthread -lbind -lnsl -ldl -lld -lm -lcrypt -lc
libc=/lib/libc.a, so=a, useshrplib=false, libperl=libperl.a
gnulibc_version=''
Dynamic Linking:
dlsrc=dl_aix.xs, dlext=so, d_dlsymun=undef, ccdlflags='-Xlinker -bE:/home/cpan/bin/perl-5.22.3/lib/5.22.3/aix-64int/CORE/perl.exp'
cccdlflags=' ', lddlflags=' -Wl,-bhalt:4 -Wl,-G -Wl,-bI:$(PERL_INC)/perl.exp -Wl,-bE:$(BASEEXT).exp -Wl,-bnoentry -lc -lm'
Characteristics of this binary (from libperl):
Compile-time options: HAS_TIMES PERLIO_LAYERS PERL_DONT_CREATE_GVSV
PERL_HASH_FUNC_ONE_AT_A_TIME_HARD PERL_MALLOC_WRAP
PERL_NEW_COPY_ON_WRITE PERL_PRESERVE_IVUV
PERL_USE_DEVEL USE_64_BIT_INT USE_LARGE_FILES
USE_LOCALE USE_LOCALE_COLLATE USE_LOCALE_CTYPE
USE_LOCALE_NUMERIC USE_LOCALE_TIME USE_PERLIO
USE_PERL_ATOF
Built under aix
Compiled at Jul 29 2017 23:45:29
%ENV:
PERL5LIB=""
PERL5OPT=""
PERL5_CPANPLUS_IS_RUNNING="12583038"
PERL5_CPAN_IS_RUNNING="12583038"
PERL_MM_USE_DEFAULT="1"
@INC:
/home/cpan/bin/perl-5.22.3/lib/site_perl/5.22.3/aix-64int
/home/cpan/bin/perl-5.22.3/lib/site_perl/5.22.3
/home/cpan/bin/perl-5.22.3/lib/5.22.3/aix-64int
/home/cpan/bin/perl-5.22.3/lib/5.22.3
.