Report for WebService-HealthGraph-0.000002

Back
From: metabase:user:320bfe00-2aae-11df-837a-5e0a49663a4f
Subject: PASS WebService-HealthGraph-0.000002 v5.20.3 GNU/Linux
Date: 2016-06-09T03:17:55Z

This distribution has been tested as part of the CPAN Testers
project, supporting the Perl programming language.  See
http://wiki.cpantesters.org/ for more information or email
questions to cpan-testers-discuss@perl.org


--
Dear Olaf Alders,

This is a computer-generated report for WebService-HealthGraph-0.000002
on perl 5.20.3, created by CPAN-Reporter-1.2017.

Thank you for uploading your work to CPAN.  Congratulations!
All tests were successful.

Sections of this report:

    * Tester comments
    * Program output
    * Prerequisites
    * Environment and other context

------------------------------
TESTER COMMENTS
------------------------------

Additional comments from tester:

this report is from an automated smoke testing program
and was not reviewed by a human for accuracy

------------------------------
PROGRAM OUTPUT
------------------------------

Output from './Build test':

t/author-pod-coverage.t ... skipped: these tests are for testing by the author
t/author-pod-spell.t ...... skipped: these tests are for testing by the author
t/healthgraph-live.t ...... ok
GET https://api.runkeeper.com/user

.-----------------+-----------------------------------------.
| Request Header  | Value                                   |
+-----------------+-----------------------------------------+
| Accept          | application/vnd.com.runkeeper.User+json |
| Accept-Encoding | gzip, x-gzip, deflate, x-bzip2          |
| User-Agent      | libwww-perl/6.15                        |
'-----------------+-----------------------------------------'

==> 401 Unauthorized

.------------------------+-----------------------------------------------------.
| Response Header        | Value                                               |
+------------------------+-----------------------------------------------------+
| Client-Date            | Thu, 09 Jun 2016 03:17:44 GMT                       |
| Client-Peer            | 54.174.36.30:443                                    |
| Client-Response-Num    | 1                                                   |
| Client-SSL-Cert-Issuer | /C=US/ST=Arizona/L=Scottsdale/O=Starfield Technolo- |
|                        | gies, Inc./OU=http://certs.starfieldtech.com/repos- |
|                        | itory//CN=Starfield Secure Certificate Authority -- |
|                        |  G2                                                 |
| Client-SSL-Cert-Subje- | /OU=Domain Control Validated/CN=runkeeper.com       |
| ct                     |                                                     |
| Client-SSL-Cipher      | ECDHE-RSA-AES128-GCM-SHA256                         |
| Client-SSL-Socket-Cla- | IO::Socket::SSL                                     |
| ss                     |                                                     |
| Connection             | Close                                               |
| Content-Language       | en-US                                               |
| Content-Length         | 0                                                   |
| Date                   | Thu, 09 Jun 2016 03:17:44 GMT                       |
| Server                 | Apache-Coyote/1.1                                   |
| WWW-Authenticate       | Bearer                                              |
'------------------------+-----------------------------------------------------'

t/healthgraph.t ........... ok
t/release-cpan-changes.t .. skipped: these tests are for release candidate testing
t/release-synopsis.t ...... skipped: these tests are for release candidate testing
All tests successful.
Files=6, Tests=6,  7 wallclock secs ( 0.04 usr  0.04 sys +  1.21 cusr  0.25 csys =  1.54 CPU)
Result: PASS

------------------------------
PREREQUISITES
------------------------------

Prerequisite modules loaded:

requires:

    Module                    Need     Have     
    ------------------------- -------- ---------
    Compress::Zlib            0        2.069    
    JSON::MaybeXS             1.003005 1.003005 
    List::AllUtils            0        0.09     
    LWP::ConsoleLogger::Easy  0        0.000024 
    LWP::UserAgent            6.15     6.15     
    Moo                       2.001001 2.002_000
    perl                      5.006    5.020003 
    strict                    0        1.08     
    Type::Tiny                1.000005 1.000005 
    Types::Standard           0        1.000005 
    Types::URI                0        0.006    
    URI                       1.71     1.71     
    warnings                  0        1.23     

build_requires:

    Module                    Need     Have     
    ------------------------- -------- ---------
    Data::Printer             0        0.38     
    Module::Build             0.28     0.4218   
    perl                      5.006    5.020003 
    Test2::Bundle::Extended   0        0.000030 
    Test2::Plugin::BailOnFail 0        0.000030 
    Test::RequiresInternet    0        0.05     
    URI::FromHash             0        0.05     

configure_requires:

    Module                    Need     Have     
    ------------------------- -------- ---------
    ExtUtils::MakeMaker       0        7.19_01  
    Module::Build             0.28     0.4218   
    perl                      5.006    5.020003 


------------------------------
ENVIRONMENT AND OTHER CONTEXT
------------------------------

Environment variables:

    AUTOMATED_TESTING = 1
    LANG = en_US.UTF-8
    LANGUAGE = en_US:en
    PATH = /usr/lib/ccache:/home/sand/bin:/usr/local/bin:/usr/bin:/bin:/usr/games:/usr/local/perl/bin:/usr/X11/bin:/sbin:/usr/sbin
    PERL5LIB = 
    PERL5OPT = 
    PERL5_CPANPLUS_IS_RUNNING = 10659
    PERL5_CPAN_IS_RUNNING = 10659
    PERL_CANARY_STABILITY_NOPROMPT = 1
    PERL_MM_USE_DEFAULT = 1
    SHELL = /usr/bin/zsh
    TERM = screen

Perl special variables (and OS-specific diagnostics, for MSWin32):

    $^X = /home/sand/src/perl/repoperls/installed-perls/perl/v5.20.3/8942/bin/perl
    $UID/$EUID = 1005 / 1005
    $GID = 1005 1005
    $EGID = 1005 1005

Perl module toolchain versions installed:

    Module              Have    
    ------------------- --------
    CPAN                2.14    
    CPAN::Meta          2.150005
    Cwd                 3.62    
    ExtUtils::CBuilder  0.280224
    ExtUtils::Command   7.19_01 
    ExtUtils::Install   2.04    
    ExtUtils::MakeMaker 7.19_01 
    ExtUtils::Manifest  1.70    
    ExtUtils::ParseXS   3.30    
    File::Spec          3.62    
    JSON                2.90    
    JSON::PP            2.27400 
    Module::Build       0.4218  
    Module::Signature   0.80    
    Parse::CPAN::Meta   1.4419  
    Test::Harness       3.36    
    Test::More          1.302026
    YAML                1.15    
    YAML::Syck          1.29    
    version             0.9917  


--

Summary of my perl5 (revision 5 version 20 subversion 3) configuration:
  Derived from: b67331aafd6eff33e3fd904c45e811f69cbfb0b2
  Platform:
    osname=linux, osvers=4.3.0-1-amd64, archname=x86_64-linux-ld
    uname='linux k83 4.3.0-1-amd64 #1 smp debian 4.3.3-7 (2016-01-19) x86_64 gnulinux '
    config_args='-Dprefix=/home/sand/src/perl/repoperls/installed-perls/perl/v5.20.3/8942 -Dmyhostname=k83 -Dinstallusrbinperl=n -Uversiononly -Dusedevel -des -Ui_db -Dlibswanted=cl pthread socket inet nsl gdbm dbm malloc dl ld sun m crypt sec util c cposix posix ucb BSD gdbm_compat -Uuseithreads -Duselongdouble -DDEBUGGING=-g'
    hint=recommended, useposix=true, d_sigaction=define
    useithreads=undef, usemultiplicity=undef
    use64bitint=define, use64bitall=define, uselongdouble=define
    usemymalloc=n, bincompat5005=undef
  Compiler:
    cc='cc', ccflags ='-fwrapv -fno-strict-aliasing -pipe -fstack-protector -I/usr/local/include -D_LARGEFILE_SOURCE -D_FILE_OFFSET_BITS=64',
    optimize='-O2 -g',
    cppflags='-fwrapv -fno-strict-aliasing -pipe -fstack-protector -I/usr/local/include'
    ccversion='', gccversion='5.3.1 20160121', gccosandvers=''
    intsize=4, longsize=8, ptrsize=8, doublesize=8, byteorder=12345678
    d_longlong=define, longlongsize=8, d_longdbl=define, longdblsize=16
    ivtype='long', ivsize=8, nvtype='long double', nvsize=16, Off_t='off_t', lseeksize=8
    alignbytes=16, prototype=define
  Linker and Libraries:
    ld='cc', ldflags =' -fstack-protector -L/usr/local/lib'
    libpth=/usr/local/lib /usr/lib/gcc/x86_64-linux-gnu/5/include-fixed /usr/include/x86_64-linux-gnu /usr/lib /lib/x86_64-linux-gnu /lib/../lib /usr/lib/x86_64-linux-gnu /usr/lib/../lib /lib
    libs=-lpthread -lnsl -lgdbm -ldl -lm -lcrypt -lutil -lc -lgdbm_compat
    perllibs=-lpthread -lnsl -ldl -lm -lcrypt -lutil -lc
    libc=libc-2.21.so, so=so, useshrplib=false, libperl=libperl.a
    gnulibc_version='2.21'
  Dynamic Linking:
    dlsrc=dl_dlopen.xs, dlext=so, d_dlsymun=undef, ccdlflags='-Wl,-E'
    cccdlflags='-fPIC', lddlflags='-shared -O2 -g -L/usr/local/lib -fstack-protector'


Characteristics of this binary (from libperl): 
  Compile-time options: HAS_TIMES PERLIO_LAYERS PERL_DONT_CREATE_GVSV
                        PERL_HASH_FUNC_ONE_AT_A_TIME_HARD PERL_MALLOC_WRAP
                        PERL_NEW_COPY_ON_WRITE PERL_PRESERVE_IVUV
                        PERL_USE_DEVEL USE_64_BIT_ALL USE_64_BIT_INT
                        USE_LARGE_FILES USE_LOCALE USE_LOCALE_COLLATE
                        USE_LOCALE_CTYPE USE_LOCALE_NUMERIC USE_LONG_DOUBLE
                        USE_PERLIO USE_PERL_ATOF
  Locally applied patches:
	uncommitted-changes
  Built under linux
  Compiled at Apr 26 2016 12:07:28
  %ENV:
    PERL5LIB=""
    PERL5OPT=""
    PERL5_CPANPLUS_IS_RUNNING="10659"
    PERL5_CPAN_IS_RUNNING="10659"
    PERL_CANARY_STABILITY_NOPROMPT="1"
    PERL_MM_USE_DEFAULT="1"
  @INC:
    /home/sand/src/perl/repoperls/installed-perls/perl/v5.20.3/8942/lib/site_perl/5.20.3/x86_64-linux-ld
    /home/sand/src/perl/repoperls/installed-perls/perl/v5.20.3/8942/lib/site_perl/5.20.3
    /home/sand/src/perl/repoperls/installed-perls/perl/v5.20.3/8942/lib/5.20.3/x86_64-linux-ld
    /home/sand/src/perl/repoperls/installed-perls/perl/v5.20.3/8942/lib/5.20.3
    .