Report for Apache-Session-Generate-UUID-0.2

Back
From: metabase:user:d2c9f356-b46f-11df-9a90-20a83c0b7757
Subject: PASS Apache-Session-Generate-UUID-0.2 v5.14.2 SunOS/Solaris
Date: 2011-11-10T02:36:14Z

This distribution has been tested as part of the CPAN Testers
project, supporting the Perl programming language.  See
http://wiki.cpantesters.org/ for more information or email
questions to cpan-testers-discuss@perl.org


--
Dear Nicholas Gerakines,

This is a computer-generated report for Apache-Session-Generate-UUID-0.2
on perl 5.14.2, created by CPAN-Reporter-1.2002.

Thank you for uploading your work to CPAN.  Congratulations!
All tests were successful.

Sections of this report:

    * Tester comments
    * Program output
    * Prerequisites
    * Environment and other context

------------------------------
TESTER COMMENTS
------------------------------

Additional comments from tester:

this report is from an automated smoke testing program
and was not reviewed by a human for accuracy

------------------------------
PROGRAM OUTPUT
------------------------------

Output from './Build test':

# Testing Apache::Session::Generate::UUID 0.2, Perl 5.014002, /export/home/cpant2/perl5/bin/perl5.14.2
t/00-compile.t ....... ok
t/04-pod.t ........... ok
t/05-pod_coverage.t .. ok
t/06-perl_critic.t ... skipped: Test::Perl::Critic required to criticise code
no_plan takes no arguments at t/11-new.t line 3.
t/11-new.t ........... ok
All tests successful.
Files=5, Tests=7,  0 wallclock secs ( 0.02 usr  0.02 sys +  0.17 cusr  0.02 csys =  0.23 CPU)
Result: PASS

------------------------------
PREREQUISITES
------------------------------

Prerequisite modules loaded:

requires:

    Module          Need Have 
    --------------- ---- -----
    Data::UUID      0    1.217

build_requires:

    Module          Need Have 
    --------------- ---- -----
    Cwd             0    3.36 
    File::Temp      0    0.22 
    Test::Deep      0    0.108
    Test::Exception 0    0.31 
    Test::Group     0    0.18 
    Test::More      0    0.98 


------------------------------
ENVIRONMENT AND OTHER CONTEXT
------------------------------

Environment variables:

    AUTOMATED_TESTING = 1
    LANG = C
    LD_LIBRARY_PATH = /usr/local/lib:
    PATH = /export/home/cpant2/perl5/bin:/usr/local/bin:/usr/bin
    PERL5LIB = /export/home/cpant2/.cpan/build/Test-Group-0.18-GIyALi/blib/arch:/export/home/cpant2/.cpan/build/Test-Group-0.18-GIyALi/blib/lib:/export/home/cpant2/.cpan/build/Test-Cmd-1.05-Aevwdf/blib/arch:/export/home/cpant2/.cpan/build/Test-Cmd-1.05-Aevwdf/blib/lib
    PERL5OPT = 
    PERL5_CPANPLUS_IS_RUNNING = 2353
    PERL5_CPAN_IS_RUNNING = 2353
    PERL5_CPAN_IS_RUNNING_IN_RECURSION = 8387,2353
    PERL_CR_SMOKER_CURRENT = Apache-Session-Generate-UUID-0.2
    PERL_EXTUTILS_AUTOINSTALL = --defaultdeps
    PERL_MM_USE_DEFAULT = 1
    SHELL = /usr/bin/bash
    TERM = xterm

Perl special variables (and OS-specific diagnostics, for MSWin32):

    $^X = /export/home/cpant2/perl5/bin/perl5.14.2
    $UID/$EUID = 101 / 101
    $GID = 1 1
    $EGID = 1 1

Perl module toolchain versions installed:

    Module              Have    
    ------------------- --------
    CPAN                1.9800  
    CPAN::Meta          2.112621
    Cwd                 3.36    
    ExtUtils::CBuilder  0.280203
    ExtUtils::Command   1.17    
    ExtUtils::Install   1.56    
    ExtUtils::MakeMaker 6.62    
    ExtUtils::Manifest  1.60    
    ExtUtils::ParseXS   3.05    
    File::Spec          3.33    
    JSON                2.53    
    JSON::PP            2.27200 
    Module::Build       0.3800  
    Module::Signature   n/a     
    Parse::CPAN::Meta   1.4401  
    Test::Harness       3.23    
    Test::More          0.98    
    YAML                0.77    
    YAML::Syck          1.17    
    version             0.94    


--

Summary of my perl5 (revision 5 version 14 subversion 2) configuration:
   
  Platform:
    osname=solaris, osvers=2.10, archname=i86pc-solaris-64int
    uname='sunos vmrz0046 5.10 generic_141445-09 i86pc i386 i86pc solaris '
    config_args='-Dcc=gcc -Dprefix=~/perl5 -Duse64bitint -Dusedevel -d'
    hint=recommended, useposix=true, d_sigaction=define
    useithreads=undef, usemultiplicity=undef
    useperlio=define, d_sfio=undef, uselargefiles=define, usesocks=undef
    use64bitint=define, use64bitall=undef, uselongdouble=undef
    usemymalloc=n, bincompat5005=undef
  Compiler:
    cc='gcc', ccflags ='-DPTR_IS_LONG -fno-strict-aliasing -pipe -I/usr/local/include -D_LARGEFILE_SOURCE -D_FILE_OFFSET_BITS=64 -DPERL_USE_SAFE_PUTENV',
    optimize='-O',
    cppflags='-DPTR_IS_LONG -fno-strict-aliasing -pipe -I/usr/local/include'
    ccversion='', gccversion='3.4.6', gccosandvers='solaris2.10'
    intsize=4, longsize=4, ptrsize=4, doublesize=8, byteorder=12345678
    d_longlong=define, longlongsize=8, d_longdbl=define, longdblsize=12
    ivtype='long long', ivsize=8, nvtype='double', nvsize=8, Off_t='off_t', lseeksize=8
    alignbytes=4, prototype=define
  Linker and Libraries:
    ld='gcc', ldflags =' -L/usr/local/lib '
    libpth=/usr/local/lib /usr/lib /usr/ccs/lib
    libs=-lsocket -lnsl -lgdbm -ldl -lm -lc
    perllibs=-lsocket -lnsl -ldl -lm -lc
    libc=/lib/libc.so, so=so, useshrplib=false, libperl=libperl.a
    gnulibc_version=''
  Dynamic Linking:
    dlsrc=dl_dlopen.xs, dlext=so, d_dlsymun=undef, ccdlflags=' '
    cccdlflags='-fPIC', lddlflags='-G -L/usr/local/lib'


Characteristics of this binary (from libperl): 
  Compile-time options: PERL_DONT_CREATE_GVSV PERL_MALLOC_WRAP
                        PERL_PRESERVE_IVUV PERL_USE_DEVEL
                        PERL_USE_SAFE_PUTENV USE_64_BIT_INT USE_LARGE_FILES
                        USE_PERLIO USE_PERL_ATOF
  Built under solaris
  Compiled at Sep 30 2011 11:41:59
  %ENV:
    PERL5LIB="/export/home/cpant2/.cpan/build/Test-Group-0.18-GIyALi/blib/arch:/export/home/cpant2/.cpan/build/Test-Group-0.18-GIyALi/blib/lib:/export/home/cpant2/.cpan/build/Test-Cmd-1.05-Aevwdf/blib/arch:/export/home/cpant2/.cpan/build/Test-Cmd-1.05-Aevwdf/blib/lib"
    PERL5OPT=""
    PERL5_CPANPLUS_IS_RUNNING="2353"
    PERL5_CPAN_IS_RUNNING="2353"
    PERL5_CPAN_IS_RUNNING_IN_RECURSION="8387,2353"
    PERL_CR_SMOKER_CURRENT="Apache-Session-Generate-UUID-0.2"
    PERL_EXTUTILS_AUTOINSTALL="--defaultdeps"
    PERL_MM_USE_DEFAULT="1"
  @INC:
    /export/home/cpant2/.cpan/build/Test-Group-0.18-GIyALi/blib/arch
    /export/home/cpant2/.cpan/build/Test-Group-0.18-GIyALi/blib/lib
    /export/home/cpant2/.cpan/build/Test-Cmd-1.05-Aevwdf/blib/arch
    /export/home/cpant2/.cpan/build/Test-Cmd-1.05-Aevwdf/blib/lib
    /export/home/cpant2/perl5/lib/site_perl/5.14.2/i86pc-solaris-64int
    /export/home/cpant2/perl5/lib/site_perl/5.14.2
    /export/home/cpant2/perl5/lib/5.14.2/i86pc-solaris-64int
    /export/home/cpant2/perl5/lib/5.14.2
    /export/home/cpant2/perl5/lib/site_perl
    .