DateTime-Format-XMLTV v1.001 Perl 5 v5.24.3 OpenBSD.amd64-openbsd-thread-multi-ld

Status
Pass
From
Alceu Rodrigues de Freitas Junior
Dist
DateTime-Format-XMLTV v1.001
Platform
Perl 5 v5.24.3 OpenBSD.amd64-openbsd-thread-multi-ld
Date
2018-03-14 18:30:23
ID
c25e4da2-27b5-11e8-ae64-eafad6eb695b
This distribution has been tested as part of the CPAN Testers
project, supporting the Perl programming language.  See
http://wiki.cpantesters.org/ for more information or email
questions to cpan-testers-discuss@perl.org


--
Dear Christopher J. Madsen,

This is a computer-generated report for DateTime-Format-XMLTV-1.001
on perl 5.24.3, created by CPAN-Reporter-1.2018.

Thank you for uploading your work to CPAN.  Congratulations!
All tests were successful.

Sections of this report:

    * Tester comments
    * Program output
    * Prerequisites
    * Environment and other context

------------------------------
TESTER COMMENTS
------------------------------

Additional comments from tester:

this report is from an automated smoke testing program
and was not reviewed by a human for accuracy

------------------------------
PROGRAM OUTPUT
------------------------------

Output from '/usr/bin/make test':

PERL_DL_NONLAZY=1 "/home/goku/perl5/perlbrew/perls/perl-5.24.3/bin/perl" "-MExtUtils::Command::MM" "-MTest::Harness" "-e" "undef *Test::Harness::Switches; test_harness(0, 'blib/lib', 'blib/arch')" t/*.t
# Listing %INC
#                                                           AutoLoader 5.74
#                                                                    B 1.62
#                                                 B::Hooks::EndOfScope 0.21
#                                             B::Hooks::EndOfScope::XS 0.21
#                                                                 Carp 1.38
#                                             Class::Data::Inheritable 0.08
#                                                 Class::Factory::Util 1.7
#                                                     Class::Inspector 1.32
#                                                     Class::Singleton 1.5
#                                                               Config 5.024003
#                                                                  Cwd 3.74
#                                                             DateTime 1.46
#                                                   DateTime::Duration 1.46
#                                            DateTime::Format::Builder 0.81
#                                    DateTime::Format::Builder::Parser 0.81
#                          DateTime::Format::Builder::Parser::Dispatch 0.81
#                             DateTime::Format::Builder::Parser::Quick 0.81
#                             DateTime::Format::Builder::Parser::Regex 0.81
#                          DateTime::Format::Builder::Parser::Strptime 0.81
#                           DateTime::Format::Builder::Parser::generic 0.81
#                                           DateTime::Format::Strptime 1.75
#                                    DateTime::Format::Strptime::Types 1.75
#                                                    DateTime::Helpers 1.46
#                                                   DateTime::Infinite 1.46
#                                                     DateTime::Locale 1.17
#                                               DateTime::Locale::Base 1.17
#                                               DateTime::Locale::Data 1.17
#                                           DateTime::Locale::FromData 1.17
#                                               DateTime::Locale::Util 1.17
#                                                   DateTime::TimeZone 2.17
#                                          DateTime::TimeZone::Catalog 2.17
#                                         DateTime::TimeZone::Floating 2.17
#                                            DateTime::TimeZone::Local 2.17
#                                       DateTime::TimeZone::OffsetOnly 2.17
#                                  DateTime::TimeZone::OlsonDB::Change 2.17
#                                              DateTime::TimeZone::UTC 2.17
#                                                      DateTime::Types 1.46
#                                                    Devel::StackTrace 2.03
#                                             Devel::StackTrace::Frame 2.03
#                                                           DynaLoader 1.38
#                                                        Eval::Closure 0.14
#                                                     Exception::Class 1.44
#                                               Exception::Class::Base 1.44
#                                                             Exporter 5.72
#                                                      Exporter::Heavy 5.72
#                                                                Fcntl 1.13
#                                                       File::ShareDir 1.104
#                                                           File::Spec 3.74
#                                                     File::Spec::Unix 3.74
#                                                           List::Util 1.5
#                                                           Log::Agent 1.003
#                                               Log::Agent::Formatting undef
#                                                  Log::Agent::Message undef
#                                               Log::Agent::Priorities undef
#                                                          MRO::Compat 0.13
#                                               Module::Implementation 0.09
#                                                      Module::Runtime 0.016
#                                                                POSIX 1.65_01
#                                          Package::DeprecationManager 0.17
#                                                       Package::Stash 0.37
#                                                   Package::Stash::XS 0.28
#                                                         Params::Util 1.07
#                                                     Params::Validate 1.29
#                                          Params::Validate::Constants 1.29
#                                                 Params::Validate::XS 1.29
#                                           Params::ValidationCompiler 0.27
#                                 Params::ValidationCompiler::Compiler 0.27
#                  Params::ValidationCompiler::Exception::BadArguments 1.1
#                  Params::ValidationCompiler::Exception::Named::Extra 1.1
#               Params::ValidationCompiler::Exception::Named::Required 1.1
#             Params::ValidationCompiler::Exception::Positional::Extra 1.1
#          Params::ValidationCompiler::Exception::Positional::Required 1.1
# Params::ValidationCompiler::Exception::ValidationFailedForMooseTypeConstraint 1.1
#                               Params::ValidationCompiler::Exceptions 0.27
#                                                            Ref::Util 0.203
#                                                        Ref::Util::XS 0.117
#                                                           Role::Tiny 2.000006
#                                                     Role::Tiny::With 2.000006
#                                                         Scalar::Util 1.5
#                                                               Specio 0.42
#                                                     Specio::Coercion 0.42
#                                           Specio::Constraint::AnyCan 0.42
#                                             Specio::Constraint::Enum 0.42
#                                        Specio::Constraint::ObjectCan 0.42
#                                        Specio::Constraint::ObjectIsa 0.42
#                                  Specio::Constraint::Parameterizable 0.42
#                                    Specio::Constraint::Parameterized 0.42
#                                    Specio::Constraint::Role::CanType 0.42
#                                  Specio::Constraint::Role::Interface 0.42
#                                    Specio::Constraint::Role::IsaType 0.42
#                                           Specio::Constraint::Simple 0.42
#                                            Specio::Constraint::Union 0.42
#                                                      Specio::Declare 0.42
#                                                   Specio::DeclaredAt 0.42
#                                                    Specio::Exception 0.42
#                                                     Specio::Exporter 0.42
#                                                      Specio::Helpers 0.42
#                                            Specio::Library::Builtins 0.42
#                                             Specio::Library::Numeric 0.42
#                                              Specio::Library::String 0.42
#                                                           Specio::OO 0.42
#                                                  Specio::PartialDump 0.42
#                                                     Specio::Registry 0.42
#                                              Specio::Role::Inlinable 0.42
#                                                   Specio::TypeChecks 0.42
#                                                             Storable 3.0516
#                                           Sub::Exporter::Progressive 0.001013
#                                                        Sub::Identify 0.14
#                                                         Sub::Install 0.928
#                                                            Sub::Name 0.21
#                                                            Sub::Util 1.5
#                                                            Tie::Hash 1.05
#                                                            Try::Tiny 0.30
#                                                      Variable::Magic 0.62
#                                                             XSLoader 0.24
#                                                                 base 2.23
#                                                             constant 1.33
#                                                              integer 1.01
#                                                                  mro 1.18
#                                                 namespace::autoclean 0.28
#                                                     namespace::clean 0.27
#                                              namespace::clean::_Util undef
#                                                             overload 1.26
#                                                          overloading 0.02
#                                                               parent 0.236
#                                                                   re 0.32
#                                                               strict 1.11
#                                                                 utf8 1.19
#                                                                 vars 1.03
#                                                             warnings 1.36
#                                                   warnings::register 1.04
t/00-all_prereqs.t .. ok
# Testing DateTime::Format::XMLTV 1.001
t/00-load.t ......... ok
t/10-parse.t ........ ok
t/20-format.t ....... ok
All tests successful.
Files=4, Tests=61,  1 wallclock secs ( 0.01 usr  0.04 sys +  1.08 cusr  0.24 csys =  1.37 CPU)
Result: PASS

------------------------------
PREREQUISITES
------------------------------

Prerequisite modules loaded:

requires:

    Module                    Need Have    
    ------------------------- ---- --------
    DateTime::Format::Builder 0.80 0.81    

build_requires:

    Module                    Need Have    
    ------------------------- ---- --------
    Test::More                0.88 1.302133

configure_requires:

    Module                    Need Have    
    ------------------------- ---- --------
    ExtUtils::MakeMaker       6.30 7.33_03 


------------------------------
ENVIRONMENT AND OTHER CONTEXT
------------------------------

Environment variables:

    AUTOMATED_TESTING = 1
    DBD_MYSQL_TESTDB = test
    DBD_MYSQL_TESTHOST = localhost
    DBD_MYSQL_TESTPASSWORD = 
    DBD_MYSQL_TESTPORT = 3306
    DBD_MYSQL_TESTUSER = goku
    EXTENDED_TESTING = 1
    PATH = /home/goku/perl5/perlbrew/bin:/home/goku/perl5/perlbrew/perls/perl-5.24.3/bin:/home/goku/bin:/usr/bin:/bin:/usr/sbin:/sbin:/usr/X11R6/bin:/usr/local/bin:/usr/local/sbin
    PERL5LIB = 
    PERL5OPT = 
    PERL5_CPANPLUS_IS_RUNNING = 58959
    PERL5_CPAN_IS_RUNNING = 58959
    PERL5_CPAN_IS_RUNNING_IN_RECURSION = 35115,58959
    PERLBREW_HOME = /home/goku/.perlbrew
    PERLBREW_MANPATH = /home/goku/perl5/perlbrew/perls/perl-5.24.3/man
    PERLBREW_PATH = /home/goku/perl5/perlbrew/bin:/home/goku/perl5/perlbrew/perls/perl-5.24.3/bin
    PERLBREW_PERL = perl-5.24.3
    PERLBREW_ROOT = /home/goku/perl5/perlbrew
    PERLBREW_SHELLRC_VERSION = 0.82
    PERLBREW_VERSION = 0.82
    PERL_CR_SMOKER_CURRENT = PostScript-ScheduleGrid-XMLTV-0.04
    PERL_EXTUTILS_AUTOINSTALL = --defaultdeps
    PERL_MM_USE_DEFAULT = 1
    PERL_USE_UNSAFE_INC = 1
    SHELL = /usr/local/bin/bash
    TERM = xterm

Perl special variables (and OS-specific diagnostics, for MSWin32):

    $^X = /home/goku/perl5/perlbrew/perls/perl-5.24.3/bin/perl
    $UID/$EUID = 1001 / 1001
    $GID = 998 998 1001
    $EGID = 998 998 1001

Perl module toolchain versions installed:

    Module              Have    
    ------------------- --------
    CPAN                2.20    
    CPAN::Meta          2.150010
    Cwd                 3.74    
    ExtUtils::CBuilder  0.280230
    ExtUtils::Command   7.33_03 
    ExtUtils::Install   2.14    
    ExtUtils::MakeMaker 7.33_03 
    ExtUtils::Manifest  1.70    
    ExtUtils::ParseXS   3.35    
    File::Spec          3.74    
    JSON                2.97001 
    JSON::PP            2.97001 
    Module::Build       0.4224  
    Module::Signature   n/a     
    Parse::CPAN::Meta   2.150010
    Test::Harness       3.41    
    Test::More          1.302133
    YAML                1.24    
    YAML::Syck          1.30    
    version             0.9918  


--

Summary of my perl5 (revision 5 version 24 subversion 3) configuration:
   
  Platform:
    osname=openbsd, osvers=6.2, archname=OpenBSD.amd64-openbsd-thread-multi-ld
    uname='openbsd cpan-smoker-openbsd 6.2 generic.mp#134 amd64 '
    config_args='-de -Dprefix=/home/goku/perl5/perlbrew/perls/perl-5.24.3 -Dman1dir=none -Dman3dir=none -Dusemultiplicity -Duselongdouble -Dusethreads -Duse64bitall -Duse64bitint -Aeval:scriptdir=/home/goku/perl5/perlbrew/perls/perl-5.24.3/bin'
    hint=recommended, useposix=true, d_sigaction=define
    useithreads=define, usemultiplicity=define
    use64bitint=define, use64bitall=define, uselongdouble=define
    usemymalloc=n, bincompat5005=undef
  Compiler:
    cc='cc', ccflags ='-pthread -fno-strict-aliasing -pipe -fstack-protector-strong -I/usr/local/include -D_FORTIFY_SOURCE=2',
    optimize='-O2',
    cppflags='-pthread -fno-strict-aliasing -pipe -fstack-protector-strong -I/usr/local/include'
    ccversion='', gccversion='4.2.1 Compatible OpenBSD Clang 4.0.0 (tags/RELEASE_400/final)', gccosandvers=''
    intsize=4, longsize=8, ptrsize=8, doublesize=8, byteorder=12345678, doublekind=3
    d_longlong=define, longlongsize=8, d_longdbl=define, longdblsize=16, longdblkind=3
    ivtype='long', ivsize=8, nvtype='long double', nvsize=16, Off_t='off_t', lseeksize=8
    alignbytes=16, prototype=define
  Linker and Libraries:
    ld='cc', ldflags ='-pthread -Wl,-E  -fstack-protector-strong -L/usr/local/lib'
    libpth=/usr/lib /usr/local/lib
    libs=-lpthread -lm -lutil -lc
    perllibs=-lpthread -lm -lutil -lc
    libc=/usr/lib/libc.so.90.0, so=so, useshrplib=false, libperl=libperl.a
    gnulibc_version=''
  Dynamic Linking:
    dlsrc=dl_dlopen.xs, dlext=so, d_dlsymun=undef, ccdlflags=' '
    cccdlflags='-DPIC -fPIC ', lddlflags='-shared -fPIC  -L/usr/local/lib -fstack-protector-strong'


Characteristics of this binary (from libperl): 
  Compile-time options: HAS_TIMES MULTIPLICITY PERLIO_LAYERS
                        PERL_COPY_ON_WRITE PERL_DONT_CREATE_GVSV
                        PERL_HASH_FUNC_ONE_AT_A_TIME_HARD
                        PERL_IMPLICIT_CONTEXT PERL_MALLOC_WRAP
                        PERL_PRESERVE_IVUV USE_64_BIT_ALL USE_64_BIT_INT
                        USE_ITHREADS USE_LARGE_FILES USE_LOCALE
                        USE_LOCALE_COLLATE USE_LOCALE_CTYPE
                        USE_LOCALE_NUMERIC USE_LOCALE_TIME USE_LONG_DOUBLE
                        USE_PERLIO USE_PERL_ATOF USE_REENTRANT_API
  Locally applied patches:
	Devel::PatchPerl 1.48
  Built under openbsd
  Compiled at Mar  6 2018 14:59:03
  %ENV:
    PERL5LIB=""
    PERL5OPT=""
    PERL5_CPANPLUS_IS_RUNNING="58959"
    PERL5_CPAN_IS_RUNNING="58959"
    PERL5_CPAN_IS_RUNNING_IN_RECURSION="35115,58959"
    PERLBREW_HOME="/home/goku/.perlbrew"
    PERLBREW_MANPATH="/home/goku/perl5/perlbrew/perls/perl-5.24.3/man"
    PERLBREW_PATH="/home/goku/perl5/perlbrew/bin:/home/goku/perl5/perlbrew/perls/perl-5.24.3/bin"
    PERLBREW_PERL="perl-5.24.3"
    PERLBREW_ROOT="/home/goku/perl5/perlbrew"
    PERLBREW_SHELLRC_VERSION="0.82"
    PERLBREW_VERSION="0.82"
    PERL_CR_SMOKER_CURRENT="PostScript-ScheduleGrid-XMLTV-0.04"
    PERL_EXTUTILS_AUTOINSTALL="--defaultdeps"
    PERL_MM_USE_DEFAULT="1"
    PERL_USE_UNSAFE_INC="1"
  @INC:
    /home/goku/perl5/perlbrew/perls/perl-5.24.3/lib/site_perl/5.24.3/OpenBSD.amd64-openbsd-thread-multi-ld
    /home/goku/perl5/perlbrew/perls/perl-5.24.3/lib/site_perl/5.24.3
    /home/goku/perl5/perlbrew/perls/perl-5.24.3/lib/5.24.3/OpenBSD.amd64-openbsd-thread-multi-ld
    /home/goku/perl5/perlbrew/perls/perl-5.24.3/lib/5.24.3
    .