Scalar-Does v0.203 Perl 5 v5.22.4 x86_64-linux-thread-multi
- Status
- Pass
- From
- Nigel Horne
- Dist
-
Scalar-Does v0.203
- Platform
- Perl 5 v5.22.4 x86_64-linux-thread-multi
- Date
- 2018-02-12 07:24:27
- ID
- c267a878-0fc5-11e8-af2b-acaf1d79aee4
This distribution has been tested as part of the CPAN Testers
project, supporting the Perl programming language. See
http://wiki.cpantesters.org/ for more information or email
questions to cpan-testers-discuss@perl.org
--
Dear Toby Inkster,
This is a computer-generated report for Scalar-Does-0.203
on perl 5.22.4, created by CPAN-Reporter-1.2018.
Thank you for uploading your work to CPAN. Congratulations!
All tests were successful.
Sections of this report:
* Tester comments
* Program output
* Prerequisites
* Environment and other context
------------------------------
TESTER COMMENTS
------------------------------
Additional comments from tester:
this report is from an automated smoke testing program
and was not reviewed by a human for accuracy
------------------------------
PROGRAM OUTPUT
------------------------------
Output from '/usr/bin/make test':
PERL_DL_NONLAZY=1 "/home/njh/perl5/perlbrew/perls/perl-5.22.4/bin/perl5.22.4" "-MExtUtils::Command::MM" "-MTest::Harness" "-e" "undef *Test::Harness::Switches; test_harness(0, 'blib/lib', 'blib/arch')" t/*.t
t/01basic.t ............ ok
t/02does.t ............. ok
t/04cleanliness.t ...... ok
t/03moosey.t ........... skipped: Test requires module 'MooseX::Types::Moose' but it's not found
t/05custom.t ........... ok
t/06constants.t ........ ok
t/07makerole.t ......... ok
t/09warnings.t ......... skipped: pure Perl List::MoreUtils generates warning under -w
t/10underscore.t ....... skipped: skipping lexical $_ test in Perl >= 5.17
t/08mooselike.t ........ ok
t/11givenwhen.t ........ skipped: skipping given/when test in Perl >= 5.17
t/iod-01basic.t ........ ok
t/iod-03filenames.t .... ok
t/iod-04fileuris.t ..... ok
t/iod-05ducktype.t ..... ok
t/iod-06asfh.t ......... ok
t/iod-11ioall.t ........ skipped: Test requires module 'IO::All' but it's not found
t/iod-12pathclass.t .... skipped: Test requires module 'Path::Class' but it's not found
t/iod-13pathtiny.t ..... ok
t/iod-02filehandles.t .. ok
All tests successful.
Files=20, Tests=240, 7 wallclock secs ( 0.09 usr 0.03 sys + 2.30 cusr 0.36 csys = 2.78 CPU)
Result: PASS
------------------------------
PREREQUISITES
------------------------------
Prerequisite modules loaded:
requires:
Module Need Have
------------------- ----- --------
Exporter::Tiny 0.026 1.000000
lexical::underscore 0 0.004
namespace::clean 0.19 0.27
perl 5.008 5.022004
Scalar::Util 1.24 1.48
Type::Tiny 0.004 1.002001
URI::file 0 4.21
build_requires:
Module Need Have
------------------- ----- --------
Test::More 0.96 1.302086
Test::NoWarnings 0 1.04
Test::Requires 0.06 0.10
URI 0 1.71
configure_requires:
Module Need Have
------------------- ----- --------
ExtUtils::MakeMaker 6.17 7.30
------------------------------
ENVIRONMENT AND OTHER CONTEXT
------------------------------
Environment variables:
AUTOMATED_TESTING = 1
HARNESS_OPTIONS = j2
LANG = en_US.UTF-8
PATH = /home/njh/perl5/perlbrew/bin:/home/njh/perl5/perlbrew/perls/perl-5.22.4/bin:src/njh/smoker/bin:/usr/bin:/bin
PERL5LIB = /home/njh/.cpan/build/lexical-underscore-0.004-5/blib/arch:/home/njh/.cpan/build/lexical-underscore-0.004-5/blib/lib:/home/njh/.cpan/build/Type-Tiny-1.002001-5/blib/arch:/home/njh/.cpan/build/Type-Tiny-1.002001-5/blib/lib:/home/njh/.cpan/build/Moo-2.003004-8/blib/arch:/home/njh/.cpan/build/Moo-2.003004-8/blib/lib:/home/njh/.cpan/build/Marpa-R2-4.000000-5/blib/arch:/home/njh/.cpan/build/Marpa-R2-4.000000-5/blib/lib:/home/njh/.cpan/build/Config-AutoConf-0.315-5/blib/arch:/home/njh/.cpan/build/Config-AutoConf-0.315-5/blib/lib:/home/njh/.cpan/build/File-Slurper-0.011-1/blib/arch:/home/njh/.cpan/build/File-Slurper-0.011-1/blib/lib
PERL5OPT =
PERL5_CPANPLUS_IS_RUNNING = 18571
PERL5_CPAN_IS_RUNNING = 18571
PERLBREW_BASHRC_VERSION = 0.75
PERLBREW_HOME = /home/njh/.perlbrew
PERLBREW_MANPATH = /home/njh/perl5/perlbrew/perls/perl-5.22.4/man
PERLBREW_PATH = /home/njh/perl5/perlbrew/bin:/home/njh/perl5/perlbrew/perls/perl-5.22.4/bin
PERLBREW_PERL = perl-5.22.4
PERLBREW_ROOT = /home/njh/perl5/perlbrew
PERLBREW_VERSION = 0.75
SHELL = /bin/sh
Perl special variables (and OS-specific diagnostics, for MSWin32):
$^X = /home/njh/perl5/perlbrew/perls/perl-5.22.4/bin/perl5.22.4
$UID/$EUID = 1000 / 1000
$GID = 1000 4 24 25 29 30 44 46 103 108 115 123 1000
$EGID = 1000 4 24 25 29 30 44 46 103 108 115 123 1000
Perl module toolchain versions installed:
Module Have
------------------- ----------
CPAN 2.16
CPAN::Meta 2.150001
Cwd 3.56_02
ExtUtils::CBuilder 0.280221
ExtUtils::Command 7.30
ExtUtils::Install 2.06
ExtUtils::MakeMaker 7.30
ExtUtils::Manifest 1.70
ExtUtils::ParseXS 3.28
File::Spec 3.56_02
JSON 2.94
JSON::PP 2.27300_01
Module::Build 0.4224
Module::Signature n/a
Parse::CPAN::Meta 1.4414_001
Test::Harness 3.35_01
Test::More 1.302086
YAML 1.23
YAML::Syck 1.30
version 0.9909
--
Summary of my perl5 (revision 5 version 22 subversion 4) configuration:
Platform:
osname=linux, osvers=4.9.0-3-amd64, archname=x86_64-linux-thread-multi
uname='linux amelia 4.9.0-3-amd64 #1 smp debian 4.9.25-1 (2017-05-02) x86_64 gnulinux '
config_args='-de -Dprefix=/home/njh/perl5/perlbrew/perls/perl-5.22.4 -Duseithreads -Dusemultiplicity -Dusedevel -Accflags= -Aeval:scriptdir=/home/njh/perl5/perlbrew/perls/perl-5.22.4/bin'
hint=recommended, useposix=true, d_sigaction=define
useithreads=define, usemultiplicity=define
use64bitint=define, use64bitall=define, uselongdouble=undef
usemymalloc=n, bincompat5005=undef
Compiler:
cc='cc', ccflags ='-D_REENTRANT -D_GNU_SOURCE -fwrapv -fno-strict-aliasing -pipe -fstack-protector-strong -I/usr/local/include -D_LARGEFILE_SOURCE -D_FILE_OFFSET_BITS=64',
optimize='-O2',
cppflags='-D_REENTRANT -D_GNU_SOURCE -fwrapv -fno-strict-aliasing -pipe -fstack-protector-strong -I/usr/local/include'
ccversion='', gccversion='6.4.0 20170704', gccosandvers=''
intsize=4, longsize=8, ptrsize=8, doublesize=8, byteorder=12345678, doublekind=3
d_longlong=define, longlongsize=8, d_longdbl=define, longdblsize=16, longdblkind=3
ivtype='long', ivsize=8, nvtype='double', nvsize=8, Off_t='off_t', lseeksize=8
alignbytes=8, prototype=define
Linker and Libraries:
ld='cc', ldflags =' -fstack-protector-strong -L/usr/local/lib'
libpth=/usr/local/lib /usr/lib/gcc/x86_64-linux-gnu/6/include-fixed /usr/include/x86_64-linux-gnu /usr/lib /lib/x86_64-linux-gnu /lib/../lib /usr/lib/x86_64-linux-gnu /usr/lib/../lib /lib /lib64 /usr/lib64
libs=-lpthread -lnsl -lgdbm -ldb -ldl -lm -lcrypt -lutil -lc -lgdbm_compat
perllibs=-lpthread -lnsl -ldl -lm -lcrypt -lutil -lc
libc=libc-2.24.so, so=so, useshrplib=false, libperl=libperl.a
gnulibc_version='2.24'
Dynamic Linking:
dlsrc=dl_dlopen.xs, dlext=so, d_dlsymun=undef, ccdlflags='-Wl,-E'
cccdlflags='-fPIC', lddlflags='-shared -O2 -L/usr/local/lib -fstack-protector-strong'
Characteristics of this binary (from libperl):
Compile-time options: HAS_TIMES MULTIPLICITY PERLIO_LAYERS
PERL_DONT_CREATE_GVSV
PERL_HASH_FUNC_ONE_AT_A_TIME_HARD
PERL_IMPLICIT_CONTEXT PERL_MALLOC_WRAP
PERL_NEW_COPY_ON_WRITE PERL_PRESERVE_IVUV
PERL_USE_DEVEL USE_64_BIT_ALL USE_64_BIT_INT
USE_ITHREADS USE_LARGE_FILES USE_LOCALE
USE_LOCALE_COLLATE USE_LOCALE_CTYPE
USE_LOCALE_NUMERIC USE_LOCALE_TIME USE_PERLIO
USE_PERL_ATOF USE_REENTRANT_API
Built under linux
Compiled at Jul 19 2017 00:51:15
%ENV:
PERL5LIB="/home/njh/.cpan/build/lexical-underscore-0.004-5/blib/arch:/home/njh/.cpan/build/lexical-underscore-0.004-5/blib/lib:/home/njh/.cpan/build/Type-Tiny-1.002001-5/blib/arch:/home/njh/.cpan/build/Type-Tiny-1.002001-5/blib/lib:/home/njh/.cpan/build/Moo-2.003004-8/blib/arch:/home/njh/.cpan/build/Moo-2.003004-8/blib/lib:/home/njh/.cpan/build/Marpa-R2-4.000000-5/blib/arch:/home/njh/.cpan/build/Marpa-R2-4.000000-5/blib/lib:/home/njh/.cpan/build/Config-AutoConf-0.315-5/blib/arch:/home/njh/.cpan/build/Config-AutoConf-0.315-5/blib/lib:/home/njh/.cpan/build/File-Slurper-0.011-1/blib/arch:/home/njh/.cpan/build/File-Slurper-0.011-1/blib/lib"
PERL5OPT=""
PERL5_CPANPLUS_IS_RUNNING="18571"
PERL5_CPAN_IS_RUNNING="18571"
PERLBREW_BASHRC_VERSION="0.75"
PERLBREW_HOME="/home/njh/.perlbrew"
PERLBREW_MANPATH="/home/njh/perl5/perlbrew/perls/perl-5.22.4/man"
PERLBREW_PATH="/home/njh/perl5/perlbrew/bin:/home/njh/perl5/perlbrew/perls/perl-5.22.4/bin"
PERLBREW_PERL="perl-5.22.4"
PERLBREW_ROOT="/home/njh/perl5/perlbrew"
PERLBREW_VERSION="0.75"
@INC:
/home/njh/.cpan/build/lexical-underscore-0.004-5/blib/arch
/home/njh/.cpan/build/lexical-underscore-0.004-5/blib/lib
/home/njh/.cpan/build/Type-Tiny-1.002001-5/blib/arch
/home/njh/.cpan/build/Type-Tiny-1.002001-5/blib/lib
/home/njh/.cpan/build/Moo-2.003004-8/blib/arch
/home/njh/.cpan/build/Moo-2.003004-8/blib/lib
/home/njh/.cpan/build/Marpa-R2-4.000000-5/blib/arch
/home/njh/.cpan/build/Marpa-R2-4.000000-5/blib/lib
/home/njh/.cpan/build/Config-AutoConf-0.315-5/blib/arch
/home/njh/.cpan/build/Config-AutoConf-0.315-5/blib/lib
/home/njh/.cpan/build/File-Slurper-0.011-1/blib/arch
/home/njh/.cpan/build/File-Slurper-0.011-1/blib/lib
/home/njh/perl5/perlbrew/perls/perl-5.22.4/lib/site_perl/5.22.4/x86_64-linux-thread-multi
/home/njh/perl5/perlbrew/perls/perl-5.22.4/lib/site_perl/5.22.4
/home/njh/perl5/perlbrew/perls/perl-5.22.4/lib/5.22.4/x86_64-linux-thread-multi
/home/njh/perl5/perlbrew/perls/perl-5.22.4/lib/5.22.4
.