Back
From: metabase:user:9820532a-708b-1014-9a05-b18a96298da1
Subject: PASS Soar-Production-0.03 v5.23.8 GNU/Linux
Date: 2016-03-17T12:42:50Z
This distribution has been tested as part of the CPAN Testers
project, supporting the Perl programming language. See
http://wiki.cpantesters.org/ for more information or email
questions to cpan-testers-discuss@perl.org
--
Dear Nathan Gary Glenn,
This is a computer-generated report for Soar-Production-0.03
on perl 5.23.8, created by CPAN-Reporter-1.2017.
Thank you for uploading your work to CPAN. Congratulations!
All tests were successful.
Sections of this report:
* Tester comments
* Program output
* Prerequisites
* Environment and other context
------------------------------
TESTER COMMENTS
------------------------------
Additional comments from tester:
this report is from an automated smoke testing program
and was not reviewed by a human for accuracy
------------------------------
PROGRAM OUTPUT
------------------------------
Output from './Build test':
t/0-use.t ........................ ok
t/00-compile.t ................... ok
#
#
# Generated by Dist::Zilla::Plugin::ReportVersions::Tiny v1.08
# perl: 5.023008 (wanted 5.010) on linux from /home/smoker/perl5/perlbrew/perls/perl-5.23.8-thread-multi/bin/perl5.23.8
#
# Carp => 1.38 (want any version)
# Data::Diver => 1.0101 (want any version)
# Data::Dumper => 2.160 (want any version)
# Exporter::Easy => 0.18 (want any version)
# File::Find => 1.33 (want any version)
# File::Spec => 3.63 (want any version)
# File::Spec::Functions => 3.63 (want any version)
# File::Temp => 0.2304 (want any version)
# FindBin => 1.51 (want any version)
# Module::Build => 0.4216 (want 0.3601)
# Parse::RecDescent => 1.967013 (want any version)
# Path::Tiny => 0.084 (want any version)
# Pod::Coverage::TrustPod => 0.100003 (want any version)
# Test::Base => 0.88 (want any version)
# Test::Base::Filter => <undef> (want any version)
# Test::CPAN::Meta => 0.25 (want any version)
# Test::Deep => 1.120 (want any version)
# Test::Exception => 0.43 (want any version)
# Test::LongString => 0.17 (want any version)
# Test::More => 1.001014 (want 0.88)
# Test::Pod => 1.51 (want 1.41)
# Test::Pod::Coverage => 1.10 (want 1.08)
# Test::Warn => 0.30 (want any version)
# strict => 1.10 (want any version)
# utf8 => 1.19 (want any version)
# version => 0.9915 (want 0.9901)
# warnings => 1.35 (want any version)
#
# Thanks for using my code. I hope it works for you.
# If not, please try and include this output in the bug report.
# That will help me reproduce the issue and solve your problem.
#
t/000-report-versions-tiny.t ..... ok
t/1-basic.t ...................... ok
t/parser/00-use.t ................ ok
t/parser/01-bad_input.t .......... ok
t/parser/01_5-comments.t ......... ok
t/parser/02-split-productions.t .. ok
t/parser/03-production-names.t ... ok
t/parser/04-documentation.t ...... ok
t/parser/05-Flags.t .............. ok
t/parser/06-State.t .............. ok
t/parser/07-variables.t .......... ok
t/parser/08-attributes.t ......... ok
t/parser/09-int.t ................ ok
t/parser/10-float.t .............. ok
t/parser/11-string.t ............. ok
t/parser/12-quoted.t ............. ok
t/parser/13-disjunct.t ........... ok
t/parser/14-conjunct.t ........... ok
t/parser/15-predicate.t .......... ok
t/parser/16-preference.t ......... ok
t/parser/17-function.t ........... ok
t/parser/18-negative.t ........... ok
t/parser/19-conjunctiveCond.t .... ok
t/parser/20-test_data.t .......... ok
t/printer/0-use.t ................ ok
t/printer/1-test_data.t .......... ok
All tests successful.
Files=28, Tests=1816, 60 wallclock secs ( 0.28 usr 0.09 sys + 58.66 cusr 1.56 csys = 60.59 CPU)
Result: PASS
------------------------------
PREREQUISITES
------------------------------
Prerequisite modules loaded:
requires:
Module Need Have
--------------------- ------ --------
Carp 0 1.38
Data::Dumper 0 2.160
Exporter::Easy 0 0.18
Parse::RecDescent 0 1.967013
perl 5.010 5.023008
strict 0 1.10
warnings 0 1.35
build_requires:
Module Need Have
--------------------- ------ --------
Data::Diver 0 1.0101
File::Find 0 1.33
File::Spec 0 3.63
File::Spec::Functions 0 3.63
File::Temp 0 0.2304
FindBin 0 1.51
Module::Build 0.3601 0.4216
Path::Tiny 0 0.084
Test::Base 0 0.88
Test::Base::Filter 0 0
Test::Deep 0 1.120
Test::Exception 0 0.43
Test::LongString 0 0.17
Test::More 0.88 1.001014
Test::Warn 0 0.30
utf8 0 1.19
configure_requires:
Module Need Have
--------------------- ------ --------
Module::Build 0.3601 0.4216
------------------------------
ENVIRONMENT AND OTHER CONTEXT
------------------------------
Environment variables:
AUTOMATED_TESTING = 1
LANG = en_GB.UTF-8
LANGUAGE = en_GB:en
PATH = /home/smoker/perl5/perlbrew/bin:/home/smoker/perl5/perlbrew/perls/perl-5.23.8-thread-multi/bin:/home/smoker/perl5/bin:/home/smoker/perl5/bin:/home/smoker/bin:/usr/local/sbin:/usr/local/bin:/usr/sbin:/usr/bin:/sbin:/bin:/usr/games:/usr/local/games:/home/smoker/.rvm/bin
PERL5LIB = /home/smoker/.cpan/build/Exporter-Easy-0.18-lSDKcP/blib/arch:/home/smoker/.cpan/build/Exporter-Easy-0.18-lSDKcP/blib/lib:/home/smoker/.cpan/build/Data-Diver-1.0101-EEGQdV/blib/arch:/home/smoker/.cpan/build/Data-Diver-1.0101-EEGQdV/blib/lib:/home/smoker/perl5/lib/perl5
PERL5OPT =
PERL5_CPANPLUS_IS_RUNNING = 24774
PERL5_CPAN_IS_RUNNING = 24774
PERL5_CPAN_IS_RUNNING_IN_RECURSION = 4835,24774
PERLBREW_BASHRC_VERSION = 0.74
PERLBREW_HOME = /home/smoker/.perlbrew
PERLBREW_MANPATH = /home/smoker/perl5/perlbrew/perls/perl-5.23.8-thread-multi/man
PERLBREW_PATH = /home/smoker/perl5/perlbrew/bin:/home/smoker/perl5/perlbrew/perls/perl-5.23.8-thread-multi/bin
PERLBREW_PERL = perl-5.23.8-thread-multi
PERLBREW_ROOT = /home/smoker/perl5/perlbrew
PERLBREW_VERSION = 0.74
PERL_CPANM_OPT = --mirror http://cpan.cpantesters.org
PERL_CR_SMOKER_CURRENT = Soar-Production-0.03
PERL_EXTUTILS_AUTOINSTALL = --defaultdeps
PERL_LOCAL_LIB_ROOT = /home/smoker/perl5
PERL_MB_OPT = --install_base "/home/smoker/perl5"
PERL_MM_OPT = INSTALL_BASE=/home/smoker/perl5
PERL_MM_USE_DEFAULT = 1
SHELL = /bin/bash
TERM = xterm
Perl special variables (and OS-specific diagnostics, for MSWin32):
$^X = /home/smoker/perl5/perlbrew/perls/perl-5.23.8-thread-multi/bin/perl5.23.8
$UID/$EUID = 1003 / 1003
$GID = 1003 27 1003
$EGID = 1003 27 1003
Perl module toolchain versions installed:
Module Have
------------------- --------
CPAN 2.11
CPAN::Meta 2.150005
Cwd 3.63
ExtUtils::CBuilder 0.280225
ExtUtils::Command 7.10
ExtUtils::Install 2.04
ExtUtils::MakeMaker 7.10_01
ExtUtils::Manifest 1.70
ExtUtils::ParseXS 3.31
File::Spec 3.63
JSON 2.90
JSON::PP 2.27300
Module::Build 0.4216
Module::Signature n/a
Parse::CPAN::Meta 1.4417
Test::Harness 3.36
Test::More 1.001014
YAML 1.15
YAML::Syck n/a
version 0.9915
--
Summary of my perl5 (revision 5 version 23 subversion 8) configuration:
Platform:
osname=linux, osvers=4.2.0-30-generic, archname=x86_64-linux-thread-multi
uname='linux ubuntu 4.2.0-30-generic #36~14.04.1-ubuntu smp fri feb 26 18:49:23 utc 2016 x86_64 x86_64 x86_64 gnulinux '
config_args='-de -Dprefix=/home/smoker/perl5/perlbrew/perls/perl-5.23.8-thread-multi -Dman1dir=none -Dman3dir=none -Dusethreads -Dusemultiplicity -Dusedevel -Aeval:scriptdir=/home/smoker/perl5/perlbrew/perls/perl-5.23.8-thread-multi/bin'
hint=recommended, useposix=true, d_sigaction=define
useithreads=define, usemultiplicity=define
use64bitint=define, use64bitall=define, uselongdouble=undef
usemymalloc=n, bincompat5005=undef
Compiler:
cc='cc', ccflags ='-D_REENTRANT -D_GNU_SOURCE -fwrapv -fno-strict-aliasing -pipe -fstack-protector -I/usr/local/include -D_LARGEFILE_SOURCE -D_FILE_OFFSET_BITS=64',
optimize='-O2',
cppflags='-D_REENTRANT -D_GNU_SOURCE -fwrapv -fno-strict-aliasing -pipe -fstack-protector -I/usr/local/include'
ccversion='', gccversion='4.8.4', gccosandvers=''
intsize=4, longsize=8, ptrsize=8, doublesize=8, byteorder=12345678, doublekind=3
d_longlong=define, longlongsize=8, d_longdbl=define, longdblsize=16, longdblkind=3
ivtype='long', ivsize=8, nvtype='double', nvsize=8, Off_t='off_t', lseeksize=8
alignbytes=8, prototype=define
Linker and Libraries:
ld='cc', ldflags =' -fstack-protector -L/usr/local/lib'
libpth=/usr/local/lib /usr/lib/gcc/x86_64-linux-gnu/4.8/include-fixed /usr/include/x86_64-linux-gnu /usr/lib /lib/x86_64-linux-gnu /lib/../lib /usr/lib/x86_64-linux-gnu /usr/lib/../lib /lib
libs=-lpthread -lnsl -lgdbm -ldl -lm -lcrypt -lutil -lc -lgdbm_compat
perllibs=-lpthread -lnsl -ldl -lm -lcrypt -lutil -lc
libc=libc-2.19.so, so=so, useshrplib=false, libperl=libperl.a
gnulibc_version='2.19'
Dynamic Linking:
dlsrc=dl_dlopen.xs, dlext=so, d_dlsymun=undef, ccdlflags='-Wl,-E'
cccdlflags='-fPIC', lddlflags='-shared -O2 -L/usr/local/lib -fstack-protector'
Characteristics of this binary (from libperl):
Compile-time options: HAS_TIMES MULTIPLICITY PERLIO_LAYERS
PERL_COPY_ON_WRITE PERL_DONT_CREATE_GVSV
PERL_HASH_FUNC_ONE_AT_A_TIME_HARD
PERL_IMPLICIT_CONTEXT PERL_MALLOC_WRAP
PERL_PRESERVE_IVUV PERL_USE_DEVEL USE_64_BIT_ALL
USE_64_BIT_INT USE_ITHREADS USE_LARGE_FILES
USE_LOCALE USE_LOCALE_COLLATE USE_LOCALE_CTYPE
USE_LOCALE_NUMERIC USE_LOCALE_TIME USE_PERLIO
USE_PERL_ATOF USE_REENTRANT_API
Locally applied patches:
Devel::PatchPerl 1.38
Built under linux
Compiled at Mar 7 2016 14:11:08
%ENV:
PERL5LIB="/home/smoker/.cpan/build/Exporter-Easy-0.18-lSDKcP/blib/arch:/home/smoker/.cpan/build/Exporter-Easy-0.18-lSDKcP/blib/lib:/home/smoker/.cpan/build/Data-Diver-1.0101-EEGQdV/blib/arch:/home/smoker/.cpan/build/Data-Diver-1.0101-EEGQdV/blib/lib:/home/smoker/perl5/lib/perl5"
PERL5OPT=""
PERL5_CPANPLUS_IS_RUNNING="24774"
PERL5_CPAN_IS_RUNNING="24774"
PERL5_CPAN_IS_RUNNING_IN_RECURSION="4835,24774"
PERLBREW_BASHRC_VERSION="0.74"
PERLBREW_HOME="/home/smoker/.perlbrew"
PERLBREW_MANPATH="/home/smoker/perl5/perlbrew/perls/perl-5.23.8-thread-multi/man"
PERLBREW_PATH="/home/smoker/perl5/perlbrew/bin:/home/smoker/perl5/perlbrew/perls/perl-5.23.8-thread-multi/bin"
PERLBREW_PERL="perl-5.23.8-thread-multi"
PERLBREW_ROOT="/home/smoker/perl5/perlbrew"
PERLBREW_VERSION="0.74"
PERL_CPANM_OPT="--mirror http://cpan.cpantesters.org"
PERL_CR_SMOKER_CURRENT="Soar-Production-0.03"
PERL_EXTUTILS_AUTOINSTALL="--defaultdeps"
PERL_LOCAL_LIB_ROOT="/home/smoker/perl5"
PERL_MB_OPT="--install_base "/home/smoker/perl5""
PERL_MM_OPT="INSTALL_BASE=/home/smoker/perl5"
PERL_MM_USE_DEFAULT="1"
@INC:
/home/smoker/.cpan/build/Exporter-Easy-0.18-lSDKcP/blib/arch
/home/smoker/.cpan/build/Exporter-Easy-0.18-lSDKcP/blib/lib
/home/smoker/.cpan/build/Data-Diver-1.0101-EEGQdV/blib/arch
/home/smoker/.cpan/build/Data-Diver-1.0101-EEGQdV/blib/lib
/home/smoker/perl5/lib/perl5/5.23.8/x86_64-linux-thread-multi
/home/smoker/perl5/lib/perl5/5.23.8
/home/smoker/perl5/lib/perl5/x86_64-linux-thread-multi
/home/smoker/perl5/lib/perl5
/home/smoker/perl5/perlbrew/perls/perl-5.23.8-thread-multi/lib/site_perl/5.23.8/x86_64-linux-thread-multi
/home/smoker/perl5/perlbrew/perls/perl-5.23.8-thread-multi/lib/site_perl/5.23.8
/home/smoker/perl5/perlbrew/perls/perl-5.23.8-thread-multi/lib/5.23.8/x86_64-linux-thread-multi
/home/smoker/perl5/perlbrew/perls/perl-5.23.8-thread-multi/lib/5.23.8
.