Report for String-ToIdentifier-EN-0.11

Back
From: metabase:user:583755a8-8444-11e4-b29f-1767b0ac7d63
Subject: PASS String-ToIdentifier-EN-0.11 v5.20.1 GNU/Linux
Date: 2014-12-18T16:13:10Z

This distribution has been tested as part of the CPAN Testers
project, supporting the Perl programming language.  See
http://wiki.cpantesters.org/ for more information or email
questions to cpan-testers-discuss@perl.org


--
Dear RKITOVER,

This is a computer-generated report for String-ToIdentifier-EN-0.11
on perl 5.20.1, created by App::cpanminus::reporter 0.11 (1.7014).

Thank you for uploading your work to CPAN.  Congratulations!
All tests were successful.

Sections of this report:

    * Tester comments
    * Program output
    * Prerequisites
    * Environment and other context

------------------------------
TESTER COMMENTS
------------------------------

Additional comments from tester:

none provided

------------------------------
PROGRAM OUTPUT
------------------------------

Output from '':

Building and testing String-ToIdentifier-EN-0.11
cp lib/String/ToIdentifier/EN.pm blib/lib/String/ToIdentifier/EN.pm
cp lib/String/ToIdentifier/EN/Unicode.pm blib/lib/String/ToIdentifier/EN/Unicode.pm
Manifying 2 pod documents
PERL_DL_NONLAZY=1 "/home/lwicks/perl5/perlbrew/perls/perl-5.20.1/bin/perl" "-MExtUtils::Command::MM" "-MTest::Harness" "-e" "undef *Test::Harness::Switches; test_harness(0, 'blib/lib', 'blib/arch')" t/*.t
t/00-compile.t .......... ok
t/00_basic.t ............ ok
t/10_ascii.t ............ ok
t/20_capitalization.t ... ok
t/release-pod-syntax.t .. skipped: these tests are for release candidate testing
All tests successful.
Files=5, Tests=807,  1 wallclock secs ( 0.05 usr  0.00 sys +  0.61 cusr  0.02 csys =  0.68 CPU)
Result: PASS

------------------------------
PREREQUISITES
------------------------------

Prerequisite modules loaded:

    No requirements found

------------------------------
ENVIRONMENT AND OTHER CONTEXT
------------------------------

Environment variables:

    LANG = en_GB.utf8
    PATH = /home/lwicks/perl5/perlbrew/bin:/home/lwicks/perl5/perlbrew/perls/perl-5.20.1/bin:~/misc/dev01:/usr/local/sbin:/usr/local/bin:/usr/bin:/opt/android-sdk/platform-tools:/usr/lib/jvm/default/bin:/usr/bin/site_perl:/usr/bin/vendor_perl:/usr/bin/core_perl
    PERLBREW_BASHRC_VERSION = 0.71
    PERLBREW_HOME = /home/lwicks/.perlbrew
    PERLBREW_MANPATH = /home/lwicks/perl5/perlbrew/perls/perl-5.20.1/man
    PERLBREW_PATH = /home/lwicks/perl5/perlbrew/bin:/home/lwicks/perl5/perlbrew/perls/perl-5.20.1/bin
    PERLBREW_PERL = perl-5.20.1
    PERLBREW_ROOT = /home/lwicks/perl5/perlbrew
    PERLBREW_VERSION = 0.71
    SHELL = /bin/bash
    TERM = xterm

Perl special variables (and OS-specific diagnostics, for MSWin32):

    EGID = 1001 1001
    EUID = 1001
    EXECUTABLE_NAME = /home/lwicks/perl5/perlbrew/perls/perl-5.20.1/bin/perl
    GID = 1001 1001
    UID = 1001

Perl module toolchain versions installed:

    Module              Have    
    ------------------- --------
    CPAN                2.05    
    CPAN::Meta          2.142060
    Cwd                 3.48    
    ExtUtils::CBuilder  0.280217
    ExtUtils::Command   1.18    
    ExtUtils::Install   1.67    
    ExtUtils::MakeMaker 7.04    
    ExtUtils::Manifest  1.65    
    ExtUtils::ParseXS   3.24    
    File::Spec          3.48    
    JSON                2.90    
    JSON::PP            2.27203 
    Module::Build       0.4210  
    Module::Signature   n/a     
    Parse::CPAN::Meta   1.4414  
    Test::Harness       3.30    
    Test::More          1.001002
    YAML                1.11    
    YAML::Syck          n/a     
    version             0.9909  


--

Summary of my perl5 (revision 5 version 20 subversion 1) configuration:
   
  Platform:
    osname=linux, osvers=3.16.2-1-arch, archname=x86_64-linux
    uname='linux pc-122 3.16.2-1-arch #1 smp preempt sat sep 6 13:12:51 cest 2014 x86_64 gnulinux '
    config_args='-de -Dprefix=/home/lwicks/perl5/perlbrew/perls/perl-5.20.1 -Aeval:scriptdir=/home/lwicks/perl5/perlbrew/perls/perl-5.20.1/bin'
    hint=recommended, useposix=true, d_sigaction=define
    useithreads=undef, usemultiplicity=undef
    use64bitint=define, use64bitall=define, uselongdouble=undef
    usemymalloc=n, bincompat5005=undef
  Compiler:
    cc='cc', ccflags ='-fwrapv -fno-strict-aliasing -pipe -fstack-protector -I/usr/local/include -D_LARGEFILE_SOURCE -D_FILE_OFFSET_BITS=64',
    optimize='-O2',
    cppflags='-fwrapv -fno-strict-aliasing -pipe -fstack-protector -I/usr/local/include'
    ccversion='', gccversion='4.9.1 20140903 (prerelease)', gccosandvers=''
    intsize=4, longsize=8, ptrsize=8, doublesize=8, byteorder=12345678
    d_longlong=define, longlongsize=8, d_longdbl=define, longdblsize=16
    ivtype='long', ivsize=8, nvtype='double', nvsize=8, Off_t='off_t', lseeksize=8
    alignbytes=8, prototype=define
  Linker and Libraries:
    ld='cc', ldflags =' -fstack-protector -L/usr/local/lib'
    libpth=/usr/local/lib /usr/lib/gcc/x86_64-unknown-linux-gnu/4.9.1/include-fixed /usr/lib /lib/../lib /usr/lib/../lib /lib /lib64 /usr/lib64
    libs=-lnsl -lgdbm -ldb -ldl -lm -lcrypt -lutil -lc -lgdbm_compat
    perllibs=-lnsl -ldl -lm -lcrypt -lutil -lc
    libc=libc-2.20.so, so=so, useshrplib=false, libperl=libperl.a
    gnulibc_version='2.20'
  Dynamic Linking:
    dlsrc=dl_dlopen.xs, dlext=so, d_dlsymun=undef, ccdlflags='-Wl,-E'
    cccdlflags='-fPIC', lddlflags='-shared -O2 -L/usr/local/lib -fstack-protector'


Characteristics of this binary (from libperl): 
  Compile-time options: HAS_TIMES PERLIO_LAYERS PERL_DONT_CREATE_GVSV
                        PERL_HASH_FUNC_ONE_AT_A_TIME_HARD PERL_MALLOC_WRAP
                        PERL_NEW_COPY_ON_WRITE PERL_PRESERVE_IVUV
                        USE_64_BIT_ALL USE_64_BIT_INT USE_LARGE_FILES
                        USE_LOCALE USE_LOCALE_COLLATE USE_LOCALE_CTYPE
                        USE_LOCALE_NUMERIC USE_PERLIO USE_PERL_ATOF
  Built under linux
  Compiled at Sep 19 2014 13:39:08
  %ENV:
    PERLBREW_BASHRC_VERSION="0.71"
    PERLBREW_HOME="/home/lwicks/.perlbrew"
    PERLBREW_MANPATH="/home/lwicks/perl5/perlbrew/perls/perl-5.20.1/man"
    PERLBREW_PATH="/home/lwicks/perl5/perlbrew/bin:/home/lwicks/perl5/perlbrew/perls/perl-5.20.1/bin"
    PERLBREW_PERL="perl-5.20.1"
    PERLBREW_ROOT="/home/lwicks/perl5/perlbrew"
    PERLBREW_VERSION="0.71"
  @INC:
    /home/lwicks/perl5/perlbrew/perls/perl-5.20.1/lib/site_perl/5.20.1/x86_64-linux
    /home/lwicks/perl5/perlbrew/perls/perl-5.20.1/lib/site_perl/5.20.1
    /home/lwicks/perl5/perlbrew/perls/perl-5.20.1/lib/5.20.1/x86_64-linux
    /home/lwicks/perl5/perlbrew/perls/perl-5.20.1/lib/5.20.1
    .