Report for Catalyst-Engine-Stomp-0.17

Back
From: metabase:user:3215efbe-2aae-11df-837a-5e0a49663a4f
Subject: PASS Catalyst-Engine-Stomp-0.17 v5.14.2 GNU/Linux
Date: 2011-12-11T22:23:33Z

This distribution has been tested as part of the CPAN Testers
project, supporting the Perl programming language.  See
http://wiki.cpantesters.org/ for more information or email
questions to cpan-testers-discuss@perl.org


--
Dear Paul Mooney,

This is a computer-generated report for Catalyst-Engine-Stomp-0.17
on perl 5.14.2, created by CPAN-Reporter-1.2003.

Thank you for uploading your work to CPAN.  Congratulations!
All tests were successful.

Sections of this report:

    * Tester comments
    * Program output
    * Prerequisites
    * Environment and other context

------------------------------
TESTER COMMENTS
------------------------------

Additional comments from tester:

this report is from an automated smoke testing program
and was not reviewed by a human for accuracy

------------------------------
PROGRAM OUTPUT
------------------------------

Output from '/usr/bin/make test':

PERL_DL_NONLAZY=1 /home/smoker/perl5/perlbrew/perls/perl-5.14.2/bin/perl "-MExtUtils::Command::MM" "-e" "test_harness(0, 'inc', 'blib/lib', 'blib/arch')" t/00_use.t t/01_notabs.t t/02_pod.t t/03_pod_coverage.t t/10_good-message.t t/11_bad-action.t t/12_json-message.t t/13_message-driven-request.t t/14_message-catch-error.t t/15_utf8.t t/16_old_config.t t/17_new_style_subscriptions.t t/18_jmstype.t
t/00_use.t ...................... ok
t/01_notabs.t ................... skipped: NoTabs test only for developers.
t/02_pod.t ...................... skipped: set TEST_POD to enable this test
t/03_pod_coverage.t ............. skipped: set TEST_POD to enable this test
t/10_good-message.t ............. skipped: No ActiveMQ server installed by Alien::ActiveMQ, try running the "install-activemq" command
t/11_bad-action.t ............... skipped: No ActiveMQ server installed by Alien::ActiveMQ, try running the "install-activemq" command
t/12_json-message.t ............. skipped: No ActiveMQ server installed by Alien::ActiveMQ, try running the "install-activemq" command
Use of uninitialized value in string eq at /home/smoker/perl5/perlbrew/perls/perl-5.14.2/lib/site_perl/5.14.2/Catalyst/Engine.pm line 481.
Use of uninitialized value in string eq at /home/smoker/perl5/perlbrew/perls/perl-5.14.2/lib/site_perl/5.14.2/Catalyst.pm line 1793.
Use of uninitialized value in string eq at /home/smoker/perl5/perlbrew/perls/perl-5.14.2/lib/site_perl/5.14.2/Catalyst/Engine.pm line 481.
Use of uninitialized value in string eq at /home/smoker/perl5/perlbrew/perls/perl-5.14.2/lib/site_perl/5.14.2/Catalyst.pm line 1793.
[error] no message type specified
t/13_message-driven-request.t ... ok
Use of uninitialized value in string eq at /home/smoker/perl5/perlbrew/perls/perl-5.14.2/lib/site_perl/5.14.2/Catalyst/Engine.pm line 481.
Use of uninitialized value in string eq at /home/smoker/perl5/perlbrew/perls/perl-5.14.2/lib/site_perl/5.14.2/Catalyst.pm line 1793.
Use of uninitialized value in string eq at /home/smoker/perl5/perlbrew/perls/perl-5.14.2/lib/site_perl/5.14.2/Catalyst/Engine.pm line 481.
Use of uninitialized value in string eq at /home/smoker/perl5/perlbrew/perls/perl-5.14.2/lib/site_perl/5.14.2/Catalyst.pm line 1793.
[error] Exception thrown: StompTestApp::Error=HASH(0x39a51a0)
t/14_message-catch-error.t ...... ok
t/15_utf8.t ..................... skipped: No ActiveMQ server installed by Alien::ActiveMQ, try running the "install-activemq" command
t/16_old_config.t ............... skipped: No ActiveMQ server installed by Alien::ActiveMQ, try running the "install-activemq" command
t/17_new_style_subscriptions.t .. skipped: No ActiveMQ server installed by Alien::ActiveMQ, try running the "install-activemq" command
t/18_jmstype.t .................. skipped: No ActiveMQ server installed by Alien::ActiveMQ, try running the "install-activemq" command
All tests successful.
Files=13, Tests=12,  4 wallclock secs ( 0.04 usr  0.01 sys +  3.60 cusr  0.27 csys =  3.92 CPU)
Result: PASS

------------------------------
PREREQUISITES
------------------------------

Prerequisite modules loaded:

requires:

    Module                         Need    Have    
    ------------------------------ ------- --------
    Alien::ActiveMQ                0.00003 0.00004 
    Catalyst::Engine::Embeddable   v0.0.1  0.000003
    Catalyst::Plugin::ConfigLoader 0       0.30    
    Catalyst::Runtime              5.80004 5.90007 
    Data::Serializer               0.49    0.59    
    Moose                          0       2.0401  
    MooseX::Types                  0       0.30    
    MooseX::Workers                0.05    0.16    
    namespace::autoclean           0.05    0.13    
    Net::Stomp                     0.34    0.44    
    YAML                           0       0.77    
    YAML::XS                       0.32    0.37    

build_requires:

    Module                         Need    Have    
    ------------------------------ ------- --------
    Alien::ActiveMQ                0.00003 0.00004 
    Catalyst::Plugin::ConfigLoader 0       0.30    
    ExtUtils::MakeMaker            6.42    6.62    

configure_requires:

    Module                         Need    Have    
    ------------------------------ ------- --------
    ExtUtils::MakeMaker            6.42    6.62    


------------------------------
ENVIRONMENT AND OTHER CONTEXT
------------------------------

Environment variables:

    AUTOMATED_TESTING = 1
    LANG = de_DE.utf8
    PATH = /home/smoker/perl5/perlbrew/bin:/home/smoker/perl5/perlbrew/perls/perl-5.14.2/bin:/usr/local/bin:/bin:/usr/bin:/usr/local/sbin:/usr/sbin:/sbin:/home/smoker/bin
    PATH_WITHOUT_PERLBREW = /usr/local/bin:/bin:/usr/bin:/usr/local/sbin:/usr/sbin:/sbin
    PERL5LIB = /home/smoker/.cpan/build/Alien-ActiveMQ-0.00004-ZWkTyF/blib/arch:/home/smoker/.cpan/build/Alien-ActiveMQ-0.00004-ZWkTyF/blib/lib
    PERL5OPT = 
    PERL5_CPANPLUS_IS_RUNNING = 12237
    PERL5_CPAN_IS_RUNNING = 12237
    PERL5_CPAN_IS_RUNNING_IN_RECURSION = 1562,12237
    PERLBREW_BASHRC_VERSION = 0.33
    PERLBREW_HOME = /home/smoker/.perlbrew
    PERLBREW_PATH = /home/smoker/perl5/perlbrew/bin:/home/smoker/perl5/perlbrew/perls/perl-5.14.2/bin
    PERLBREW_PERL = perl-5.14.2
    PERLBREW_ROOT = /home/smoker/perl5/perlbrew
    PERLBREW_VERSION = 0.33
    PERL_CR_SMOKER_CURRENT = Catalyst-Engine-Stomp-0.17
    PERL_EXTUTILS_AUTOINSTALL = --defaultdeps
    PERL_MM_USE_DEFAULT = 1
    SHELL = /bin/bash
    TERM = xterm

Perl special variables (and OS-specific diagnostics, for MSWin32):

    $^X = /home/smoker/perl5/perlbrew/perls/perl-5.14.2/bin/perl
    $UID/$EUID = 501 / 501
    $GID = 501 501
    $EGID = 501 501

Perl module toolchain versions installed:

    Module              Have    
    ------------------- --------
    CPAN                1.9800  
    CPAN::Meta          2.112621
    Cwd                 3.36    
    ExtUtils::CBuilder  0.280203
    ExtUtils::Command   1.17    
    ExtUtils::Install   1.56    
    ExtUtils::MakeMaker 6.62    
    ExtUtils::Manifest  1.60    
    ExtUtils::ParseXS   3.07    
    File::Spec          3.33    
    JSON                2.53    
    JSON::PP            2.27200 
    Module::Build       0.3800  
    Module::Signature   0.68    
    Parse::CPAN::Meta   1.4401  
    Test::Harness       3.23    
    Test::More          0.98    
    YAML                0.77    
    YAML::Syck          1.19    
    version             0.95    


--

Summary of my perl5 (revision 5 version 14 subversion 2) configuration:
   
  Platform:
    osname=linux, osvers=2.6.32-71.29.1.el6.x86_64, archname=x86_64-linux
    uname='linux centos6.localdomain 2.6.32-71.29.1.el6.x86_64 #1 smp mon jun 27 19:49:27 bst 2011 x86_64 x86_64 x86_64 gnulinux '
    config_args='-de -Dprefix=/home/smoker/perl5/perlbrew/perls/perl-5.14.2'
    hint=recommended, useposix=true, d_sigaction=define
    useithreads=undef, usemultiplicity=undef
    useperlio=define, d_sfio=undef, uselargefiles=define, usesocks=undef
    use64bitint=define, use64bitall=define, uselongdouble=undef
    usemymalloc=n, bincompat5005=undef
  Compiler:
    cc='cc', ccflags ='-fno-strict-aliasing -pipe -fstack-protector -I/usr/local/include -D_LARGEFILE_SOURCE -D_FILE_OFFSET_BITS=64',
    optimize='-O2',
    cppflags='-fno-strict-aliasing -pipe -fstack-protector -I/usr/local/include'
    ccversion='', gccversion='4.4.4 20100726 (Red Hat 4.4.4-13)', gccosandvers=''
    intsize=4, longsize=8, ptrsize=8, doublesize=8, byteorder=12345678
    d_longlong=define, longlongsize=8, d_longdbl=define, longdblsize=16
    ivtype='long', ivsize=8, nvtype='double', nvsize=8, Off_t='off_t', lseeksize=8
    alignbytes=8, prototype=define
  Linker and Libraries:
    ld='cc', ldflags =' -fstack-protector -L/usr/local/lib'
    libpth=/usr/local/lib /lib /usr/lib /lib64 /usr/lib64 /usr/local/lib64
    libs=-lnsl -ldl -lm -lcrypt -lutil -lc
    perllibs=-lnsl -ldl -lm -lcrypt -lutil -lc
    libc=, so=so, useshrplib=false, libperl=libperl.a
    gnulibc_version='2.12'
  Dynamic Linking:
    dlsrc=dl_dlopen.xs, dlext=so, d_dlsymun=undef, ccdlflags='-Wl,-E'
    cccdlflags='-fPIC', lddlflags='-shared -O2 -L/usr/local/lib -fstack-protector'


Characteristics of this binary (from libperl): 
  Compile-time options: PERL_DONT_CREATE_GVSV PERL_MALLOC_WRAP
                        PERL_PRESERVE_IVUV USE_64_BIT_ALL USE_64_BIT_INT
                        USE_LARGE_FILES USE_PERLIO USE_PERL_ATOF
  Built under linux
  Compiled at Dec  8 2011 17:52:18
  %ENV:
    PERL5LIB="/home/smoker/.cpan/build/Alien-ActiveMQ-0.00004-ZWkTyF/blib/arch:/home/smoker/.cpan/build/Alien-ActiveMQ-0.00004-ZWkTyF/blib/lib"
    PERL5OPT=""
    PERL5_CPANPLUS_IS_RUNNING="12237"
    PERL5_CPAN_IS_RUNNING="12237"
    PERL5_CPAN_IS_RUNNING_IN_RECURSION="1562,12237"
    PERLBREW_BASHRC_VERSION="0.33"
    PERLBREW_HOME="/home/smoker/.perlbrew"
    PERLBREW_PATH="/home/smoker/perl5/perlbrew/bin:/home/smoker/perl5/perlbrew/perls/perl-5.14.2/bin"
    PERLBREW_PERL="perl-5.14.2"
    PERLBREW_ROOT="/home/smoker/perl5/perlbrew"
    PERLBREW_VERSION="0.33"
    PERL_CR_SMOKER_CURRENT="Catalyst-Engine-Stomp-0.17"
    PERL_EXTUTILS_AUTOINSTALL="--defaultdeps"
    PERL_MM_USE_DEFAULT="1"
  @INC:
    /home/smoker/.cpan/build/Alien-ActiveMQ-0.00004-ZWkTyF/blib/arch
    /home/smoker/.cpan/build/Alien-ActiveMQ-0.00004-ZWkTyF/blib/lib
    /home/smoker/perl5/perlbrew/perls/perl-5.14.2/lib/site_perl/5.14.2/x86_64-linux
    /home/smoker/perl5/perlbrew/perls/perl-5.14.2/lib/site_perl/5.14.2
    /home/smoker/perl5/perlbrew/perls/perl-5.14.2/lib/5.14.2/x86_64-linux
    /home/smoker/perl5/perlbrew/perls/perl-5.14.2/lib/5.14.2
    .