Report for Lock-File-1.03

Back
From: metabase:user:314402c4-2aae-11df-837a-5e0a49663a4f
Subject: PASS Lock-File-1.03 v5.14.4 FreeBSD
Date: 2016-01-05T11:45:04Z

This distribution has been tested as part of the CPAN Testers
project, supporting the Perl programming language.  See
http://wiki.cpantesters.org/ for more information or email
questions to cpan-testers-discuss@perl.org


--
Dear Vyacheslav Matyukhin,

This is a computer-generated report for Lock-File-1.03
on perl 5.14.4, created by CPAN-Reporter-1.2010.

Thank you for uploading your work to CPAN.  Congratulations!
All tests were successful.

Sections of this report:

    * Tester comments
    * Program output
    * Prerequisites
    * Environment and other context

------------------------------
TESTER COMMENTS
------------------------------

Additional comments from tester:

none provided

------------------------------
PROGRAM OUTPUT
------------------------------

Output from '/usr/bin/make test':

PERL_DL_NONLAZY=1 /usr/local/bin/perl5.14.4d "-MExtUtils::Command::MM" "-MTest::Harness" "-e" "undef *Test::Harness::Switches; test_harness(0, 'blib/lib', 'blib/arch')" t/*.t
t/locale.t ................ ok
t/release-pod-coverage.t .. skipped: these tests are for release candidate testing
t/release-pod-syntax.t .... skipped: these tests are for release candidate testing
lockf() is deprecated, use lockfile() instead at lib/Lock/File.pm line 53.
lockf() is deprecated, use lockfile() instead at lib/Lock/File.pm line 53.
t/test.t .................. ok
All tests successful.
Files=4, Tests=61, 26 wallclock secs ( 0.10 usr  0.00 sys +  3.21 cusr  1.34 csys =  4.66 CPU)
Result: PASS

------------------------------
PREREQUISITES
------------------------------

Prerequisite modules loaded:

requires:

    Module              Need Have     
    ------------------- ---- ---------
    base                0    2.16     
    Carp                0    1.32     
    Exporter            0    5.64_03  
    Fcntl               0    1.11     
    Log::Any            0    1.032    
    POSIX               0    1.24     
    strict              0    1.04     
    warnings            0    1.12     

build_requires:

    Module              Need Have     
    ------------------- ---- ---------
    autodie             0    2.1001   
    File::Path          0    2.08_01  
    IPC::System::Simple 0    1.25     
    Test::Class         0    0.50     
    Test::Fatal         0    0.013    
    Test::More          0    1.001009 
    Test::Warn          0    0.30     
    Time::HiRes         0    1.9721_01

configure_requires:

    Module              Need Have     
    ------------------- ---- ---------
    ExtUtils::MakeMaker 6.30 6.80     


------------------------------
ENVIRONMENT AND OTHER CONTEXT
------------------------------

Environment variables:

    LC_ALL = de_DE.UTF-8
    PATH = /usr/local/bin:/usr/bin:/bin:/usr/local/sbin:/usr/sbin:/sbin:/home/e/eserte/bin/freebsd9.1:/home/e/eserte/bin/sh:/home/e/eserte/bin:/usr/games:/home/e/eserte/devel:/home/e/eserte/src/srezic-misc/scripts
    PERL5LIB = /usr/local/src/CPAN/build/2016010512/IPC-System-Simple-1.25-mu_t4X/blib/arch:/usr/local/src/CPAN/build/2016010512/IPC-System-Simple-1.25-mu_t4X/blib/lib:/usr/local/src/CPAN/build/2016010512/Test-Class-0.50-MfhfWN/blib/arch:/usr/local/src/CPAN/build/2016010512/Test-Class-0.50-MfhfWN/blib/lib:/usr/local/src/CPAN/build/2016010512/Log-Any-1.032-xs3C0p/blib/arch:/usr/local/src/CPAN/build/2016010512/Log-Any-1.032-xs3C0p/blib/lib
    PERL5OPT = 
    PERL5_CPANPLUS_IS_RUNNING = 33974
    PERL5_CPAN_IS_RUNNING = 33974
    PERL5_CPAN_IS_RUNNING_IN_RECURSION = 24924,33974
    PERLDOC = -MPod::Perldoc::ToTextOverstrike
    PERL_BATCH = yes
    PERL_CANARY_STABILITY_NOPROMPT = 1
    PERL_CPAN_REPORTER_CONFIG = /var/tmp/cpansmoker-1000/2016010512/cpanreporter_000_config.ini
    PERL_EXTUTILS_AUTOINSTALL = --defaultdeps
    SHELL = /usr/local/bin/zsh
    TERM = screen
    TMPDIR = /var/tmp/cpansmoker-1000/2016010512

Perl special variables (and OS-specific diagnostics, for MSWin32):

    $^X = /usr/local/bin/perl5.14.4d
    $UID/$EUID = 1000 / 1000
    $GID = 1000 1000 0 5 1023 1024
    $EGID = 1000 1000 0 5 1023 1024

Perl module toolchain versions installed:

    Module              Have     
    ------------------- ---------
    CPAN                1.9600_01
    CPAN::Meta          2.142690 
    Cwd                 3.40     
    ExtUtils::CBuilder  0.280203 
    ExtUtils::Command   1.17     
    ExtUtils::Install   1.56     
    ExtUtils::MakeMaker 6.80     
    ExtUtils::Manifest  1.60     
    ExtUtils::ParseXS   2.2210   
    File::Spec          3.40     
    JSON                2.90     
    JSON::PP            2.27200  
    Module::Build       0.3800   
    Module::Signature   n/a      
    Parse::CPAN::Meta   1.4414   
    Test::Harness       3.34     
    Test::More          1.001009 
    YAML                0.84     
    YAML::Syck          1.27     
    version             0.88     


--

Summary of my perl5 (revision 5 version 14 subversion 4) configuration:
   
  Platform:
    osname=freebsd, osvers=9.2-release, archname=amd64-freebsd
    uname='freebsd cvrsnica.herceg.de 9.2-release freebsd 9.2-release #0 r255898: thu sep 26 22:50:31 utc 2013 root@bake.isc.freebsd.org:usrobjusrsrcsysgeneric amd64 '
    config_args='-Doptimize=-g3 -ggdb -DPERL_DEBUGGING_MSTATS -D useshrplib=true -Dprefix=/usr/perl5.14.4d -Dprefix=/usr/perl5.14.4d -Dusemymalloc=y -D cc=ccache cc -Dgccansipedantic -de'
    hint=recommended, useposix=true, d_sigaction=define
    useithreads=undef, usemultiplicity=undef
    useperlio=define, d_sfio=undef, uselargefiles=define, usesocks=undef
    use64bitint=define, use64bitall=define, uselongdouble=undef
    usemymalloc=y, bincompat5005=undef
  Compiler:
    cc='ccache cc', ccflags ='-DHAS_FPSETMASK -DHAS_FLOATINGPOINT_H -fno-strict-aliasing -pipe -fstack-protector -I/usr/local/include',
    optimize='-g3 -ggdb -DPERL_DEBUGGING_MSTATS',
    cppflags='-DHAS_FPSETMASK -DHAS_FLOATINGPOINT_H -fno-strict-aliasing -pipe -fstack-protector -I/usr/local/include'
    ccversion='', gccversion='4.2.1 20070831 patched [FreeBSD]', gccosandvers=''
    intsize=4, longsize=8, ptrsize=8, doublesize=8, byteorder=12345678
    d_longlong=define, longlongsize=8, d_longdbl=define, longdblsize=16
    ivtype='long', ivsize=8, nvtype='double', nvsize=8, Off_t='off_t', lseeksize=8
    alignbytes=8, prototype=define
  Linker and Libraries:
    ld='ccache cc', ldflags ='-Wl,-E  -fstack-protector -L/usr/local/lib'
    libpth=/usr/lib /usr/local/lib
    libs=-lgdbm -lm -lcrypt -lutil -lc
    perllibs=-lm -lcrypt -lutil -lc
    libc=, so=so, useshrplib=true, libperl=libperl.so
    gnulibc_version=''
  Dynamic Linking:
    dlsrc=dl_dlopen.xs, dlext=so, d_dlsymun=undef, ccdlflags='  -Wl,-R/usr/perl5.14.4d/lib/5.14.4/amd64-freebsd/CORE'
    cccdlflags='-DPIC -fPIC', lddlflags='-shared  -L/usr/local/lib -fstack-protector'


Characteristics of this binary (from libperl): 
  Compile-time options: MYMALLOC PERL_DONT_CREATE_GVSV PERL_MALLOC_WRAP
                        PERL_PRESERVE_IVUV PERL_USE_DEVEL USE_64_BIT_ALL
                        USE_64_BIT_INT USE_LARGE_FILES USE_PERLIO
                        USE_PERL_ATOF
  Built under freebsd
  Compiled at Oct 28 2013 22:49:38
  %ENV:
    PERL5LIB="/usr/local/src/CPAN/build/2016010512/IPC-System-Simple-1.25-mu_t4X/blib/arch:/usr/local/src/CPAN/build/2016010512/IPC-System-Simple-1.25-mu_t4X/blib/lib:/usr/local/src/CPAN/build/2016010512/Test-Class-0.50-MfhfWN/blib/arch:/usr/local/src/CPAN/build/2016010512/Test-Class-0.50-MfhfWN/blib/lib:/usr/local/src/CPAN/build/2016010512/Log-Any-1.032-xs3C0p/blib/arch:/usr/local/src/CPAN/build/2016010512/Log-Any-1.032-xs3C0p/blib/lib"
    PERL5OPT=""
    PERL5_CPANPLUS_IS_RUNNING="33974"
    PERL5_CPAN_IS_RUNNING="33974"
    PERL5_CPAN_IS_RUNNING_IN_RECURSION="24924,33974"
    PERLDOC="-MPod::Perldoc::ToTextOverstrike"
    PERL_BATCH="yes"
    PERL_CANARY_STABILITY_NOPROMPT="1"
    PERL_CPAN_REPORTER_CONFIG="/var/tmp/cpansmoker-1000/2016010512/cpanreporter_000_config.ini"
    PERL_EXTUTILS_AUTOINSTALL="--defaultdeps"
  @INC:
    /usr/local/src/CPAN/build/2016010512/IPC-System-Simple-1.25-mu_t4X/blib/arch
    /usr/local/src/CPAN/build/2016010512/IPC-System-Simple-1.25-mu_t4X/blib/lib
    /usr/local/src/CPAN/build/2016010512/Test-Class-0.50-MfhfWN/blib/arch
    /usr/local/src/CPAN/build/2016010512/Test-Class-0.50-MfhfWN/blib/lib
    /usr/local/src/CPAN/build/2016010512/Log-Any-1.032-xs3C0p/blib/arch
    /usr/local/src/CPAN/build/2016010512/Log-Any-1.032-xs3C0p/blib/lib
    /usr/perl5.14.4d/lib/site_perl/5.14.4/amd64-freebsd
    /usr/perl5.14.4d/lib/site_perl/5.14.4
    /usr/perl5.14.4d/lib/5.14.4/amd64-freebsd
    /usr/perl5.14.4d/lib/5.14.4
    .