Report for WebNano-Controller-CRUD-0.007

Back
From: metabase:user:320bfe00-2aae-11df-837a-5e0a49663a4f
Subject: PASS WebNano-Controller-CRUD-0.007 v5.22.2 Windows (Cygwin)
Date: 2016-10-11T19:32:11Z

This distribution has been tested as part of the CPAN Testers
project, supporting the Perl programming language.  See
http://wiki.cpantesters.org/ for more information or email
questions to cpan-testers-discuss@perl.org


--
Dear Zbigniew Lukasiak,

This is a computer-generated report for WebNano-Controller-CRUD-0.007
on perl 5.22.2, created by CPAN-Reporter-1.2018.

Thank you for uploading your work to CPAN.  Congratulations!
All tests were successful.

Sections of this report:

    * Tester comments
    * Program output
    * Prerequisites
    * Environment and other context

------------------------------
TESTER COMMENTS
------------------------------

Additional comments from tester:

none provided

------------------------------
PROGRAM OUTPUT
------------------------------

Output from '/usr/bin/make test':

PERL_DL_NONLAZY=1 "/usr/bin/perl.exe" "-MExtUtils::Command::MM" "-MTest::Harness" "-e" "undef *Test::Harness::Switches; test_harness(0, 'blib/lib', 'blib/arch')" t/*.t
Class::MOP::load_class is deprecated at /usr/lib/perl5/site_perl/5.22/x86_64-cygwin-threads/Class/MOP.pm line 69, <DATA> line 1.
	Class::MOP::load_class("MyApp::Controller::Form") called at /cygdrive/c/Users/k/.cpan/build/WebNano-Controller-CRUD-0.007-0/blib/lib/WebNano/Controller/CRUD.pm line 154
	WebNano::Controller::CRUD::edit(MyApp::Controller::DvdWithBaseCRUD=HASH(0x6024f45e8), MyApp::DBSchema::Result::Dvd=HASH(0x6033ecf30), undef, "edit") called at /cygdrive/c/Users/k/.cpan/build/WebNano-Controller-CRUD-0.007-0/blib/lib/WebNano/Controller/CRUD.pm line 89
	Class::MOP::Class:::around(CODE(0x602701c90), MyApp::Controller::DvdWithBaseCRUD=HASH(0x6024f45e8)) called at /usr/lib/perl5/site_perl/5.22/x86_64-cygwin-threads/Class/MOP/Method/Wrapped.pm line 164
	WebNano::Controller::CRUD::_wrapped_local_dispatch(MyApp::Controller::DvdWithBaseCRUD=HASH(0x6024f45e8)) called at /usr/lib/perl5/site_perl/5.22/x86_64-cygwin-threads/Class/MOP/Method/Wrapped.pm line 95
	WebNano::Controller::CRUD::local_dispatch(MyApp::Controller::DvdWithBaseCRUD=HASH(0x6024f45e8)) called at /usr/lib/perl5/site_perl/5.22/WebNano/Controller.pm line 90
	WebNano::Controller::handle("MyApp::Controller::DvdWithBaseCRUD", "path", ARRAY(0x6041ed8d0), "app", MyApp=HASH(0x602247710), "self_url", "/DvdWithBaseCRUD/", "env", ...) called at /usr/lib/perl5/site_perl/5.22/WebNano/Controller.pm line 82
	WebNano::Controller::dispatch_to_class(MyApp::Controller=HASH(0x6041bfd90), "DvdWithBaseCRUD") called at /usr/lib/perl5/site_perl/5.22/WebNano/Controller.pm line 93
	WebNano::Controller::handle("MyApp::Controller", "path", ARRAY(0x6041ed8d0), "app", MyApp=HASH(0x602247710), "env", HASH(0x6041f8048), "self_url", ...) called at /usr/lib/perl5/site_perl/5.22/WebNano.pm line 44
	WebNano::handle(MyApp=HASH(0x602247710), HASH(0x6041f8048)) called at /usr/lib/perl5/site_perl/5.22/WebNano.pm line 31
	WebNano::__ANON__(HASH(0x6041f8048)) called at /usr/lib/perl5/site_perl/5.22/Plack/Test/MockHTTP.pm line 24
	Plack::Test::MockHTTP::try {...} () called at /usr/lib/perl5/site_perl/5.22/Try/Tiny.pm line 101
	eval {...} called at /usr/lib/perl5/site_perl/5.22/Try/Tiny.pm line 94
	Try::Tiny::try(CODE(0x6041c0210), Try::Tiny::Catch=REF(0x604204ae8)) called at /usr/lib/perl5/site_perl/5.22/Plack/Test/MockHTTP.pm line 27
	Plack::Test::MockHTTP::request(Plack::Test::MockHTTP=HASH(0x6023734b8), HTTP::Request=HASH(0x602505e08)) called at /usr/lib/perl5/site_perl/5.22/Plack/Test.pm line 38
	Plack::Test::__ANON__(HTTP::Request=HASH(0x602505e08)) called at t/crud_base_controller.t line 23
	main::__ANON__(CODE(0x602373620)) called at /usr/lib/perl5/site_perl/5.22/Plack/Test.pm line 38
	Plack::Test::test_psgi("app", CODE(0x602352190), "client", CODE(0x6021db070)) called at t/crud_base_controller.t line 42
t/crud_base_controller.t .. ok
t/release-kwalitee.t ...... skipped: these tests are for release candidate testing
t/release-pod-coverage.t .. skipped: these tests are for release candidate testing
t/release-pod-syntax.t .... skipped: these tests are for release candidate testing
All tests successful.
Files=4, Tests=20,  4 wallclock secs ( 0.05 usr  0.00 sys +  3.00 cusr  0.95 csys =  3.99 CPU)
Result: PASS

------------------------------
PREREQUISITES
------------------------------

Prerequisite modules loaded:

requires:

    Module                            Need  Have    
    --------------------------------- ----- --------
    Class::MOP                        0     2.1806  
    Config::General                   0     2.63    
    Cwd                               0     3.62    
    DateTime::Format::SQLite          0     0.11    
    DBIx::Class                       0     0.082840
    File::Spec::Functions             0     3.62    
    HTML::FormHandler::Model::DBIC    0     0.29    
    HTML::FormHandler::Moose          0     0       
    Moose                             0     2.1806  
    MooseX::NonMoose                  0     0.26    
    WebNano                           0.007 0.007   
    WebNano::Controller               0     0.007   
    WebNano::Renderer::TT             0     0.002   

build_requires:

    Module                            Need  Have    
    --------------------------------- ----- --------
    base                              0     2.23    
    Config::Any                       0     0.27    
    DateTime                          0     1.39    
    DBIx::Class                       0     0.082840
    DBIx::Class::Schema               0     0       
    File::Copy                        0     2.30    
    HTML::FormHandler::Model::DBIC    0     0.29    
    HTML::FormHandler::Moose          0     0       
    HTML::FormHandler::Render::Simple 0     0.01    
    HTTP::Request::Common             0     6.11    
    overload                          0     1.26    
    Plack::Test                       0     0       
    strict                            0     1.09    
    Test::More                        0     1.302059
    warnings                          0     1.34    
    WebNano                           0     0.007   
    WebNano::Renderer::TT             0     0.002   

configure_requires:

    Module                            Need  Have    
    --------------------------------- ----- --------
    ExtUtils::MakeMaker               6.30  7.24    


------------------------------
ENVIRONMENT AND OTHER CONTEXT
------------------------------

Environment variables:

    COMSPEC = C:\WINDOWS\system32\cmd.exe
    LANG = en_GB.UTF-8
    NUMBER_OF_PROCESSORS = 4
    PATH = /usr/local/bin:/usr/bin:/cygdrive/c/Program Files (x86)/Intel/iCLS Client:/cygdrive/c/Program Files/Intel/iCLS Client:/cygdrive/c/WINDOWS/system32:/cygdrive/c/WINDOWS:/cygdrive/c/WINDOWS/System32/Wbem:/cygdrive/c/WINDOWS/System32/WindowsPowerShell/v1.0:/cygdrive/c/Program Files/Intel/Intel(R) Management Engine Components/DAL:/cygdrive/c/Program Files/Intel/Intel(R) Management Engine Components/IPT:/cygdrive/c/Program Files (x86)/Intel/Intel(R) Management Engine Components/DAL:/cygdrive/c/Program Files (x86)/Intel/Intel(R) Management Engine Components/IPT:/cygdrive/c/Program Files (x86)/Intel/OpenCL SDK/2.0/bin/x86:/cygdrive/c/Program Files (x86)/Intel/OpenCL SDK/2.0/bin/x64:/cygdrive/c/Program Files (x86)/Git/cmd:/cygdrive/c/Program Files (x86)/Git/bin:/cygdrive/c/Program Files/Intel/WiFi/bin:/cygdrive/c/Program Files/Common Files/Intel/WirelessCommon:/cygdrive/c/Strawberry/c/bin:/cygdrive/c/Strawberry/perl/site/bin:/cygdrive/c/Strawberry/perl/bin:/cygdrive/c/Users/k/AppData/Local/Microsoft/WindowsApps
    PERL5LIB = 
    PERL5OPT = 
    PERL5_CPANPLUS_IS_RUNNING = 6572
    PERL5_CPAN_IS_RUNNING = 6572
    PROCESSOR_IDENTIFIER = Intel64 Family 6 Model 58 Stepping 9, GenuineIntel
    SHELL = /bin/bash
    TEMP = /tmp
    TERM = xterm

Perl special variables (and OS-specific diagnostics, for MSWin32):

    $^X = /usr/bin/perl
    $UID/$EUID = 197609 / 197609
    $GID = 197121 197121 545 4 66049 11 15 113 66048 262154 401408
    $EGID = 197121 197121 545 4 66049 11 15 113 66048 262154 401408

Perl module toolchain versions installed:

    Module              Have    
    ------------------- --------
    CPAN                2.15    
    CPAN::Meta          2.150010
    Cwd                 3.62    
    ExtUtils::CBuilder  0.280224
    ExtUtils::Command   7.24    
    ExtUtils::Install   2.04    
    ExtUtils::MakeMaker 7.24    
    ExtUtils::Manifest  1.70    
    ExtUtils::ParseXS   3.28    
    File::Spec          3.62    
    JSON                2.90    
    JSON::PP            2.27400 
    Module::Build       0.4220  
    Module::Signature   0.80    
    Parse::CPAN::Meta   2.150010
    Test::Harness       3.36    
    Test::More          1.302059
    YAML                1.18    
    YAML::Syck          1.29    
    version             0.9917  


--

Summary of my perl5 (revision 5 version 22 subversion 2) configuration:
   
  Platform:
    osname=cygwin, osvers=2.5.1(0.29753), archname=cygwin-thread-multi
    uname='cygwin_nt-6.3 cygwin 2.5.1(0.29753) 2016-04-21 22:14 x86_64 cygwin '
    config_args='-des -Dprefix=/usr -Dmksymlinks -Darchname=x86_64-cygwin-threads -Dlibperl=cygperl5_22.dll -Dcc=gcc -Dld=g++ -Accflags=-ggdb -O2 -pipe -Wimplicit-function-declaration -fdebug-prefix-map=/mnt/share/maint/perl.x86_64/build=/usr/src/debug/perl-5.22.2-1 -fdebug-prefix-map=/mnt/share/maint/perl.x86_64/src/perl-5.22.2=/usr/src/debug/perl-5.22.2-1 -fwrapv'
    hint=recommended, useposix=true, d_sigaction=define
    useithreads=define, usemultiplicity=define
    use64bitint=define, use64bitall=define, uselongdouble=undef
    usemymalloc=n, bincompat5005=undef
  Compiler:
    cc='gcc', ccflags ='-DPERL_USE_SAFE_PUTENV -D_GNU_SOURCE -U__STRICT_ANSI__ -ggdb -O2 -pipe -Wimplicit-function-declaration -fdebug-prefix-map=/mnt/share/maint/perl.x86_64/build=/usr/src/debug/perl-5.22.2-1 -fdebug-prefix-map=/mnt/share/maint/perl.x86_64/src/perl-5.22.2=/usr/src/debug/perl-5.22.2-1 -fwrapv -fno-strict-aliasing -fstack-protector-strong -D_FORTIFY_SOURCE=2',
    optimize='-O3',
    cppflags='-DPERL_USE_SAFE_PUTENV -D_GNU_SOURCE -U__STRICT_ANSI__ -ggdb -O2 -pipe -Wimplicit-function-declaration -fdebug-prefix-map=/mnt/share/maint/perl.x86_64/build=/usr/src/debug/perl-5.22.2-1 -fdebug-prefix-map=/mnt/share/maint/perl.x86_64/src/perl-5.22.2=/usr/src/debug/perl-5.22.2-1 -fwrapv -fno-strict-aliasing -fstack-protector-strong'
    ccversion='', gccversion='5.3.0', gccosandvers=''
    intsize=4, longsize=8, ptrsize=8, doublesize=8, byteorder=12345678, doublekind=3
    d_longlong=define, longlongsize=8, d_longdbl=define, longdblsize=16, longdblkind=3
    ivtype='long', ivsize=8, nvtype='double', nvsize=8, Off_t='off_t', lseeksize=8
    alignbytes=8, prototype=define
  Linker and Libraries:
    ld='g++', ldflags =' -Wl,--enable-auto-import -Wl,--export-all-symbols -Wl,--enable-auto-image-base -fstack-protector-strong'
    libpth=/usr/lib
    libs=-lpthread -lgdbm -ldb -ldl -lcrypt -lgdbm_compat
    perllibs=-lpthread -ldl -lcrypt
    libc=/usr/lib/libcygwin.a, so=dll, useshrplib=true, libperl=cygperl5_22.dll
    gnulibc_version=''
  Dynamic Linking:
    dlsrc=dl_dlopen.xs, dlext=dll, d_dlsymun=undef, ccdlflags=' '
    cccdlflags=' ', lddlflags=' --shared  -Wl,--enable-auto-import -Wl,--export-all-symbols -Wl,--enable-auto-image-base -fstack-protector-strong'


Characteristics of this binary (from libperl): 
  Compile-time options: HAS_TIMES MULTIPLICITY PERLIO_LAYERS
                        PERL_DONT_CREATE_GVSV
                        PERL_HASH_FUNC_ONE_AT_A_TIME_HARD
                        PERL_IMPLICIT_CONTEXT PERL_NEW_COPY_ON_WRITE
                        PERL_PRESERVE_IVUV PERL_USE_SAFE_PUTENV
                        USE_64_BIT_ALL USE_64_BIT_INT USE_ITHREADS
                        USE_LARGE_FILES USE_LOCALE USE_LOCALE_COLLATE
                        USE_LOCALE_CTYPE USE_LOCALE_NUMERIC USE_LOCALE_TIME
                        USE_PERLIO USE_PERL_ATOF USE_REENTRANT_API
  Built under cygwin
  Compiled at Apr 30 2016 17:04:50
  %ENV:
    PERL5LIB=""
    PERL5OPT=""
    PERL5_CPANPLUS_IS_RUNNING="6572"
    PERL5_CPAN_IS_RUNNING="6572"
  @INC:
    /usr/lib/perl5/site_perl/5.22/x86_64-cygwin-threads
    /usr/lib/perl5/site_perl/5.22
    /usr/lib/perl5/vendor_perl/5.22/x86_64-cygwin-threads
    /usr/lib/perl5/vendor_perl/5.22
    /usr/lib/perl5/5.22/x86_64-cygwin-threads
    /usr/lib/perl5/5.22
    .