Report for Statistics-R-IO-0.101

Back
From: metabase:user:320bfe00-2aae-11df-837a-5e0a49663a4f
Subject: PASS Statistics-R-IO-0.101 v5.20.2 RC1 GNU/Linux
Date: 2015-02-01T11:16:26Z

This distribution has been tested as part of the CPAN Testers
project, supporting the Perl programming language.  See
http://wiki.cpantesters.org/ for more information or email
questions to cpan-testers-discuss@perl.org


--
Dear Davor Cubranic,

This is a computer-generated report for Statistics-R-IO-0.101
on perl 5.20.2, created by CPAN-Reporter-1.2011.

Thank you for uploading your work to CPAN.  Congratulations!
All tests were successful.

Sections of this report:

    * Tester comments
    * Program output
    * Prerequisites
    * Environment and other context

------------------------------
TESTER COMMENTS
------------------------------

Additional comments from tester:

this report is from an automated smoke testing program
and was not reviewed by a human for accuracy

------------------------------
PROGRAM OUTPUT
------------------------------

Output from '/usr/bin/make test':

Skip blib/lib/auto/share/dist/Statistics-R-IO/WebWork/RserveClient.pl (unchanged)
PERL_DL_NONLAZY=1 "/tmp/basesmoker-reloperl-S6j0/bin/perl" "-MExtUtils::Command::MM" "-MTest::Harness" "-e" "undef *Test::Harness::Switches; test_harness(0, 'blib/lib', 'blib/arch')" t/*.t
t/io-oo-rdata.t ................ ok
t/io-oo-rds.t .................. ok
t/io-oo-rserve-eval-live.t ..... skipped: Cannot connect to Rserve server at localhost:6311
t/io-oo-rserve-eval-mock.t ..... ok
t/io-oo-rserve-getfile-live.t .. skipped: Cannot connect to Rserve server at localhost:6311
t/io-oo-rserve-sereval-live.t .. skipped: Cannot connect to Rserve server at localhost:6311
t/io-oo-rserve-sereval-mock.t .. ok
t/io-parser.t .................. ok
t/io-parserstate.t ............. ok
t/io-qap.t ..................... ok
t/io-rdata.t ................... ok
t/io-rds.t ..................... ok
t/io-rserve-eval.t ............. skipped: Cannot connect to Rserve server at localhost:6311
t/io-rserve.t .................. ok
t/io-unserialize.t ............. ok
t/release-pod-coverage.t ....... skipped: these tests are for release candidate testing
t/release-pod-syntax.t ......... skipped: these tests are for release candidate testing
t/rexp-baseenvironment.t ....... ok
t/rexp-character.t ............. ok
t/rexp-closure.t ............... ok
t/rexp-complex.t ............... ok
t/rexp-double.t ................ ok
t/rexp-emptyenvironment.t ...... ok
t/rexp-environment.t ........... ok
t/rexp-expression.t ............ ok
t/rexp-globalenvironment.t ..... ok
t/rexp-integer.t ............... ok
t/rexp-language.t .............. ok
t/rexp-list.t .................. ok
t/rexp-logical.t ............... ok
t/rexp-null.t .................. ok
t/rexp-raw.t ................... ok
t/rexp-symbol.t ................ ok
t/rexp-vector.t ................ ok
t/rexp.t ....................... ok
All tests successful.
Files=35, Tests=787, 18 wallclock secs ( 0.48 usr  0.06 sys + 16.88 cusr  0.70 csys = 18.12 CPU)
Result: PASS

------------------------------
PREREQUISITES
------------------------------

Prerequisite modules loaded:

requires:

    Module                    Need Have      
    ------------------------- ---- ----------
    Carp                      0    1.3301    
    Math::Complex             0    1.59      
    Moose                     2.0  2.1403    
    namespace::clean          0.24 0.25      
    Scalar::Util              0    1.41      

build_requires:

    Module                    Need Have      
    ------------------------- ---- ----------
    Test::Fatal               0    0.014     
    Test::MockObject          0    1.20140408
    Test::MockObject::Extends 0    1.20140408
    Test::More                0.96 1.001014  

configure_requires:

    Module                    Need Have      
    ------------------------- ---- ----------
    ExtUtils::MakeMaker       6.30 7.04      
    File::ShareDir::Install   0.03 0.10      


------------------------------
ENVIRONMENT AND OTHER CONTEXT
------------------------------

Environment variables:

    AUTOMATED_TESTING = 1
    LANG = en_US.UTF-8
    LANGUAGE = en_US:en
    PATH = /home/sand/bin:/usr/local/bin:/usr/bin:/bin:/usr/games:/usr/local/perl/bin:/usr/X11/bin:/sbin:/usr/sbin
    PERL5LIB = 
    PERL5OPT = 
    PERL5_CPANPLUS_IS_RUNNING = 5833
    PERL5_CPAN_IS_RUNNING = 5833
    PERL_MM_USE_DEFAULT = 1
    SHELL = /usr/bin/zsh
    TERM = screen

Perl special variables (and OS-specific diagnostics, for MSWin32):

    $^X = /tmp/basesmoker-reloperl-S6j0/bin/perl
    $UID/$EUID = 1005 / 1005
    $GID = 1005 1005
    $EGID = 1005 1005

Perl module toolchain versions installed:

    Module              Have    
    ------------------- --------
    CPAN                2.05    
    CPAN::Meta          2.143240
    Cwd                 3.48_01 
    ExtUtils::CBuilder  0.280220
    ExtUtils::Command   1.18    
    ExtUtils::Install   1.67    
    ExtUtils::MakeMaker 7.04    
    ExtUtils::Manifest  1.70    
    ExtUtils::ParseXS   3.24    
    File::Spec          3.48_01 
    JSON                2.90    
    JSON::PP            2.27203 
    Module::Build       0.4211  
    Module::Signature   0.73    
    Parse::CPAN::Meta   1.4414  
    Test::Harness       3.35    
    Test::More          1.001014
    YAML                1.14    
    YAML::Syck          1.29    
    version             0.9912  


--

Summary of my perl5 (revision 5 version 20 subversion 2) configuration:
  Commit id: a920fedcd88708027dc9204b8d8abac1638789d4
  Platform:
    osname=linux, osvers=3.16.0-4-amd64, archname=x86_64-linux
    uname='linux k83 3.16.0-4-amd64 #1 smp debian 3.16.7-ckt2-1 (2014-12-08) x86_64 gnulinux '
    config_args='-Dprefix=/home/sand/src/perl/repoperls/installed-perls/perl/v5.20.2-RC1/165a -Dmyhostname=k83 -Dinstallusrbinperl=n -Uversiononly -Dusedevel -des -Ui_db -Uuseithreads -Uuselongdouble -DDEBUGGING=-g'
    hint=recommended, useposix=true, d_sigaction=define
    useithreads=undef, usemultiplicity=undef
    use64bitint=define, use64bitall=define, uselongdouble=undef
    usemymalloc=n, bincompat5005=undef
  Compiler:
    cc='cc', ccflags ='-fwrapv -fno-strict-aliasing -pipe -fstack-protector -I/usr/local/include -D_LARGEFILE_SOURCE -D_FILE_OFFSET_BITS=64',
    optimize='-O2 -g',
    cppflags='-fwrapv -fno-strict-aliasing -pipe -fstack-protector -I/usr/local/include'
    ccversion='', gccversion='4.9.2', gccosandvers=''
    intsize=4, longsize=8, ptrsize=8, doublesize=8, byteorder=12345678
    d_longlong=define, longlongsize=8, d_longdbl=define, longdblsize=16
    ivtype='long', ivsize=8, nvtype='double', nvsize=8, Off_t='off_t', lseeksize=8
    alignbytes=8, prototype=define
  Linker and Libraries:
    ld='cc', ldflags =' -fstack-protector -L/usr/local/lib'
    libpth=/usr/local/lib /usr/lib/gcc/x86_64-linux-gnu/4.9/include-fixed /usr/include/x86_64-linux-gnu /usr/lib /lib/x86_64-linux-gnu /lib/../lib /usr/lib/x86_64-linux-gnu /usr/lib/../lib /lib
    libs=-lnsl -lgdbm -ldb -ldl -lm -lcrypt -lutil -lc -lgdbm_compat
    perllibs=-lnsl -ldl -lm -lcrypt -lutil -lc
    libc=libc-2.19.so, so=so, useshrplib=false, libperl=libperl.a
    gnulibc_version='2.19'
  Dynamic Linking:
    dlsrc=dl_dlopen.xs, dlext=so, d_dlsymun=undef, ccdlflags='-Wl,-E'
    cccdlflags='-fPIC', lddlflags='-shared -O2 -g -L/usr/local/lib -fstack-protector'


Characteristics of this binary (from libperl): 
  Compile-time options: HAS_TIMES PERLIO_LAYERS PERL_DONT_CREATE_GVSV
                        PERL_HASH_FUNC_ONE_AT_A_TIME_HARD PERL_MALLOC_WRAP
                        PERL_NEW_COPY_ON_WRITE PERL_PRESERVE_IVUV
                        PERL_USE_DEVEL USE_64_BIT_ALL USE_64_BIT_INT
                        USE_LARGE_FILES USE_LOCALE USE_LOCALE_COLLATE
                        USE_LOCALE_CTYPE USE_LOCALE_NUMERIC USE_PERLIO
                        USE_PERL_ATOF
  Locally applied patches:
	RC1
  Built under linux
  Compiled at Feb  1 2015 06:16:35
  %ENV:
    PERL5LIB=""
    PERL5OPT=""
    PERL5_CPANPLUS_IS_RUNNING="5833"
    PERL5_CPAN_IS_RUNNING="5833"
    PERL_MM_USE_DEFAULT="1"
  @INC:
    /home/sand/src/perl/repoperls/installed-perls/perl/v5.20.2-RC1/165a/lib/site_perl/5.20.2/x86_64-linux
    /home/sand/src/perl/repoperls/installed-perls/perl/v5.20.2-RC1/165a/lib/site_perl/5.20.2
    /home/sand/src/perl/repoperls/installed-perls/perl/v5.20.2-RC1/165a/lib/5.20.2/x86_64-linux
    /home/sand/src/perl/repoperls/installed-perls/perl/v5.20.2-RC1/165a/lib/5.20.2
    .