Report for Regexp-Common-2017040401

Back
From: metabase:user:30f4dfbe-2aae-11df-837a-5e0a49663a4f
Subject: PASS Regexp-Common-2017040401 v5.25.9 GNU/Linux
Date: 2017-04-05T11:26:50Z

This distribution has been tested as part of the CPAN Testers
project, supporting the Perl programming language.  See
http://wiki.cpantesters.org/ for more information or email
questions to cpan-testers-discuss@perl.org


--
Dear Abigail,

This is a computer-generated report for Regexp-Common-2017040401
on perl 5.25.9, created by CPAN-Reporter-1.2018.

Thank you for uploading your work to CPAN.  Congratulations!
All tests were successful.

Sections of this report:

    * Tester comments
    * Program output
    * Prerequisites
    * Environment and other context

------------------------------
TESTER COMMENTS
------------------------------

Additional comments from tester:

this report is from an automated smoke testing program
and was not reviewed by a human for accuracy

------------------------------
PROGRAM OUTPUT
------------------------------

Output from '/usr/bin/make test':

PERL_DL_NONLAZY=1 "/home/njh/perl5/perlbrew/perls/perl-5.25.9/bin/perl" "-MExtUtils::Command::MM" "-MTest::Harness" "-e" "undef *Test::Harness::Switches; test_harness(0, 'blib/lib', 'blib/arch')" t/*.t t/*/*.t
t/comment/html.t ................. ok
t/comment/pascal.t ............... ok
t/comment/delimited.t ............ ok
t/delimited/101_delimited.t ...... skipped: Test::Regexp not found
t/delimited/111_bquoted.t ........ skipped: Test::Regexp not found
t/net/101_ipv4.t ................. ok
t/net/102_ipv4_strict.t .......... skipped: Test::Regexp not found
t/net/111_ipv6.t ................. ok
t/net/121_mac.t .................. ok
t/comment/nested.t ............... ok
t/net/131_domain.t ............... ok
t/number/101_integer.t ........... skipped: Test::Regexp not found
t/number/111_integer_base.t ...... skipped: Test::Regexp not found
t/number/121_integer_places.t .... skipped: Test::Regexp not found
t/number/122_integer_places.t .... skipped: Test::Regexp not found
t/comment/single_or_multiline.t .. ok
t/number/123_integer_places.t .... skipped: Test::Regexp not found
t/number/131_integer_sep.t ....... skipped: Test::Regexp not found
t/number/141_integer_group.t ..... skipped: Test::Regexp not found
t/number/701_squares.t ........... skipped: Test::Regexp not found
t/number/801_roman.t ............. skipped: Test::Regexp not found
t/number/number.t ................ ok
t/test___luhn.t .................. ok
t/test_balanced.t ................ ok
t/test_bases.t ................... ok
t/test_bases_sep.t ............... ok
t/test_comments.t ................ ok
t/SEN/usa_ssn.t .................. ok
t/number/decimal.t ............... ok
t/test_curry.t ................... ok
t/test_i.t ....................... ok
t/test_no_import.t ............... ok
t/test_list.t .................... ok
t/test_sub.t ..................... ok
t/test_profanity.t ............... ok
t/test_sub_named.t ............... ok
t/test_ws.t ...................... ok
t/test_lingua_palindrome.t ....... ok
t/URI/fax.t ...................... ok
t/URI/file.t ..................... ok
t/URI/any.t ...................... ok
t/URI/ftp.t ...................... ok
t/URI/news.t ..................... ok
t/URI/nntp.t ..................... ok
t/URI/pop.t ...................... ok
t/URI/prospero.t ................. ok
t/URI/tel.t ...................... ok
t/URI/telnet.t ................... ok
t/URI/tv.t ....................... ok
t/URI/wais.t ..................... ok
t/zip/101_austria.t .............. skipped: Test::Regexp not found
t/zip/111_australia.t ............ skipped: Test::Regexp not found
t/zip/112_australia.t ............ skipped: Test::Regexp not found
t/zip/121_belgium.t .............. skipped: Test::Regexp not found
t/zip/131_denmark.t .............. skipped: Test::Regexp not found
t/zip/141_greenland.t ............ skipped: Test::Regexp not found
t/URI/http.t ..................... ok
t/zip/151_norway.t ............... skipped: Test::Regexp not found
t/zip/161_liechtenstein.t ........ skipped: Test::Regexp not found
t/URI/gopher.t ................... ok
t/zip/171_switzerland.t .......... skipped: Test::Regexp not found
t/zip/181_italy.t ................ skipped: Test::Regexp not found
t/zip/191_germany.t .............. skipped: Test::Regexp not found
t/comment/single_line.t .......... ok
t/zip/201_luxembourg.t ........... skipped: Test::Regexp not found
t/zip/211_france.t ............... skipped: Test::Regexp not found
t/zip/221_monaco.t ............... skipped: Test::Regexp not found
t/zip/231_san-marino.t ........... skipped: Test::Regexp not found
t/zip/241_vatican-city.t ......... skipped: Test::Regexp not found
t/zip/zip.t ...................... ok
t/zip/spain.t .................... ok
t/zip/netherlands.t .............. ok
t/zip/us.t ....................... ok
All tests successful.
Files=73, Tests=149252, 127 wallclock secs (119.56 usr  1.42 sys + 185.77 cusr  4.84 csys = 311.59 CPU)
Result: PASS

------------------------------
PREREQUISITES
------------------------------

Prerequisite modules loaded:

requires:

    Module              Need Have    
    ------------------- ---- --------
    Config              0    5.025009
    perl                5.01 5.025009
    strict              0    1.11    
    vars                0    1.03    
    warnings            0    1.37    

build_requires:

    Module              Need Have    
    ------------------- ---- --------
    Config              0    5.025009
    strict              0    1.11    
    Test::More          0    1.302073
    vars                0    1.03    
    warnings            0    1.37    

configure_requires:

    Module              Need Have    
    ------------------- ---- --------
    Config              0    5.025009
    ExtUtils::MakeMaker 0    7.24    
    perl                5.01 5.025009
    strict              0    1.11    
    vars                0    1.03    
    warnings            0    1.37    


------------------------------
ENVIRONMENT AND OTHER CONTEXT
------------------------------

Environment variables:

    AUTOMATED_TESTING = 1
    HARNESS_OPTIONS = j4
    LANG = en_US.UTF-8
    LANGUAGE = en_US.UTF-8
    LC_ALL = en_US.UTF-8
    PATH = /home/njh/perl5/perlbrew/bin:/home/njh/perl5/perlbrew/perls/perl-5.25.9/bin:/home/njh/perl5/perlbrew/bin:/home/njh/src/njh/smoker/bin:/usr/bin:/bin
    PERL5LIB = 
    PERL5OPT = 
    PERL5_CPANPLUS_IS_RUNNING = 24346
    PERL5_CPAN_IS_RUNNING = 24346
    PERLBREW_BASHRC_VERSION = 0.78
    PERLBREW_LIB = 
    PERLBREW_MANPATH = /home/njh/perl5/perlbrew/perls/perl-5.25.9/man
    PERLBREW_PATH = /home/njh/perl5/perlbrew/bin:/home/njh/perl5/perlbrew/perls/perl-5.25.9/bin
    PERLBREW_PERL = perl-5.25.9
    PERLBREW_ROOT = /home/njh/perl5/perlbrew
    PERLBREW_VERSION = 0.78
    PERL_LOCAL_LIB_ROOT = 
    SHELL = /bin/sh

Perl special variables (and OS-specific diagnostics, for MSWin32):

    $^X = /home/njh/perl5/perlbrew/perls/perl-5.25.9/bin/perl
    $UID/$EUID = 1000 / 1000
    $GID = 100 100
    $EGID = 100 100

Perl module toolchain versions installed:

    Module              Have      
    ------------------- ----------
    CPAN                2.16      
    CPAN::Meta          2.150010  
    Cwd                 3.66      
    ExtUtils::CBuilder  0.280225  
    ExtUtils::Command   7.24      
    ExtUtils::Install   2.04      
    ExtUtils::MakeMaker 7.24      
    ExtUtils::Manifest  1.70      
    ExtUtils::ParseXS   3.33      
    File::Spec          3.66      
    JSON                n/a       
    JSON::PP            2.27400_02
    Module::Build       0.4220    
    Module::Signature   n/a       
    Parse::CPAN::Meta   2.150010  
    Test::Harness       3.36_01   
    Test::More          1.302073  
    YAML                1.23      
    YAML::Syck          1.29      
    version             0.9917    


--

Summary of my perl5 (revision 5 version 25 subversion 9) configuration:
   
  Platform:
    osname=linux
    osvers=4.5.7-std-4
    archname=armv7l-linux-thread-multi
    uname='linux scw-808d97 4.5.7-std-4 #1 smp tue jul 12 11:00:06 utc 2016 armv7l gnulinux '
    config_args='-de -Dprefix=/home/njh/perl5/perlbrew/perls/perl-5.25.9 -Duseithreads -Dusemultiplicity -Dusedevel -Dusedevel -Accflags=-O2 -W -Wformat=2 -Wswitch -Wshadow -Wwrite-strings -Wuninitialized -Wall -pipe -fomit-frame-pointer -D_FORTIFY_SOURCE=2 -Wpointer-arith -Wstrict-prototypes -fstack-protector -Wstack-protector -Wextra -Wbad-function-cast -Wcast-align -Wcast-qual -Wdisabled-optimization -Wendif-labels -Wfloat-equal -Wformat-nonliteral -Winline -Wmissing-declarations -Wmissing-prototypes -Wnested-externs -Wpointer-arith -Wundef -Wformat-security -mtune=native -march=native -mfpu=vfp -mfloat-abi=hard -Aeval:scriptdir=/home/njh/perl5/perlbrew/perls/perl-5.25.9/bin'
    hint=recommended
    useposix=true
    d_sigaction=define
    useithreads=define
    usemultiplicity=define
    use64bitint=undef
    use64bitall=undef
    uselongdouble=undef
    usemymalloc=n
    bincompat5005=undef
  Compiler:
    cc='cc'
    ccflags ='-D_REENTRANT -D_GNU_SOURCE -O2 -W -Wformat=2 -Wswitch -Wshadow -Wwrite-strings -Wuninitialized -Wall -pipe -fomit-frame-pointer -D_FORTIFY_SOURCE=2 -Wpointer-arith -Wstrict-prototypes -fstack-protector -Wstack-protector -Wextra -Wbad-function-cast -Wcast-align -Wcast-qual -Wdisabled-optimization -Wendif-labels -Wfloat-equal -Wformat-nonliteral -Winline -Wmissing-declarations -Wmissing-prototypes -Wnested-externs -Wpointer-arith -Wundef -Wformat-security -mtune=native -march=native -mfpu=vfp -mfloat-abi=hard -fwrapv -fno-strict-aliasing -fstack-protector-strong -I/usr/local/include -D_LARGEFILE_SOURCE -D_FILE_OFFSET_BITS=64'
    optimize='-O2'
    cppflags='-D_REENTRANT -D_GNU_SOURCE -O2 -W -Wformat=2 -Wswitch -Wshadow -Wwrite-strings -Wuninitialized -Wall -pipe -fomit-frame-pointer -D_FORTIFY_SOURCE=2 -Wpointer-arith -Wstrict-prototypes -fstack-protector -Wstack-protector -Wextra -Wbad-function-cast -Wcast-align -Wcast-qual -Wdisabled-optimization -Wendif-labels -Wfloat-equal -Wformat-nonliteral -Winline -Wmissing-declarations -Wmissing-prototypes -Wnested-externs -Wpointer-arith -Wundef -Wformat-security -mtune=native -march=native -mfpu=vfp -mfloat-abi=hard -fwrapv -fno-strict-aliasing -fstack-protector-strong -I/usr/local/include'
    ccversion=''
    gccversion='4.9.2'
    gccosandvers=''
    intsize=4
    longsize=4
    ptrsize=4
    doublesize=8
    byteorder=1234
    doublekind=3
    d_longlong=define
    longlongsize=8
    d_longdbl=define
    longdblsize=8
    longdblkind=0
    ivtype='long'
    ivsize=4
    nvtype='double'
    nvsize=8
    Off_t='off_t'
    lseeksize=8
    alignbytes=8
    prototype=define
  Linker and Libraries:
    ld='cc'
    ldflags =' -fstack-protector-strong -L/usr/local/lib'
    libpth=/usr/local/lib /usr/lib/gcc/arm-linux-gnueabihf/4.9/include-fixed /usr/include/arm-linux-gnueabihf /usr/lib /lib/arm-linux-gnueabihf /lib /usr/lib/arm-linux-gnueabihf
    libs=-lpthread -lnsl -ldl -lm -lcrypt -lutil -lc
    perllibs=-lpthread -lnsl -ldl -lm -lcrypt -lutil -lc
    libc=libc-2.19.so
    so=so
    useshrplib=false
    libperl=libperl.a
    gnulibc_version='2.19'
  Dynamic Linking:
    dlsrc=dl_dlopen.xs
    dlext=so
    d_dlsymun=undef
    ccdlflags='-Wl,-E'
    cccdlflags='-fPIC'
    lddlflags='-shared -O2 -L/usr/local/lib -fstack-protector-strong'


Characteristics of this binary (from libperl): 
  Compile-time options:
    HAS_TIMES
    MULTIPLICITY
    PERLIO_LAYERS
    PERL_COPY_ON_WRITE
    PERL_DONT_CREATE_GVSV
    PERL_HASH_FUNC_ONE_AT_A_TIME_HARD
    PERL_IMPLICIT_CONTEXT
    PERL_MALLOC_WRAP
    PERL_OP_PARENT
    PERL_PRESERVE_IVUV
    PERL_USE_DEVEL
    USE_ITHREADS
    USE_LARGE_FILES
    USE_LOCALE
    USE_LOCALE_COLLATE
    USE_LOCALE_CTYPE
    USE_LOCALE_NUMERIC
    USE_LOCALE_TIME
    USE_PERLIO
    USE_PERL_ATOF
    USE_REENTRANT_API
  Locally applied patches:
    Devel::PatchPerl 1.38
  Built under linux
  Compiled at Feb 25 2017 14:35:03
  %ENV:
    PERL5LIB=""
    PERL5OPT=""
    PERL5_CPANPLUS_IS_RUNNING="24346"
    PERL5_CPAN_IS_RUNNING="24346"
    PERLBREW_BASHRC_VERSION="0.78"
    PERLBREW_LIB=""
    PERLBREW_MANPATH="/home/njh/perl5/perlbrew/perls/perl-5.25.9/man"
    PERLBREW_PATH="/home/njh/perl5/perlbrew/bin:/home/njh/perl5/perlbrew/perls/perl-5.25.9/bin"
    PERLBREW_PERL="perl-5.25.9"
    PERLBREW_ROOT="/home/njh/perl5/perlbrew"
    PERLBREW_VERSION="0.78"
    PERL_LOCAL_LIB_ROOT=""
  @INC:
    /home/njh/perl5/perlbrew/perls/perl-5.25.9/lib/site_perl/5.25.9/armv7l-linux-thread-multi
    /home/njh/perl5/perlbrew/perls/perl-5.25.9/lib/site_perl/5.25.9
    /home/njh/perl5/perlbrew/perls/perl-5.25.9/lib/5.25.9/armv7l-linux-thread-multi
    /home/njh/perl5/perlbrew/perls/perl-5.25.9/lib/5.25.9
    .