Test2-Tools-URL v0.02 Perl 5 v5.18.4 amd64-freebsd

Status
Pass
From
Slaven Rezić (SREZIC)
Dist
Test2-Tools-URL v0.02
Platform
Perl 5 v5.18.4 amd64-freebsd
Date
2017-11-12 11:36:45
ID
c35ad2b6-c79d-11e7-808a-cf835492355b
This distribution has been tested as part of the CPAN Testers
project, supporting the Perl programming language.  See
http://wiki.cpantesters.org/ for more information or email
questions to cpan-testers-discuss@perl.org


--
Dear Graham Ollis,

This is a computer-generated report for Test2-Tools-URL-0.02
on perl 5.18.4, created by CPAN-Reporter-1.2018.

Thank you for uploading your work to CPAN.  Congratulations!
All tests were successful.

Sections of this report:

    * Tester comments
    * Program output
    * Prerequisites
    * Environment and other context

------------------------------
TESTER COMMENTS
------------------------------

Additional comments from tester:

none provided

------------------------------
PROGRAM OUTPUT
------------------------------

Output from '/usr/bin/make test':

PERL_DL_NONLAZY=1 "/usr/perl5.18.4p/bin/perl5.18.4" "-MExtUtils::Command::MM" "-MTest::Harness" "-e" "undef *Test::Harness::Switches; test_harness(0, 'blib/lib', 'blib/arch')" t/*.t
# 
# 
# 
# HARNESS_ACTIVE=1
# HARNESS_VERSION=3.39
# PERL5LIB=/usr/home/cpansand/.cpan/build/2017111112/Test2-Tools-URL-0.02-2/blib/lib:/usr/home/cpansand/.cpan/build/2017111112/Test2-Tools-URL-0.02-2/blib/arch:/home/cpansand/.cpan/build/2017111112/HollyGame-0-52/blib/arch:/home/cpansand/.cpan/build/2017111112/HollyGame-0-52/blib/lib:/home/cpansand/.cpan/build/2017111112/HollyGame-0-52/blib/arch:/home/cpansand/.cpan/build/2017111112/HollyGame-0-52/blib/lib
# PERL5OPT=
# PERL5_CPANPLUS_IS_RUNNING=32075
# PERL5_CPAN_IS_RUNNING=32075
# PERL5_CPAN_IS_RUNNING_IN_RECURSION=32039,32075
# PERL_BATCH=yes
# PERL_CANARY_STABILITY_NOPROMPT=1
# PERL_CPAN_REPORTER_CONFIG=/var/tmp/cpansmoker-1023/2017111112/cpanreporter_000_config.ini
# PERL_DL_NONLAZY=1
# PERL_EXTUTILS_AUTOINSTALL=--defaultdeps
# PERL_USE_UNSAFE_INC=1
# SHELL=/bin/sh
# 
# 
# 
# PERL5LIB path
# /usr/home/cpansand/.cpan/build/2017111112/Test2-Tools-URL-0.02-2/blib/lib
# /usr/home/cpansand/.cpan/build/2017111112/Test2-Tools-URL-0.02-2/blib/arch
# /home/cpansand/.cpan/build/2017111112/HollyGame-0-52/blib/arch
# /home/cpansand/.cpan/build/2017111112/HollyGame-0-52/blib/lib
# /home/cpansand/.cpan/build/2017111112/HollyGame-0-52/blib/arch
# /home/cpansand/.cpan/build/2017111112/HollyGame-0-52/blib/lib
# 
# 
# 
# perl                   5.018004
# Carp                   1.38
# ExtUtils::MakeMaker    7.3
# Mojolicious            7.54
# Test2::Compare         0.000083
# Test2::Compare::Base   0.000083
# Test2::Compare::Hash   0.000083
# Test2::Compare::String 0.000083
# Test2::V0              0.000083
# URI                    1.72
# 
# 
# 
t/00_diag.t .......... ok
t/01_use.t ........... ok
t/test2_tools_url.t .. ok
All tests successful.
Files=3, Tests=15,  2 wallclock secs ( 0.07 usr  0.03 sys +  1.75 cusr  0.38 csys =  2.23 CPU)
Result: PASS

------------------------------
PREREQUISITES
------------------------------

Prerequisite modules loaded:

requires:

    Module                 Need     Have    
    ---------------------- -------- --------
    Carp                   0        1.38    
    perl                   5.008001 5.018004
    Test2::Compare         0.000060 0.000083
    Test2::Compare::Base   0.000060 0.000083
    Test2::Compare::Hash   0.000060 0.000083
    Test2::Compare::String 0.000060 0.000083
    URI                    0        1.72    

build_requires:

    Module                 Need     Have    
    ---------------------- -------- --------
    ExtUtils::MakeMaker    0        7.30    
    Test2::V0              0.000060 0.000083

configure_requires:

    Module                 Need     Have    
    ---------------------- -------- --------
    ExtUtils::MakeMaker    0        7.30    
    perl                   5.008001 5.018004


------------------------------
ENVIRONMENT AND OTHER CONTEXT
------------------------------

Environment variables:

    PATH = /usr/local/bin:/usr/bin:/bin:/usr/local/sbin:/usr/sbin:/sbin:/home/cpansand/bin/freebsd12.0:/home/cpansand/bin/sh:/home/cpansand/bin:/usr/games:/home/cpansand/devel:/usr/home/eserte/src/srezic-misc/scripts
    PERL5LIB = /home/cpansand/.cpan/build/2017111112/HollyGame-0-52/blib/arch:/home/cpansand/.cpan/build/2017111112/HollyGame-0-52/blib/lib
    PERL5OPT = 
    PERL5_CPANPLUS_IS_RUNNING = 32075
    PERL5_CPAN_IS_RUNNING = 32075
    PERL5_CPAN_IS_RUNNING_IN_RECURSION = 32039,32075
    PERL_BATCH = yes
    PERL_CANARY_STABILITY_NOPROMPT = 1
    PERL_CPAN_REPORTER_CONFIG = /var/tmp/cpansmoker-1023/2017111112/cpanreporter_000_config.ini
    PERL_EXTUTILS_AUTOINSTALL = --defaultdeps
    SHELL = /bin/sh
    TMPDIR = /var/tmp/cpansmoker-1023/2017111112

Perl special variables (and OS-specific diagnostics, for MSWin32):

    $^X = /usr/perl5.18.4p/bin/perl5.18.4
    $UID/$EUID = 1023 / 1023
    $GID = 1023 1023
    $EGID = 1023 1023

Perl module toolchain versions installed:

    Module              Have    
    ------------------- --------
    CPAN                2.16    
    CPAN::Meta          2.150010
    Cwd                 3.62    
    ExtUtils::CBuilder  0.280226
    ExtUtils::Command   7.30    
    ExtUtils::Install   2.06    
    ExtUtils::MakeMaker 7.30    
    ExtUtils::Manifest  1.70    
    ExtUtils::ParseXS   3.35    
    File::Spec          3.62    
    JSON                2.94    
    JSON::PP            2.94    
    Module::Build       0.4224  
    Module::Signature   0.81    
    Parse::CPAN::Meta   2.150010
    Test::Harness       3.39    
    Test::More          1.302106
    YAML                1.23    
    YAML::Syck          1.30    
    version             0.9918  


--

Summary of my perl5 (revision 5 version 18 subversion 4) configuration:
   
  Platform:
    osname=freebsd, osvers=12.0-current, archname=amd64-freebsd
    uname='freebsd freebsd 12.0-current freebsd 12.0-current #1 ff104cc9da3(master)-dirty: thu oct 19 23:44:51 cest 2017 root@freebsd:usrobjusrsrcsysgeneric amd64 '
    config_args='-ds -e -Dprefix=/usr/perl5.18.4p -Dcf_email=srezic@cpan.org -Doptimize=-O2 -pipe'
    hint=recommended, useposix=true, d_sigaction=define
    useithreads=undef, usemultiplicity=undef
    useperlio=define, d_sfio=undef, uselargefiles=define, usesocks=undef
    use64bitint=define, use64bitall=define, uselongdouble=undef
    usemymalloc=n, bincompat5005=undef
  Compiler:
    cc='cc', ccflags ='-DHAS_FPSETMASK -DHAS_FLOATINGPOINT_H -fno-strict-aliasing -pipe -fstack-protector -I/usr/local/include',
    optimize='-O2 -pipe',
    cppflags='-DHAS_FPSETMASK -DHAS_FLOATINGPOINT_H -fno-strict-aliasing -pipe -fstack-protector -I/usr/local/include'
    ccversion='', gccversion='4.2.1 Compatible FreeBSD Clang 5.0.0 (tags/RELEASE_500/final 312559)', gccosandvers=''
    intsize=4, longsize=8, ptrsize=8, doublesize=8, byteorder=12345678
    d_longlong=define, longlongsize=8, d_longdbl=define, longdblsize=16
    ivtype='long', ivsize=8, nvtype='double', nvsize=8, Off_t='off_t', lseeksize=8
    alignbytes=8, prototype=define
  Linker and Libraries:
    ld='cc', ldflags ='-pthread -Wl,-E  -fstack-protector -L/usr/local/lib'
    libpth=/usr/lib /usr/local/lib
    libs=-lgdbm -lm -lcrypt -lutil -lc
    perllibs=-lm -lcrypt -lutil -lc
    libc=, so=so, useshrplib=false, libperl=libperl.a
    gnulibc_version=''
  Dynamic Linking:
    dlsrc=dl_dlopen.xs, dlext=so, d_dlsymun=undef, ccdlflags=' '
    cccdlflags='-DPIC -fPIC', lddlflags='-shared  -L/usr/local/lib -fstack-protector'


Characteristics of this binary (from libperl): 
  Compile-time options: HAS_TIMES PERLIO_LAYERS PERL_DONT_CREATE_GVSV
                        PERL_HASH_FUNC_ONE_AT_A_TIME_HARD PERL_MALLOC_WRAP
                        PERL_PRESERVE_IVUV PERL_SAWAMPERSAND USE_64_BIT_ALL
                        USE_64_BIT_INT USE_LARGE_FILES USE_LOCALE
                        USE_LOCALE_COLLATE USE_LOCALE_CTYPE
                        USE_LOCALE_NUMERIC USE_PERLIO USE_PERL_ATOF
  Built under freebsd
  Compiled at Oct 22 2017 18:26:44
  %ENV:
    PERL5LIB="/home/cpansand/.cpan/build/2017111112/HollyGame-0-52/blib/arch:/home/cpansand/.cpan/build/2017111112/HollyGame-0-52/blib/lib"
    PERL5OPT=""
    PERL5_CPANPLUS_IS_RUNNING="32075"
    PERL5_CPAN_IS_RUNNING="32075"
    PERL5_CPAN_IS_RUNNING_IN_RECURSION="32039,32075"
    PERL_BATCH="yes"
    PERL_CANARY_STABILITY_NOPROMPT="1"
    PERL_CPAN_REPORTER_CONFIG="/var/tmp/cpansmoker-1023/2017111112/cpanreporter_000_config.ini"
    PERL_EXTUTILS_AUTOINSTALL="--defaultdeps"
  @INC:
    /home/cpansand/.cpan/build/2017111112/HollyGame-0-52/blib/arch
    /home/cpansand/.cpan/build/2017111112/HollyGame-0-52/blib/lib
    /usr/perl5.18.4p/lib/site_perl/5.18.4/amd64-freebsd
    /usr/perl5.18.4p/lib/site_perl/5.18.4
    /usr/perl5.18.4p/lib/5.18.4/amd64-freebsd
    /usr/perl5.18.4p/lib/5.18.4
    .