Report for Attribute-Params-Validate-1.21

Back
From: metabase:user:e7f7dec2-b051-11df-bd1d-025b7965fceb
Subject: PASS Attribute-Params-Validate-1.21 v5.20.1 GNU/Linux
Date: 2016-03-15T11:40:48Z

This distribution has been tested as part of the CPAN Testers
project, supporting the Perl programming language.  See
http://wiki.cpantesters.org/ for more information or email
questions to cpan-testers-discuss@perl.org


--
Dear Dave Rolsky,

This is a computer-generated report for Attribute-Params-Validate-1.21
on perl 5.20.1, created by CPAN-Reporter-1.2011.

Thank you for uploading your work to CPAN.  Congratulations!
All tests were successful.

Sections of this report:

    * Tester comments
    * Program output
    * Prerequisites
    * Environment and other context

------------------------------
TESTER COMMENTS
------------------------------

Additional comments from tester:

none provided

------------------------------
PROGRAM OUTPUT
------------------------------

Output from '/usr/bin/make test':

PERL_DL_NONLAZY=1 "/home/andy/perl5/perlbrew/perls/perl-5.20.1/bin/perl" "-MExtUtils::Command::MM" "-MTest::Harness" "-e" "undef *Test::Harness::Switches; test_harness(0, 'blib/lib', 'blib/arch')" t/*.t
# 
# Versions for all modules listed in MYMETA.json (including optional ones):
# 
# === Configure Requires ===
# 
#     Module              Want Have
#     ------------------- ---- ----
#     ExtUtils::MakeMaker  any 7.04
# 
# === Build Requires ===
# 
#     Module              Want Have
#     ------------------- ---- ----
#     ExtUtils::MakeMaker  any 7.04
# 
# === Test Requires ===
# 
#     Module              Want     Have
#     ------------------- ---- --------
#     ExtUtils::MakeMaker  any     7.04
#     File::Spec           any     3.62
#     Test::Fatal          any    0.014
#     Test::More          0.96 1.001014
#     lib                  any     0.63
# 
# === Test Recommends ===
# 
#     Module         Want     Have
#     ---------- -------- --------
#     CPAN::Meta 2.120900 2.143240
# 
# === Runtime Requires ===
# 
#     Module              Want Have
#     ------------------- ---- ----
#     Attribute::Handlers 0.79 0.99
#     Exporter            5.60 5.72
#     Params::Validate    1.21 1.22
#     attributes           any 0.22
#     strict               any 1.08
#     warnings             any 1.23
# 
t/00-report-prereqs.t ...... ok
t/author-00-compile.t ...... skipped: these tests are for testing by the author
t/author-eol.t ............. skipped: these tests are for testing by the author
t/author-no-tabs.t ......... skipped: these tests are for testing by the author
t/author-pod-spell.t ....... skipped: these tests are for testing by the author
t/author-test-version.t .... skipped: these tests are for testing by the author
t/basic.t .................. ok
t/release-cpan-changes.t ... skipped: these tests are for release candidate testing
t/release-pod-coverage.t ... skipped: these tests are for release candidate testing
t/release-pod-linkcheck.t .. skipped: these tests are for release candidate testing
t/release-pod-no404s.t ..... skipped: these tests are for release candidate testing
t/release-pod-syntax.t ..... skipped: these tests are for release candidate testing
t/release-portability.t .... skipped: these tests are for release candidate testing
t/release-synopsis.t ....... skipped: these tests are for release candidate testing
t/release-tidyall.t ........ skipped: these tests are for release candidate testing
All tests successful.
Files=15, Tests=11,  1 wallclock secs ( 0.04 usr  0.01 sys +  0.27 cusr  0.06 csys =  0.38 CPU)
Result: PASS

------------------------------
PREREQUISITES
------------------------------

Prerequisite modules loaded:

requires:

    Module              Need Have    
    ------------------- ---- --------
    Attribute::Handlers 0.79 0.99    
    attributes          0    0.22    
    Exporter            5.60 5.72    
    Params::Validate    1.21 1.22    
    strict              0    1.08    
    warnings            0    1.23    

build_requires:

    Module              Need Have    
    ------------------- ---- --------
    ExtUtils::MakeMaker 0    7.04    
    File::Spec          0    3.62    
    lib                 0    0.63    
    Test::Fatal         0    0.014   
    Test::More          0.96 1.001014

configure_requires:

    Module              Need Have    
    ------------------- ---- --------
    ExtUtils::MakeMaker 0    7.04    


------------------------------
ENVIRONMENT AND OTHER CONTEXT
------------------------------

Environment variables:

    LANG = en_GB.UTF-8
    LANGUAGE = en_GB:en
    LC_CTYPE = en_GB.UTF-8
    PATH = /home/andy/bin:/home/andy/.sprouts/1.1/cache/flex4/4.6.0.23201/bin:/home/andy/perl5/perlbrew/bin:/home/andy/perl5/perlbrew/perls/perl-5.20.1/bin:/home/andy/Dropbox/bin:/opt/ffmpeg/bin:/home/andy/bin/Linux:/usr/local/sbin:/usr/local/bin:/home/andy/bin:/usr/bin:/bin:/usr/local/games:/usr/games:/usr/sbin:/sbin
    PERL5LIB = /opt/genome/g2/app/components/Lintilla-Adhocument/../Lintilla-Core/lib
    PERL5OPT = 
    PERL5_CPANPLUS_IS_RUNNING = 29246
    PERL5_CPAN_IS_RUNNING = 29246
    PERLBREW_BASHRC_VERSION = 0.60
    PERLBREW_HOME = /home/andy/.perlbrew
    PERLBREW_MANPATH = /home/andy/perl5/perlbrew/perls/perl-5.20.1/man
    PERLBREW_PATH = /home/andy/perl5/perlbrew/bin:/home/andy/perl5/perlbrew/perls/perl-5.20.1/bin
    PERLBREW_PERL = perl-5.20.1
    PERLBREW_ROOT = /home/andy/perl5/perlbrew
    PERLBREW_VERSION = 0.60
    SHELL = /bin/bash
    TERM = xterm-256color

Perl special variables (and OS-specific diagnostics, for MSWin32):

    $^X = /home/andy/perl5/perlbrew/perls/perl-5.20.1/bin/perl
    $UID/$EUID = 1000 / 1000
    $GID = 50 4 7 20 24 25 29 30 33 44 46 50 104 113 114 121 1000 1001 1002
    $EGID = 50 4 7 20 24 25 29 30 33 44 46 50 104 113 114 121 1000 1001 1002

Perl module toolchain versions installed:

    Module              Have    
    ------------------- --------
    CPAN                2.05    
    CPAN::Meta          2.143240
    Cwd                 3.62    
    ExtUtils::CBuilder  0.280220
    ExtUtils::Command   1.20    
    ExtUtils::Install   2.04    
    ExtUtils::MakeMaker 7.04    
    ExtUtils::Manifest  1.70    
    ExtUtils::ParseXS   3.24    
    File::Spec          3.62    
    JSON                2.90    
    JSON::PP            2.27300 
    Module::Build       0.4211  
    Module::Signature   0.73    
    Parse::CPAN::Meta   1.4414  
    Test::Harness       3.35    
    Test::More          1.001014
    YAML                1.15    
    YAML::Syck          1.29    
    version             0.9912  


--

Summary of my perl5 (revision 5 version 20 subversion 1) configuration:
   
  Platform:
    osname=linux, osvers=3.2.0-4-amd64, archname=x86_64-linux
    uname='linux emit 3.2.0-4-amd64 #1 smp debian 3.2.57-3+deb7u2 x86_64 gnulinux '
    config_args='-de -Dprefix=/home/andy/perl5/perlbrew/perls/perl-5.20.1 -Aeval:scriptdir=/home/andy/perl5/perlbrew/perls/perl-5.20.1/bin'
    hint=recommended, useposix=true, d_sigaction=define
    useithreads=undef, usemultiplicity=undef
    use64bitint=define, use64bitall=define, uselongdouble=undef
    usemymalloc=n, bincompat5005=undef
  Compiler:
    cc='cc', ccflags ='-fwrapv -fno-strict-aliasing -pipe -fstack-protector -I/usr/local/include -D_LARGEFILE_SOURCE -D_FILE_OFFSET_BITS=64',
    optimize='-O2',
    cppflags='-fwrapv -fno-strict-aliasing -pipe -fstack-protector -I/usr/local/include'
    ccversion='', gccversion='4.7.2', gccosandvers=''
    intsize=4, longsize=8, ptrsize=8, doublesize=8, byteorder=12345678
    d_longlong=define, longlongsize=8, d_longdbl=define, longdblsize=16
    ivtype='long', ivsize=8, nvtype='double', nvsize=8, Off_t='off_t', lseeksize=8
    alignbytes=8, prototype=define
  Linker and Libraries:
    ld='cc', ldflags =' -fstack-protector -L/usr/local/lib'
    libpth=/usr/local/lib /usr/lib/gcc/x86_64-linux-gnu/4.7/include-fixed /usr/include/x86_64-linux-gnu /usr/lib /lib/x86_64-linux-gnu /lib/../lib /usr/lib/x86_64-linux-gnu /usr/lib/../lib /lib
    libs=-lnsl -ldb -ldl -lm -lcrypt -lutil -lc
    perllibs=-lnsl -ldl -lm -lcrypt -lutil -lc
    libc=, so=so, useshrplib=false, libperl=libperl.a
    gnulibc_version='2.13'
  Dynamic Linking:
    dlsrc=dl_dlopen.xs, dlext=so, d_dlsymun=undef, ccdlflags='-Wl,-E'
    cccdlflags='-fPIC', lddlflags='-shared -O2 -L/usr/local/lib -fstack-protector'


Characteristics of this binary (from libperl): 
  Compile-time options: HAS_TIMES PERLIO_LAYERS PERL_DONT_CREATE_GVSV
                        PERL_HASH_FUNC_ONE_AT_A_TIME_HARD PERL_MALLOC_WRAP
                        PERL_NEW_COPY_ON_WRITE PERL_PRESERVE_IVUV
                        USE_64_BIT_ALL USE_64_BIT_INT USE_LARGE_FILES
                        USE_LOCALE USE_LOCALE_COLLATE USE_LOCALE_CTYPE
                        USE_LOCALE_NUMERIC USE_PERLIO USE_PERL_ATOF
  Built under linux
  Compiled at Sep 26 2014 11:03:47
  %ENV:
    PERL5LIB="/opt/genome/g2/app/components/Lintilla-Adhocument/../Lintilla-Core/lib"
    PERL5OPT=""
    PERL5_CPANPLUS_IS_RUNNING="29246"
    PERL5_CPAN_IS_RUNNING="29246"
    PERLBREW_BASHRC_VERSION="0.60"
    PERLBREW_HOME="/home/andy/.perlbrew"
    PERLBREW_MANPATH="/home/andy/perl5/perlbrew/perls/perl-5.20.1/man"
    PERLBREW_PATH="/home/andy/perl5/perlbrew/bin:/home/andy/perl5/perlbrew/perls/perl-5.20.1/bin"
    PERLBREW_PERL="perl-5.20.1"
    PERLBREW_ROOT="/home/andy/perl5/perlbrew"
    PERLBREW_VERSION="0.60"
  @INC:
    /opt/genome/g2/app/components/Lintilla-Adhocument/../Lintilla-Core/lib
    /home/andy/perl5/perlbrew/perls/perl-5.20.1/lib/site_perl/5.20.1/x86_64-linux
    /home/andy/perl5/perlbrew/perls/perl-5.20.1/lib/site_perl/5.20.1
    /home/andy/perl5/perlbrew/perls/perl-5.20.1/lib/5.20.1/x86_64-linux
    /home/andy/perl5/perlbrew/perls/perl-5.20.1/lib/5.20.1
    .